BEGIN:VCALENDAR
VERSION:2.0
PRODID:-//Dinas Kependudukan dan Pencatatan Sipil Kabupaten Sleman - ECPv6.4.0//NONSGML v1.0//EN
CALSCALE:GREGORIAN
METHOD:PUBLISH
X-WR-CALNAME:Dinas Kependudukan dan Pencatatan Sipil Kabupaten Sleman
X-ORIGINAL-URL:https://dukcapil-old.slemankab.go.id
X-WR-CALDESC:Events for Dinas Kependudukan dan Pencatatan Sipil Kabupaten Sleman
REFRESH-INTERVAL;VALUE=DURATION:PT1H
X-Robots-Tag:noindex
X-PUBLISHED-TTL:PT1H
BEGIN:VTIMEZONE
TZID:Asia/Jakarta
BEGIN:STANDARD
TZOFFSETFROM:+0700
TZOFFSETTO:+0700
TZNAME:WIB
DTSTART:20220101T000000
END:STANDARD
END:VTIMEZONE
BEGIN:VEVENT
DTSTART;VALUE=DATE:20220128
DTEND;VALUE=DATE:20220129
DTSTAMP:20260424T091121
CREATED:20220127T074921Z
LAST-MODIFIED:20220127T074921Z
UID:4327-1643328000-1643414399@dukcapil-old.slemankab.go.id
SUMMARY:Vaksinasi Covid-19 Dosis Lanjutan (Booster) bagi pegawai (PHL/PJLP)
DESCRIPTION:
URL:https://dukcapil-old.slemankab.go.id/event/vaksinasi-covid-19-dosis-lanjutan-booster-bagi-pegawai-phl-pjlp
LOCATION:Sleman City Hall
END:VEVENT
BEGIN:VEVENT
DTSTART;VALUE=DATE:20220128
DTEND;VALUE=DATE:20220129
DTSTAMP:20260424T091121
CREATED:20220127T075206Z
LAST-MODIFIED:20220127T075206Z
UID:4332-1643328000-1643414399@dukcapil-old.slemankab.go.id
SUMMARY:Pengajian Rutin Dharma Wanita Persatuan Kab Sleman
DESCRIPTION:
URL:https://dukcapil-old.slemankab.go.id/event/pengajian-rutin-dharma-wanita-persatuan-kab-sleman
LOCATION:Aula Kalurahan Tridadi
END:VEVENT
BEGIN:VEVENT
DTSTART;VALUE=DATE:20220128
DTEND;VALUE=DATE:20220129
DTSTAMP:20260424T091121
CREATED:20220127T075359Z
LAST-MODIFIED:20220127T075359Z
UID:4338-1643328000-1643414399@dukcapil-old.slemankab.go.id
SUMMARY:Narasumber Sosialisasi Kebijakan Pengurusan Dokumen Kependudukan
DESCRIPTION:
URL:https://dukcapil-old.slemankab.go.id/event/narasumber-sosialisasi-kebijakan-pengurusan-dokumen-kependudukan
LOCATION:Kapanewon Depok
END:VEVENT
BEGIN:VEVENT
DTSTART;VALUE=DATE:20220128
DTEND;VALUE=DATE:20220129
DTSTAMP:20260424T091121
CREATED:20220127T075528Z
LAST-MODIFIED:20220127T075547Z
UID:4343-1643328000-1643414399@dukcapil-old.slemankab.go.id
SUMMARY:Penutupan/Pembukaan Bulan Dana PMI Kab Sleman th 2021/2022
DESCRIPTION:
URL:https://dukcapil-old.slemankab.go.id/event/penutupan-pembukaan-bulan-dana-pmi-kab-sleman-th-2021-2022
LOCATION:Kantor Setda Sleman
END:VEVENT
BEGIN:VEVENT
DTSTART;VALUE=DATE:20220128
DTEND;VALUE=DATE:20220129
DTSTAMP:20260424T091121
CREATED:20220127T075728Z
LAST-MODIFIED:20220127T075728Z
UID:4347-1643328000-1643414399@dukcapil-old.slemankab.go.id
SUMMARY:Mengikuti Munas IX KORPRI Th 2022 secara daring melalui zoom meeting
DESCRIPTION:
URL:https://dukcapil-old.slemankab.go.id/event/mengikuti-munas-ix-korpri-th-2022-secara-daring-melalui-zoom-meeting
LOCATION:Zoom Meeting
END:VEVENT
BEGIN:VEVENT
DTSTART;VALUE=DATE:20220128
DTEND;VALUE=DATE:20220129
DTSTAMP:20260424T091121
CREATED:20220127T075834Z
LAST-MODIFIED:20220127T075849Z
UID:4350-1643328000-1643414399@dukcapil-old.slemankab.go.id
SUMMARY:Pembinaan Adminduk (Narasumber)
DESCRIPTION:
URL:https://dukcapil-old.slemankab.go.id/event/pembinaan-adminduk-narasumber
END:VEVENT
END:VCALENDAR