BEGIN:VCALENDAR
VERSION:2.0
PRODID:-//Dinas Kependudukan dan Pencatatan Sipil Kabupaten Sleman - ECPv6.4.0//NONSGML v1.0//EN
CALSCALE:GREGORIAN
METHOD:PUBLISH
X-WR-CALNAME:Dinas Kependudukan dan Pencatatan Sipil Kabupaten Sleman
X-ORIGINAL-URL:https://dukcapil-old.slemankab.go.id
X-WR-CALDESC:Events for Dinas Kependudukan dan Pencatatan Sipil Kabupaten Sleman
REFRESH-INTERVAL;VALUE=DURATION:PT1H
X-Robots-Tag:noindex
X-PUBLISHED-TTL:PT1H
BEGIN:VTIMEZONE
TZID:Asia/Jakarta
BEGIN:STANDARD
TZOFFSETFROM:+0700
TZOFFSETTO:+0700
TZNAME:WIB
DTSTART:20220101T000000
END:STANDARD
END:VTIMEZONE
BEGIN:VEVENT
DTSTART;VALUE=DATE:20220202
DTEND;VALUE=DATE:20220203
DTSTAMP:20260424T055302
CREATED:20220131T082521Z
LAST-MODIFIED:20220131T082521Z
UID:4379-1643760000-1643846399@dukcapil-old.slemankab.go.id
SUMMARY:Rakor Persiapan BLT DBHCHT untuk Buruh Tani Tembakau dan Buruh Pabrik Rokok TA 2022
DESCRIPTION:
URL:https://dukcapil-old.slemankab.go.id/event/rakor-persiapan-blt-dbhcht-untuk-buruh-tani-tembakau-dan-buruh-pabrik-rokok-ta-2022
LOCATION:R R PRAJA V
END:VEVENT
END:VCALENDAR