BEGIN:VCALENDAR
VERSION:2.0
PRODID:-//Dinas Kependudukan dan Pencatatan Sipil Kabupaten Sleman - ECPv6.4.0//NONSGML v1.0//EN
CALSCALE:GREGORIAN
METHOD:PUBLISH
X-WR-CALNAME:Dinas Kependudukan dan Pencatatan Sipil Kabupaten Sleman
X-ORIGINAL-URL:https://dukcapil-old.slemankab.go.id
X-WR-CALDESC:Events for Dinas Kependudukan dan Pencatatan Sipil Kabupaten Sleman
REFRESH-INTERVAL;VALUE=DURATION:PT1H
X-Robots-Tag:noindex
X-PUBLISHED-TTL:PT1H
BEGIN:VTIMEZONE
TZID:Asia/Jakarta
BEGIN:STANDARD
TZOFFSETFROM:+0700
TZOFFSETTO:+0700
TZNAME:WIB
DTSTART:20220101T000000
END:STANDARD
END:VTIMEZONE
BEGIN:VEVENT
DTSTART;VALUE=DATE:20220215
DTEND;VALUE=DATE:20220216
DTSTAMP:20260424T020841
CREATED:20220214T081340Z
LAST-MODIFIED:20220214T081340Z
UID:4470-1644883200-1644969599@dukcapil-old.slemankab.go.id
SUMMARY:Rapat Koordinasi Penyusunan Kode Data Administrasi Pemkab Sleman
DESCRIPTION:
URL:https://dukcapil-old.slemankab.go.id/event/rapat-koordinasi-penyusunan-kode-data-administrasi-pemkab-sleman
END:VEVENT
BEGIN:VEVENT
DTSTART;VALUE=DATE:20220215
DTEND;VALUE=DATE:20220216
DTSTAMP:20260424T020841
CREATED:20220214T081626Z
LAST-MODIFIED:20220214T081626Z
UID:4472-1644883200-1644969599@dukcapil-old.slemankab.go.id
SUMMARY:Pelaksanaan Kelas Konsultasi PB I JK
DESCRIPTION:
URL:https://dukcapil-old.slemankab.go.id/event/pelaksanaan-kelas-konsultasi-pb-i-jk
END:VEVENT
BEGIN:VEVENT
DTSTART;VALUE=DATE:20220215
DTEND;VALUE=DATE:20220216
DTSTAMP:20260424T020841
CREATED:20220214T081650Z
LAST-MODIFIED:20220214T081650Z
UID:4475-1644883200-1644969599@dukcapil-old.slemankab.go.id
SUMMARY:Rapat Penyampaian Kerangka Acuan Kerja Kajian Kebijakan Kemiskinan di DIY
DESCRIPTION:
URL:https://dukcapil-old.slemankab.go.id/event/rapat-penyampaian-kerangka-acuan-kerja-kajian-kebijakan-kemiskinan-di-diy
END:VEVENT
BEGIN:VEVENT
DTSTART;VALUE=DATE:20220215
DTEND;VALUE=DATE:20220216
DTSTAMP:20260424T020841
CREATED:20220214T081717Z
LAST-MODIFIED:20220214T081717Z
UID:4477-1644883200-1644969599@dukcapil-old.slemankab.go.id
SUMMARY:Rakor Kepegawaian
DESCRIPTION:
URL:https://dukcapil-old.slemankab.go.id/event/rakor-kepegawaian
LOCATION:Zoom Meeting
END:VEVENT
BEGIN:VEVENT
DTSTART;VALUE=DATE:20220215
DTEND;VALUE=DATE:20220216
DTSTAMP:20260424T020841
CREATED:20220214T081738Z
LAST-MODIFIED:20220214T081738Z
UID:4480-1644883200-1644969599@dukcapil-old.slemankab.go.id
SUMMARY:Koordinasi Kegiatan Peningkatan Kapasitas Aparatur Inovasi Pelayanan Publik
DESCRIPTION:
URL:https://dukcapil-old.slemankab.go.id/event/koordinasi-kegiatan-peningkatan-kapasitas-aparatur-inovasi-pelayanan-publik
END:VEVENT
BEGIN:VEVENT
DTSTART;VALUE=DATE:20220215
DTEND;VALUE=DATE:20220216
DTSTAMP:20260424T020841
CREATED:20220214T081800Z
LAST-MODIFIED:20220214T081800Z
UID:4482-1644883200-1644969599@dukcapil-old.slemankab.go.id
SUMMARY:Rapat Koordinasi Penyusunan Perjanjian Kerja Sama Pelayanan Adminduk
DESCRIPTION:
URL:https://dukcapil-old.slemankab.go.id/event/rapat-koordinasi-penyusunan-perjanjian-kerja-sama-pelayanan-adminduk
END:VEVENT
END:VCALENDAR