BEGIN:VCALENDAR
VERSION:2.0
PRODID:-//Dinas Kependudukan dan Pencatatan Sipil Kabupaten Sleman - ECPv6.4.0//NONSGML v1.0//EN
CALSCALE:GREGORIAN
METHOD:PUBLISH
X-WR-CALNAME:Dinas Kependudukan dan Pencatatan Sipil Kabupaten Sleman
X-ORIGINAL-URL:https://dukcapil-old.slemankab.go.id
X-WR-CALDESC:Events for Dinas Kependudukan dan Pencatatan Sipil Kabupaten Sleman
REFRESH-INTERVAL;VALUE=DURATION:PT1H
X-Robots-Tag:noindex
X-PUBLISHED-TTL:PT1H
BEGIN:VTIMEZONE
TZID:Asia/Jakarta
BEGIN:STANDARD
TZOFFSETFROM:+0700
TZOFFSETTO:+0700
TZNAME:WIB
DTSTART:20220101T000000
END:STANDARD
END:VTIMEZONE
BEGIN:VEVENT
DTSTART;VALUE=DATE:20220218
DTEND;VALUE=DATE:20220219
DTSTAMP:20260424T043706
CREATED:20220218T071619Z
LAST-MODIFIED:20220218T071619Z
UID:4516-1645142400-1645228799@dukcapil-old.slemankab.go.id
SUMMARY:Penyusunan Rancangan Kerja Pemerintah Daerah (RKPD) Tahun 2023
DESCRIPTION:
URL:https://dukcapil-old.slemankab.go.id/event/penyusunan-rancangan-kerja-pemerintah-daerah-rkpd-tahun-2023
END:VEVENT
BEGIN:VEVENT
DTSTART;VALUE=DATE:20220218
DTEND;VALUE=DATE:20220219
DTSTAMP:20260424T043706
CREATED:20220218T071721Z
LAST-MODIFIED:20220218T071721Z
UID:4519-1645142400-1645228799@dukcapil-old.slemankab.go.id
SUMMARY:Rakernas Peningkatan Kualitas Layanan Adminduk “Dukcapil Belajar Seri 7”
DESCRIPTION:
URL:https://dukcapil-old.slemankab.go.id/event/rakernas-peningkatan-kualitas-layanan-adminduk-dukcapil-belajar-seri-7
END:VEVENT
BEGIN:VEVENT
DTSTART;VALUE=DATE:20220218
DTEND;VALUE=DATE:20220219
DTSTAMP:20260424T043706
CREATED:20220218T071743Z
LAST-MODIFIED:20220218T071752Z
UID:4521-1645142400-1645228799@dukcapil-old.slemankab.go.id
SUMMARY:Narasumber Pembinaan Adminduk
DESCRIPTION:
URL:https://dukcapil-old.slemankab.go.id/event/narasumber-pembinaan-adminduk
END:VEVENT
BEGIN:VEVENT
DTSTART;VALUE=DATE:20220218
DTEND;VALUE=DATE:20220219
DTSTAMP:20260424T043706
CREATED:20220218T071831Z
LAST-MODIFIED:20220218T071831Z
UID:4523-1645142400-1645228799@dukcapil-old.slemankab.go.id
SUMMARY:Koordinasi Data SIMDAGENAK
DESCRIPTION:
URL:https://dukcapil-old.slemankab.go.id/event/koordinasi-data-simdagenak
END:VEVENT
BEGIN:VEVENT
DTSTART;VALUE=DATE:20220218
DTEND;VALUE=DATE:20220219
DTSTAMP:20260424T043706
CREATED:20220218T071905Z
LAST-MODIFIED:20220218T071905Z
UID:4525-1645142400-1645228799@dukcapil-old.slemankab.go.id
SUMMARY:Rapat Persiapan Usulan Kegiatan Sumber Dana APBN Th 2023
DESCRIPTION:
URL:https://dukcapil-old.slemankab.go.id/event/rapat-persiapan-usulan-kegiatan-sumber-dana-apbn-th-2023
END:VEVENT
END:VCALENDAR