BEGIN:VCALENDAR
VERSION:2.0
PRODID:-//Dinas Kependudukan dan Pencatatan Sipil Kabupaten Sleman - ECPv6.4.0//NONSGML v1.0//EN
CALSCALE:GREGORIAN
METHOD:PUBLISH
X-ORIGINAL-URL:https://dukcapil-old.slemankab.go.id
X-WR-CALDESC:Events for Dinas Kependudukan dan Pencatatan Sipil Kabupaten Sleman
REFRESH-INTERVAL;VALUE=DURATION:PT1H
X-Robots-Tag:noindex
X-PUBLISHED-TTL:PT1H
BEGIN:VTIMEZONE
TZID:Asia/Jakarta
BEGIN:STANDARD
TZOFFSETFROM:+0700
TZOFFSETTO:+0700
TZNAME:WIB
DTSTART:20220101T000000
END:STANDARD
END:VTIMEZONE
BEGIN:VEVENT
DTSTART;VALUE=DATE:20220224
DTEND;VALUE=DATE:20220225
DTSTAMP:20260424T043702
CREATED:20220223T080810Z
LAST-MODIFIED:20220223T080810Z
UID:4555-1645660800-1645747199@dukcapil-old.slemankab.go.id
SUMMARY:RAT Tutup Buku Tahun 2022 dan Pemilihan Pengurus Koperasi Karya Mukti Tama
DESCRIPTION:
URL:https://dukcapil-old.slemankab.go.id/event/rat-tutup-buku-tahun-2022-dan-pemilihan-pengurus-koperasi-karya-mukti-tama
END:VEVENT
BEGIN:VEVENT
DTSTART;VALUE=DATE:20220224
DTEND;VALUE=DATE:20220225
DTSTAMP:20260424T043702
CREATED:20220223T080943Z
LAST-MODIFIED:20220223T080943Z
UID:4557-1645660800-1645747199@dukcapil-old.slemankab.go.id
SUMMARY:Kunjungan Kerja ke Dinas Dukcapil Kota Surabaya dari Kapanewon Cangkringan 24 Feb - 26 Feb 2022
DESCRIPTION:
URL:https://dukcapil-old.slemankab.go.id/event/kunjungan-kerja-ke-dinas-dukcapil-kota-surabaya-dari-kapanewon-cangkringan-24-feb-26-feb-2022
END:VEVENT
BEGIN:VEVENT
DTSTART;VALUE=DATE:20220224
DTEND;VALUE=DATE:20220225
DTSTAMP:20260424T043702
CREATED:20220223T081015Z
LAST-MODIFIED:20220223T081015Z
UID:4559-1645660800-1645747199@dukcapil-old.slemankab.go.id
SUMMARY:Sosialisasi Kebijakan Adminduk
DESCRIPTION:
URL:https://dukcapil-old.slemankab.go.id/event/sosialisasi-kebijakan-adminduk
END:VEVENT
BEGIN:VEVENT
DTSTART;VALUE=DATE:20220224
DTEND;VALUE=DATE:20220225
DTSTAMP:20260424T043702
CREATED:20220223T081038Z
LAST-MODIFIED:20220223T081038Z
UID:4561-1645660800-1645747199@dukcapil-old.slemankab.go.id
SUMMARY:Narasumber Sosialisasi Kebijakan Adminduk
DESCRIPTION:
URL:https://dukcapil-old.slemankab.go.id/event/narasumber-sosialisasi-kebijakan-adminduk
END:VEVENT
BEGIN:VEVENT
DTSTART;VALUE=DATE:20220224
DTEND;VALUE=DATE:20220225
DTSTAMP:20260424T043702
CREATED:20220223T081103Z
LAST-MODIFIED:20220223T081103Z
UID:4563-1645660800-1645747199@dukcapil-old.slemankab.go.id
SUMMARY:Raker Penyusunan Laporan Rencana Aksi Daerah (RAD) Penanganan Konflik Sosial Tahun 2022
DESCRIPTION:
URL:https://dukcapil-old.slemankab.go.id/event/raker-penyusunan-laporan-rencana-aksi-daerah-rad-penanganan-konflik-sosial-tahun-2022
END:VEVENT
BEGIN:VEVENT
DTSTART;VALUE=DATE:20220224
DTEND;VALUE=DATE:20220225
DTSTAMP:20260424T043702
CREATED:20220223T081129Z
LAST-MODIFIED:20220223T081129Z
UID:4565-1645660800-1645747199@dukcapil-old.slemankab.go.id
SUMMARY:Persiapan Pelaksanaan Surveri Kepuasan Masyarakat Tahun 2022
DESCRIPTION:
URL:https://dukcapil-old.slemankab.go.id/event/persiapan-pelaksanaan-surveri-kepuasan-masyarakat-tahun-2022
END:VEVENT
BEGIN:VEVENT
DTSTART;VALUE=DATE:20220224
DTEND;VALUE=DATE:20220225
DTSTAMP:20260424T043702
CREATED:20220223T081214Z
LAST-MODIFIED:20220223T081214Z
UID:4567-1645660800-1645747199@dukcapil-old.slemankab.go.id
SUMMARY:Pengajian Malam Jumat Bergema Th 2022
DESCRIPTION:
URL:https://dukcapil-old.slemankab.go.id/event/pengajian-malam-jumat-bergema-th-2022
END:VEVENT
END:VCALENDAR