BEGIN:VCALENDAR
VERSION:2.0
PRODID:-//Dinas Kependudukan dan Pencatatan Sipil Kabupaten Sleman - ECPv6.4.0//NONSGML v1.0//EN
CALSCALE:GREGORIAN
METHOD:PUBLISH
X-ORIGINAL-URL:https://dukcapil-old.slemankab.go.id
X-WR-CALDESC:Events for Dinas Kependudukan dan Pencatatan Sipil Kabupaten Sleman
REFRESH-INTERVAL;VALUE=DURATION:PT1H
X-Robots-Tag:noindex
X-PUBLISHED-TTL:PT1H
BEGIN:VTIMEZONE
TZID:Asia/Jakarta
BEGIN:STANDARD
TZOFFSETFROM:+0700
TZOFFSETTO:+0700
TZNAME:WIB
DTSTART:20220101T000000
END:STANDARD
END:VTIMEZONE
BEGIN:VEVENT
DTSTART;VALUE=DATE:20220311
DTEND;VALUE=DATE:20220312
DTSTAMP:20260424T004705
CREATED:20220310T063720Z
LAST-MODIFIED:20220310T063720Z
UID:4659-1646956800-1647043199@dukcapil-old.slemankab.go.id
SUMMARY:Bimtek Penggunaan Software Aplikasi Pendukung Proses Pengadaan dan Jasa (SiDia)
DESCRIPTION:
URL:https://dukcapil-old.slemankab.go.id/event/bimtek-penggunaan-software-aplikasi-pendukung-proses-pengadaan-dan-jasa-sidia
END:VEVENT
BEGIN:VEVENT
DTSTART;VALUE=DATE:20220311
DTEND;VALUE=DATE:20220312
DTSTAMP:20260424T004705
CREATED:20220310T063828Z
LAST-MODIFIED:20220310T063828Z
UID:4661-1646956800-1647043199@dukcapil-old.slemankab.go.id
SUMMARY:Sosialisasi Pembangunan ZI Menuju WBK/WBMM
DESCRIPTION:
URL:https://dukcapil-old.slemankab.go.id/event/sosialisasi-pembangunan-zi-menuju-wbk-wbmm
END:VEVENT
BEGIN:VEVENT
DTSTART;VALUE=DATE:20220311
DTEND;VALUE=DATE:20220312
DTSTAMP:20260424T004705
CREATED:20220310T071609Z
LAST-MODIFIED:20220310T071609Z
UID:4664-1646956800-1647043199@dukcapil-old.slemankab.go.id
SUMMARY:Koordinasi Terkait Penyelenggaraan Dukcapil
DESCRIPTION:
URL:https://dukcapil-old.slemankab.go.id/event/koordinasi-terkait-penyelenggaraan-dukcapil
END:VEVENT
END:VCALENDAR