BEGIN:VCALENDAR
VERSION:2.0
PRODID:-//Dinas Kependudukan dan Pencatatan Sipil Kabupaten Sleman - ECPv6.4.0//NONSGML v1.0//EN
CALSCALE:GREGORIAN
METHOD:PUBLISH
X-WR-CALNAME:Dinas Kependudukan dan Pencatatan Sipil Kabupaten Sleman
X-ORIGINAL-URL:https://dukcapil-old.slemankab.go.id
X-WR-CALDESC:Events for Dinas Kependudukan dan Pencatatan Sipil Kabupaten Sleman
REFRESH-INTERVAL;VALUE=DURATION:PT1H
X-Robots-Tag:noindex
X-PUBLISHED-TTL:PT1H
BEGIN:VTIMEZONE
TZID:Asia/Jakarta
BEGIN:STANDARD
TZOFFSETFROM:+0700
TZOFFSETTO:+0700
TZNAME:WIB
DTSTART:20220101T000000
END:STANDARD
END:VTIMEZONE
BEGIN:VEVENT
DTSTART;VALUE=DATE:20220317
DTEND;VALUE=DATE:20220318
DTSTAMP:20260424T020843
CREATED:20220317T023758Z
LAST-MODIFIED:20220317T023758Z
UID:4729-1647475200-1647561599@dukcapil-old.slemankab.go.id
SUMMARY:Bimtek Aplikasi E-Procurement
DESCRIPTION:
URL:https://dukcapil-old.slemankab.go.id/event/bimtek-aplikasi-e-procurement
END:VEVENT
BEGIN:VEVENT
DTSTART;VALUE=DATE:20220317
DTEND;VALUE=DATE:20220318
DTSTAMP:20260424T020843
CREATED:20220317T023827Z
LAST-MODIFIED:20220317T023827Z
UID:4731-1647475200-1647561599@dukcapil-old.slemankab.go.id
SUMMARY:Bimtek Identifikasi Kegiatan Statistik dalam Program Kegiatan di Perangkat Daerah
DESCRIPTION:
URL:https://dukcapil-old.slemankab.go.id/event/bimtek-identifikasi-kegiatan-statistik-dalam-program-kegiatan-di-perangkat-daerah
END:VEVENT
BEGIN:VEVENT
DTSTART;VALUE=DATE:20220317
DTEND;VALUE=DATE:20220318
DTSTAMP:20260424T020843
CREATED:20220317T023851Z
LAST-MODIFIED:20220317T023851Z
UID:4733-1647475200-1647561599@dukcapil-old.slemankab.go.id
SUMMARY:Narasumber Pembinaan Adminduk
DESCRIPTION:
URL:https://dukcapil-old.slemankab.go.id/event/narasumber-pembinaan-adminduk-4
END:VEVENT
BEGIN:VEVENT
DTSTART;VALUE=DATE:20220317
DTEND;VALUE=DATE:20220318
DTSTAMP:20260424T020843
CREATED:20220317T023913Z
LAST-MODIFIED:20220317T023913Z
UID:4735-1647475200-1647561599@dukcapil-old.slemankab.go.id
SUMMARY:Relaas Panggilan
DESCRIPTION:
URL:https://dukcapil-old.slemankab.go.id/event/relaas-panggilan
END:VEVENT
BEGIN:VEVENT
DTSTART;VALUE=DATE:20220317
DTEND;VALUE=DATE:20220318
DTSTAMP:20260424T020843
CREATED:20220317T023934Z
LAST-MODIFIED:20220317T023934Z
UID:4737-1647475200-1647561599@dukcapil-old.slemankab.go.id
SUMMARY:Rapat Koordinasi Persiapan Keikutsertaan dalam Kompetisi Inovasi Pelayanaan Publik (KIPP) Tahun 2022
DESCRIPTION:
URL:https://dukcapil-old.slemankab.go.id/event/rapat-koordinasi-persiapan-keikutsertaan-dalam-kompetisi-inovasi-pelayanaan-publik-kipp-tahun-2022
END:VEVENT
BEGIN:VEVENT
DTSTART;VALUE=DATE:20220317
DTEND;VALUE=DATE:20220318
DTSTAMP:20260424T020843
CREATED:20220317T023953Z
LAST-MODIFIED:20220317T023953Z
UID:4739-1647475200-1647561599@dukcapil-old.slemankab.go.id
SUMMARY:Rapat Koordinas Peningkatan Kapasitas Mitra Kerja Pengendaliaan Penduduk
DESCRIPTION:
URL:https://dukcapil-old.slemankab.go.id/event/rapat-koordinas-peningkatan-kapasitas-mitra-kerja-pengendaliaan-penduduk
END:VEVENT
BEGIN:VEVENT
DTSTART;VALUE=DATE:20220317
DTEND;VALUE=DATE:20220318
DTSTAMP:20260424T020843
CREATED:20220317T024015Z
LAST-MODIFIED:20220317T024015Z
UID:4741-1647475200-1647561599@dukcapil-old.slemankab.go.id
SUMMARY:Kegiatan Sosialisasi Petunjuk Teknis Pengisian Perubahan Elemen Data
DESCRIPTION:
URL:https://dukcapil-old.slemankab.go.id/event/kegiatan-sosialisasi-petunjuk-teknis-pengisian-perubahan-elemen-data
END:VEVENT
BEGIN:VEVENT
DTSTART;VALUE=DATE:20220317
DTEND;VALUE=DATE:20220318
DTSTAMP:20260424T020843
CREATED:20220317T024032Z
LAST-MODIFIED:20220317T024032Z
UID:4743-1647475200-1647561599@dukcapil-old.slemankab.go.id
SUMMARY:Pembinaan Adminduk
DESCRIPTION:
URL:https://dukcapil-old.slemankab.go.id/event/pembinaan-adminduk
END:VEVENT
BEGIN:VEVENT
DTSTART;VALUE=DATE:20220317
DTEND;VALUE=DATE:20220318
DTSTAMP:20260424T020843
CREATED:20220317T024058Z
LAST-MODIFIED:20220317T024058Z
UID:4745-1647475200-1647561599@dukcapil-old.slemankab.go.id
SUMMARY:Rekonsiliasi Peserta PBPU BP Pemda Triwulan 1 Tahun 2022
DESCRIPTION:
URL:https://dukcapil-old.slemankab.go.id/event/rekonsiliasi-peserta-pbpu-bp-pemda-triwulan-1-tahun-2022
END:VEVENT
END:VCALENDAR