BEGIN:VCALENDAR
VERSION:2.0
PRODID:-//Dinas Kependudukan dan Pencatatan Sipil Kabupaten Sleman - ECPv6.4.0//NONSGML v1.0//EN
CALSCALE:GREGORIAN
METHOD:PUBLISH
X-ORIGINAL-URL:https://dukcapil-old.slemankab.go.id
X-WR-CALDESC:Events for Dinas Kependudukan dan Pencatatan Sipil Kabupaten Sleman
REFRESH-INTERVAL;VALUE=DURATION:PT1H
X-Robots-Tag:noindex
X-PUBLISHED-TTL:PT1H
BEGIN:VTIMEZONE
TZID:Asia/Jakarta
BEGIN:STANDARD
TZOFFSETFROM:+0700
TZOFFSETTO:+0700
TZNAME:WIB
DTSTART:20220101T000000
END:STANDARD
END:VTIMEZONE
BEGIN:VEVENT
DTSTART;VALUE=DATE:20220318
DTEND;VALUE=DATE:20220319
DTSTAMP:20260424T004706
CREATED:20220318T011823Z
LAST-MODIFIED:20220318T011823Z
UID:4748-1647561600-1647647999@dukcapil-old.slemankab.go.id
SUMMARY:Rakernas Peningkatan Layanan Adminduk
DESCRIPTION:
URL:https://dukcapil-old.slemankab.go.id/event/rakernas-peningkatan-layanan-adminduk
END:VEVENT
BEGIN:VEVENT
DTSTART;VALUE=DATE:20220318
DTEND;VALUE=DATE:20220319
DTSTAMP:20260424T004706
CREATED:20220318T012118Z
LAST-MODIFIED:20220318T012118Z
UID:4750-1647561600-1647647999@dukcapil-old.slemankab.go.id
SUMMARY:Pertemuan Rutin Dharma Wanita Persatuan
DESCRIPTION:
URL:https://dukcapil-old.slemankab.go.id/event/pertemuan-rutin-dharma-wanita-persatuan
END:VEVENT
BEGIN:VEVENT
DTSTART;VALUE=DATE:20220318
DTEND;VALUE=DATE:20220319
DTSTAMP:20260424T004706
CREATED:20220318T012228Z
LAST-MODIFIED:20220318T012228Z
UID:4752-1647561600-1647647999@dukcapil-old.slemankab.go.id
SUMMARY:Koordinasi Pelaporan Panutan Pembayaran PBB-P2 Tahun 2022 Bagi ASN dan Pejabat Di Lingkungan Pemerintah Kab Sleman
DESCRIPTION:
URL:https://dukcapil-old.slemankab.go.id/event/koordinasi-pelaporan-panutan-pembayaran-pbb-p2-tahun-2022-bagi-asn-dan-pejabat-di-lingkungan-pemerintah-kab-sleman
END:VEVENT
BEGIN:VEVENT
DTSTART;VALUE=DATE:20220318
DTEND;VALUE=DATE:20220319
DTSTAMP:20260424T004706
CREATED:20220318T012430Z
LAST-MODIFIED:20220318T012430Z
UID:4754-1647561600-1647647999@dukcapil-old.slemankab.go.id
SUMMARY:Workshop Penerapan SIAK Terpusat Dan Problematikanya dg Pembuka Acara Ibu Bupati Sleman
DESCRIPTION:
URL:https://dukcapil-old.slemankab.go.id/event/workshop-penerapan-siak-terpusat-dan-problematikanya-dg-pembuka-acara-ibu-bupati-sleman
END:VEVENT
END:VCALENDAR