BEGIN:VCALENDAR
VERSION:2.0
PRODID:-//Dinas Kependudukan dan Pencatatan Sipil Kabupaten Sleman - ECPv6.4.0//NONSGML v1.0//EN
CALSCALE:GREGORIAN
METHOD:PUBLISH
X-WR-CALNAME:Dinas Kependudukan dan Pencatatan Sipil Kabupaten Sleman
X-ORIGINAL-URL:https://dukcapil-old.slemankab.go.id
X-WR-CALDESC:Events for Dinas Kependudukan dan Pencatatan Sipil Kabupaten Sleman
REFRESH-INTERVAL;VALUE=DURATION:PT1H
X-Robots-Tag:noindex
X-PUBLISHED-TTL:PT1H
BEGIN:VTIMEZONE
TZID:Asia/Jakarta
BEGIN:STANDARD
TZOFFSETFROM:+0700
TZOFFSETTO:+0700
TZNAME:WIB
DTSTART:20220101T000000
END:STANDARD
END:VTIMEZONE
BEGIN:VEVENT
DTSTART;VALUE=DATE:20220323
DTEND;VALUE=DATE:20220324
DTSTAMP:20260424T020900
CREATED:20220323T023500Z
LAST-MODIFIED:20220323T023500Z
UID:4797-1647993600-1648079999@dukcapil-old.slemankab.go.id
SUMMARY:1.Bhakti Sosial “Jaksa Peduli Lingkungan” Press Tour “Pemulihan Sektor Pariwisata Pasca Pandemi”
DESCRIPTION:
URL:https://dukcapil-old.slemankab.go.id/event/1-bhakti-sosial-jaksa-peduli-lingkungan-press-tour-pemulihan-sektor-pariwisata-pasca-pandemi
END:VEVENT
BEGIN:VEVENT
DTSTART;VALUE=DATE:20220323
DTEND;VALUE=DATE:20220324
DTSTAMP:20260424T020900
CREATED:20220323T023530Z
LAST-MODIFIED:20220323T023530Z
UID:4799-1647993600-1648079999@dukcapil-old.slemankab.go.id
SUMMARY:Sosialisasi Kebijakan Adminduk Pelayanan KTP-EL\, KIA\, AKTA\, KK
DESCRIPTION:
URL:https://dukcapil-old.slemankab.go.id/event/sosialisasi-kebijakan-adminduk-pelayanan-ktp-el-kia-akta-kk
END:VEVENT
BEGIN:VEVENT
DTSTART;VALUE=DATE:20220323
DTEND;VALUE=DATE:20220324
DTSTAMP:20260424T020900
CREATED:20220323T023558Z
LAST-MODIFIED:20220323T023558Z
UID:4801-1647993600-1648079999@dukcapil-old.slemankab.go.id
SUMMARY:Kunjungan Kerja dari Dinas Dukcapil Kab.Ogan Komering Ulu Sumatera Selatan
DESCRIPTION:
URL:https://dukcapil-old.slemankab.go.id/event/kunjungan-kerja-dari-dinas-dukcapil-kab-ogan-komering-ulu-sumatera-selatan
END:VEVENT
BEGIN:VEVENT
DTSTART;VALUE=DATE:20220323
DTEND;VALUE=DATE:20220324
DTSTAMP:20260424T020900
CREATED:20220323T023620Z
LAST-MODIFIED:20220323T023620Z
UID:4803-1647993600-1648079999@dukcapil-old.slemankab.go.id
SUMMARY:1. Tarif PPN Berdasarkan UU No.7 Tahun 2021 Tentang HPP. 2. Sosialisasi Aplikasi E- Bupot dan SPT Masa Unfikasi Instansi Pemerintah
DESCRIPTION:
URL:https://dukcapil-old.slemankab.go.id/event/1-tarif-ppn-berdasarkan-uu-no-7-tahun-2021-tentang-hpp-2-sosialisasi-aplikasi-e-bupot-dan-spt-masa-unfikasi-instansi-pemerintah
END:VEVENT
BEGIN:VEVENT
DTSTART;VALUE=DATE:20220323
DTEND;VALUE=DATE:20220324
DTSTAMP:20260424T020900
CREATED:20220323T023645Z
LAST-MODIFIED:20220323T023645Z
UID:4805-1647993600-1648079999@dukcapil-old.slemankab.go.id
SUMMARY:Rapat Koordinasi Pemutakhiran Data Pemilih Berkelanjutan Triwulan 1 Tahun 2022
DESCRIPTION:
URL:https://dukcapil-old.slemankab.go.id/event/rapat-koordinasi-pemutakhiran-data-pemilih-berkelanjutan-triwulan-1-tahun-2022
END:VEVENT
END:VCALENDAR