BEGIN:VCALENDAR
VERSION:2.0
PRODID:-//Dinas Kependudukan dan Pencatatan Sipil Kabupaten Sleman - ECPv6.4.0//NONSGML v1.0//EN
CALSCALE:GREGORIAN
METHOD:PUBLISH
X-ORIGINAL-URL:https://dukcapil-old.slemankab.go.id
X-WR-CALDESC:Events for Dinas Kependudukan dan Pencatatan Sipil Kabupaten Sleman
REFRESH-INTERVAL;VALUE=DURATION:PT1H
X-Robots-Tag:noindex
X-PUBLISHED-TTL:PT1H
BEGIN:VTIMEZONE
TZID:Asia/Jakarta
BEGIN:STANDARD
TZOFFSETFROM:+0700
TZOFFSETTO:+0700
TZNAME:WIB
DTSTART:20220101T000000
END:STANDARD
END:VTIMEZONE
BEGIN:VEVENT
DTSTART;VALUE=DATE:20220330
DTEND;VALUE=DATE:20220331
DTSTAMP:20260424T004652
CREATED:20220330T003641Z
LAST-MODIFIED:20220330T003641Z
UID:4851-1648598400-1648684799@dukcapil-old.slemankab.go.id
SUMMARY:Seminar di Seminasi AMP Dalam Upaya Pencegahan Kematian Ibu
DESCRIPTION:
URL:https://dukcapil-old.slemankab.go.id/event/seminar-di-seminasi-amp-dalam-upaya-pencegahan-kematian-ibu
END:VEVENT
BEGIN:VEVENT
DTSTART;VALUE=DATE:20220330
DTEND;VALUE=DATE:20220331
DTSTAMP:20260424T004652
CREATED:20220330T003743Z
LAST-MODIFIED:20220330T003743Z
UID:4853-1648598400-1648684799@dukcapil-old.slemankab.go.id
SUMMARY:Narasumber Integritas Kependudukan di Kab Sleman
DESCRIPTION:
URL:https://dukcapil-old.slemankab.go.id/event/narasumber-integritas-kependudukan-di-kab-sleman
END:VEVENT
BEGIN:VEVENT
DTSTART;VALUE=DATE:20220330
DTEND;VALUE=DATE:20220331
DTSTAMP:20260424T004652
CREATED:20220330T003917Z
LAST-MODIFIED:20220330T003917Z
UID:4855-1648598400-1648684799@dukcapil-old.slemankab.go.id
SUMMARY:Narasumber Rangka Meningkatkan Kualitas Pelayanan dan Menyediakan Data Informasi
DESCRIPTION:
URL:https://dukcapil-old.slemankab.go.id/event/narasumber-rangka-meningkatkan-kualitas-pelayanan-dan-menyediakan-data-informasi
END:VEVENT
BEGIN:VEVENT
DTSTART;VALUE=DATE:20220330
DTEND;VALUE=DATE:20220331
DTSTAMP:20260424T004652
CREATED:20220330T004630Z
LAST-MODIFIED:20220330T004630Z
UID:4857-1648598400-1648684799@dukcapil-old.slemankab.go.id
SUMMARY:Monev Pelaksanaan Zona Integritas
DESCRIPTION:
URL:https://dukcapil-old.slemankab.go.id/event/monev-pelaksanaan-zona-integritas
END:VEVENT
BEGIN:VEVENT
DTSTART;VALUE=DATE:20220330
DTEND;VALUE=DATE:20220331
DTSTAMP:20260424T004652
CREATED:20220330T004658Z
LAST-MODIFIED:20220330T004658Z
UID:4859-1648598400-1648684799@dukcapil-old.slemankab.go.id
SUMMARY:Rapat Dinas
DESCRIPTION:
URL:https://dukcapil-old.slemankab.go.id/event/rapat-dinas
END:VEVENT
BEGIN:VEVENT
DTSTART;VALUE=DATE:20220330
DTEND;VALUE=DATE:20220331
DTSTAMP:20260424T004652
CREATED:20220330T004723Z
LAST-MODIFIED:20220330T004723Z
UID:4861-1648598400-1648684799@dukcapil-old.slemankab.go.id
SUMMARY:Rapat Koordinasi Reviu Road Map Reformasi Birokarasi Kab Sleman TA 2020-2024
DESCRIPTION:
URL:https://dukcapil-old.slemankab.go.id/event/rapat-koordinasi-reviu-road-map-reformasi-birokarasi-kab-sleman-ta-2020-2024
END:VEVENT
END:VCALENDAR