BEGIN:VCALENDAR
VERSION:2.0
PRODID:-//Dinas Kependudukan dan Pencatatan Sipil Kabupaten Sleman - ECPv6.4.0//NONSGML v1.0//EN
CALSCALE:GREGORIAN
METHOD:PUBLISH
X-WR-CALNAME:Dinas Kependudukan dan Pencatatan Sipil Kabupaten Sleman
X-ORIGINAL-URL:https://dukcapil-old.slemankab.go.id
X-WR-CALDESC:Events for Dinas Kependudukan dan Pencatatan Sipil Kabupaten Sleman
REFRESH-INTERVAL;VALUE=DURATION:PT1H
X-Robots-Tag:noindex
X-PUBLISHED-TTL:PT1H
BEGIN:VTIMEZONE
TZID:Asia/Jakarta
BEGIN:STANDARD
TZOFFSETFROM:+0700
TZOFFSETTO:+0700
TZNAME:WIB
DTSTART:20220101T000000
END:STANDARD
END:VTIMEZONE
BEGIN:VEVENT
DTSTART;VALUE=DATE:20220422
DTEND;VALUE=DATE:20220423
DTSTAMP:20260425T202941
CREATED:20220422T005147Z
LAST-MODIFIED:20220422T005147Z
UID:5044-1650585600-1650671999@dukcapil-old.slemankab.go.id
SUMMARY:Workshop”Pengadaan Barang dan Jasa Dalam Persektif Hukum Persaingan Usaha dan Indeks Persaingan Usaha”
DESCRIPTION:08.00 \nAula Lt 3 Setda Sleman
URL:https://dukcapil-old.slemankab.go.id/event/workshoppengadaan-barang-dan-jasa-dalam-persektif-hukum-persaingan-usaha-dan-indeks-persaingan-usaha
END:VEVENT
BEGIN:VEVENT
DTSTART;VALUE=DATE:20220422
DTEND;VALUE=DATE:20220423
DTSTAMP:20260425T202941
CREATED:20220422T005306Z
LAST-MODIFIED:20220422T005306Z
UID:5046-1650585600-1650671999@dukcapil-old.slemankab.go.id
SUMMARY:Pembinaan Dalam Rangka Perayaan Paskah 2022
DESCRIPTION:08.30 \nGereja Katolik St. Aloysius Gonzaga\, Mlati
URL:https://dukcapil-old.slemankab.go.id/event/pembinaan-dalam-rangka-perayaan-paskah-2022
END:VEVENT
BEGIN:VEVENT
DTSTART;VALUE=DATE:20220422
DTEND;VALUE=DATE:20220423
DTSTAMP:20260425T202941
CREATED:20220422T005505Z
LAST-MODIFIED:20220422T005505Z
UID:5048-1650585600-1650671999@dukcapil-old.slemankab.go.id
SUMMARY:Pengajian Rutin Dharma Wanita Persatuan Kab Sleman
DESCRIPTION:09.00 \nMasjid Dorojatul Ulya
URL:https://dukcapil-old.slemankab.go.id/event/pengajian-rutin-dharma-wanita-persatuan-kab-sleman-4
END:VEVENT
END:VCALENDAR