BEGIN:VCALENDAR
VERSION:2.0
PRODID:-//Dinas Kependudukan dan Pencatatan Sipil Kabupaten Sleman - ECPv6.4.0//NONSGML v1.0//EN
CALSCALE:GREGORIAN
METHOD:PUBLISH
X-WR-CALNAME:Dinas Kependudukan dan Pencatatan Sipil Kabupaten Sleman
X-ORIGINAL-URL:https://dukcapil-old.slemankab.go.id
X-WR-CALDESC:Events for Dinas Kependudukan dan Pencatatan Sipil Kabupaten Sleman
REFRESH-INTERVAL;VALUE=DURATION:PT1H
X-Robots-Tag:noindex
X-PUBLISHED-TTL:PT1H
BEGIN:VTIMEZONE
TZID:Asia/Jakarta
BEGIN:STANDARD
TZOFFSETFROM:+0700
TZOFFSETTO:+0700
TZNAME:WIB
DTSTART:20230101T000000
END:STANDARD
END:VTIMEZONE
BEGIN:VEVENT
DTSTART;VALUE=DATE:20231204
DTEND;VALUE=DATE:20231205
DTSTAMP:20260424T042429
CREATED:20231204T012322Z
LAST-MODIFIED:20231204T012322Z
UID:10163-1701648000-1701734399@dukcapil-old.slemankab.go.id
SUMMARY:Penguatan Forum Perlindungan KorbanKekerasan
DESCRIPTION:08.30\nPendopo\nRumah Dinas\nBupati
URL:https://dukcapil-old.slemankab.go.id/event/penguatan-forum-perlindungan-korbankekerasan-2
END:VEVENT
BEGIN:VEVENT
DTSTART;VALUE=DATE:20231204
DTEND;VALUE=DATE:20231205
DTSTAMP:20260424T042429
CREATED:20231204T012342Z
LAST-MODIFIED:20231204T012342Z
UID:10165-1701648000-1701734399@dukcapil-old.slemankab.go.id
SUMMARY:Puncak Acara Peringatan Hari Anti Kekerasan pada Perempuan dan Anak Kab Sleman thn 2023
DESCRIPTION:12.30\nPendopo\nRumah Dinas\nBupati
URL:https://dukcapil-old.slemankab.go.id/event/puncak-acara-peringatan-hari-anti-kekerasan-pada-perempuan-dan-anak-kab-sleman-thn-2023
END:VEVENT
BEGIN:VEVENT
DTSTART;VALUE=DATE:20231204
DTEND;VALUE=DATE:20231205
DTSTAMP:20260424T042429
CREATED:20231204T012429Z
LAST-MODIFIED:20231204T012429Z
UID:10167-1701648000-1701734399@dukcapil-old.slemankab.go.id
SUMMARY:Persiapan Reviuw Kinerja aksi 1-7 WebBangda dlm Rangka Percepatan Penurunan Stunting di Kab Sleman
DESCRIPTION:13.00\nR R B Dinas\nP3AP2KB
URL:https://dukcapil-old.slemankab.go.id/event/persiapan-reviuw-kinerja-aksi-1-7-webbangda-dlm-rangka-percepatan-penurunan-stunting-di-kab-sleman
END:VEVENT
END:VCALENDAR