BEGIN:VCALENDAR
VERSION:2.0
PRODID:-//Dinas Kependudukan dan Pencatatan Sipil Kabupaten Sleman - ECPv6.4.0//NONSGML v1.0//EN
CALSCALE:GREGORIAN
METHOD:PUBLISH
X-ORIGINAL-URL:https://dukcapil-old.slemankab.go.id
X-WR-CALDESC:Events for Dinas Kependudukan dan Pencatatan Sipil Kabupaten Sleman
REFRESH-INTERVAL;VALUE=DURATION:PT1H
X-Robots-Tag:noindex
X-PUBLISHED-TTL:PT1H
BEGIN:VTIMEZONE
TZID:Asia/Jakarta
BEGIN:STANDARD
TZOFFSETFROM:+0700
TZOFFSETTO:+0700
TZNAME:WIB
DTSTART:20230101T000000
END:STANDARD
END:VTIMEZONE
BEGIN:VEVENT
DTSTART;VALUE=DATE:20231208
DTEND;VALUE=DATE:20231209
DTSTAMP:20260424T042534
CREATED:20231208T031418Z
LAST-MODIFIED:20231208T031418Z
UID:10215-1701993600-1702079999@dukcapil-old.slemankab.go.id
SUMMARY:Narasumber Status Kawin BelumT ercatat dalam Administrasi Kependudukan
DESCRIPTION:07.30\nRuang Teatrikal\nGedung Pusat\nPengembangan\nBangsa UIN\nSunan Kalijaga\nYK
URL:https://dukcapil-old.slemankab.go.id/event/narasumber-status-kawin-belumt-ercatat-dalam-administrasi-kependudukan
END:VEVENT
END:VCALENDAR