BEGIN:VCALENDAR
VERSION:2.0
PRODID:-//Dinas Kependudukan dan Pencatatan Sipil Kabupaten Sleman - ECPv6.4.0//NONSGML v1.0//EN
CALSCALE:GREGORIAN
METHOD:PUBLISH
X-WR-CALNAME:Dinas Kependudukan dan Pencatatan Sipil Kabupaten Sleman
X-ORIGINAL-URL:https://dukcapil-old.slemankab.go.id
X-WR-CALDESC:Events for Dinas Kependudukan dan Pencatatan Sipil Kabupaten Sleman
REFRESH-INTERVAL;VALUE=DURATION:PT1H
X-Robots-Tag:noindex
X-PUBLISHED-TTL:PT1H
BEGIN:VTIMEZONE
TZID:Asia/Jakarta
BEGIN:STANDARD
TZOFFSETFROM:+0700
TZOFFSETTO:+0700
TZNAME:WIB
DTSTART:20230101T000000
END:STANDARD
END:VTIMEZONE
BEGIN:VEVENT
DTSTART;VALUE=DATE:20231212
DTEND;VALUE=DATE:20231213
DTSTAMP:20260424T042453
CREATED:20231212T012556Z
LAST-MODIFIED:20231212T012556Z
UID:10221-1702339200-1702425599@dukcapil-old.slemankab.go.id
SUMMARY:Rapat Koordinasi Evaluasi PelaksanaanRANHAM thn 2023
DESCRIPTION:08.00\nRR Bagian\nHukum Setda\nSleman
URL:https://dukcapil-old.slemankab.go.id/event/rapat-koordinasi-evaluasi-pelaksanaanranham-thn-2023
END:VEVENT
BEGIN:VEVENT
DTSTART;VALUE=DATE:20231212
DTEND;VALUE=DATE:20231213
DTSTAMP:20260424T042453
CREATED:20231212T012738Z
LAST-MODIFIED:20231212T012738Z
UID:10223-1702339200-1702425599@dukcapil-old.slemankab.go.id
SUMMARY:Penyampaian Hasil Sementara Pengawasan PPDB thn 2023
DESCRIPTION:09.00\nKantor\nPerwakilan\nOmbudsam RI\nYogya
URL:https://dukcapil-old.slemankab.go.id/event/penyampaian-hasil-sementara-pengawasan-ppdb-thn-2023
END:VEVENT
BEGIN:VEVENT
DTSTART;VALUE=DATE:20231212
DTEND;VALUE=DATE:20231213
DTSTAMP:20260424T042453
CREATED:20231212T012831Z
LAST-MODIFIED:20231212T012831Z
UID:10225-1702339200-1702425599@dukcapil-old.slemankab.go.id
SUMMARY:Business Matching Peningkatan Penggunaan Produk DalamNegeri P3DN Kab Sleman
DESCRIPTION:09.00\nBallroom Merapi\nPrima SR H&C
URL:https://dukcapil-old.slemankab.go.id/event/business-matching-peningkatan-penggunaan-produk-dalamnegeri-p3dn-kab-sleman
END:VEVENT
END:VCALENDAR