BEGIN:VCALENDAR
VERSION:2.0
PRODID:-//Dinas Kependudukan dan Pencatatan Sipil Kabupaten Sleman - ECPv6.4.0//NONSGML v1.0//EN
CALSCALE:GREGORIAN
METHOD:PUBLISH
X-WR-CALNAME:Dinas Kependudukan dan Pencatatan Sipil Kabupaten Sleman
X-ORIGINAL-URL:https://dukcapil-old.slemankab.go.id
X-WR-CALDESC:Events for Dinas Kependudukan dan Pencatatan Sipil Kabupaten Sleman
REFRESH-INTERVAL;VALUE=DURATION:PT1H
X-Robots-Tag:noindex
X-PUBLISHED-TTL:PT1H
BEGIN:VTIMEZONE
TZID:Asia/Jakarta
BEGIN:STANDARD
TZOFFSETFROM:+0700
TZOFFSETTO:+0700
TZNAME:WIB
DTSTART:20230101T000000
END:STANDARD
END:VTIMEZONE
BEGIN:VEVENT
DTSTART;VALUE=DATE:20231215
DTEND;VALUE=DATE:20231216
DTSTAMP:20260424T042448
CREATED:20231215T014113Z
LAST-MODIFIED:20231215T014113Z
UID:10265-1702598400-1702684799@dukcapil-old.slemankab.go.id
SUMMARY:Evaluasi Penilaian Manajemen Risiko
DESCRIPTION:08.30\nRR Inspektorat\nKab Sleman
URL:https://dukcapil-old.slemankab.go.id/event/evaluasi-penilaian-manajemen-risiko
END:VEVENT
BEGIN:VEVENT
DTSTART;VALUE=DATE:20231215
DTEND;VALUE=DATE:20231216
DTSTAMP:20260424T042448
CREATED:20231215T014402Z
LAST-MODIFIED:20231215T014402Z
UID:10267-1702598400-1702684799@dukcapil-old.slemankab.go.id
SUMMARY:Sosialisasi Adminduk dan Pelayanan Pendaftaran Penduduk Non Permanen
DESCRIPTION:09.00\nMA Raudhatul\nMuttagien\nKalasan
URL:https://dukcapil-old.slemankab.go.id/event/sosialisasi-adminduk-dan-pelayanan-pendaftaran-penduduk-non-permanen
END:VEVENT
END:VCALENDAR