BEGIN:VCALENDAR
VERSION:2.0
PRODID:-//Dinas Kependudukan dan Pencatatan Sipil Kabupaten Sleman - ECPv6.4.0//NONSGML v1.0//EN
CALSCALE:GREGORIAN
METHOD:PUBLISH
X-WR-CALNAME:Dinas Kependudukan dan Pencatatan Sipil Kabupaten Sleman
X-ORIGINAL-URL:https://dukcapil-old.slemankab.go.id
X-WR-CALDESC:Events for Dinas Kependudukan dan Pencatatan Sipil Kabupaten Sleman
REFRESH-INTERVAL;VALUE=DURATION:PT1H
X-Robots-Tag:noindex
X-PUBLISHED-TTL:PT1H
BEGIN:VTIMEZONE
TZID:Asia/Jakarta
BEGIN:STANDARD
TZOFFSETFROM:+0700
TZOFFSETTO:+0700
TZNAME:WIB
DTSTART:20230101T000000
END:STANDARD
END:VTIMEZONE
BEGIN:VEVENT
DTSTART;VALUE=DATE:20231227
DTEND;VALUE=DATE:20231228
DTSTAMP:20260424T042453
CREATED:20231227T011636Z
LAST-MODIFIED:20231227T011636Z
UID:10357-1703635200-1703721599@dukcapil-old.slemankab.go.id
SUMMARY:Menyelesaikan pelayanan perekaman datadan untuk meningkatkan kesadaran masyarakat akan pentingnya IKD
DESCRIPTION:08.30\nRumah Dukuh\nKarang\nTengah\nNogotirto\nGamping
URL:https://dukcapil-old.slemankab.go.id/event/menyelesaikan-pelayanan-perekaman-datadan-untuk-meningkatkan-kesadaran-masyarakat-akan-pentingnya-ikd
END:VEVENT
BEGIN:VEVENT
DTSTART;VALUE=DATE:20231227
DTEND;VALUE=DATE:20231228
DTSTAMP:20260424T042453
CREATED:20231227T011929Z
LAST-MODIFIED:20231227T011929Z
UID:10359-1703635200-1703721599@dukcapil-old.slemankab.go.id
SUMMARY:Sosialisasi Implementasi SistemKerjaBaru dan SOTK Baru dlm Rangka Pelaksanaan Kebijakan Penyederhanaan Birokrasi
DESCRIPTION:10.00\nAula lantai III\nSetda Sleman
URL:https://dukcapil-old.slemankab.go.id/event/sosialisasi-implementasi-sistemkerjabaru-dan-sotk-baru-dlm-rangka-pelaksanaan-kebijakan-penyederhanaan-birokrasi
END:VEVENT
BEGIN:VEVENT
DTSTART;VALUE=DATE:20231227
DTEND;VALUE=DATE:20231228
DTSTAMP:20260424T042453
CREATED:20231227T012103Z
LAST-MODIFIED:20231227T012103Z
UID:10361-1703635200-1703721599@dukcapil-old.slemankab.go.id
SUMMARY:Pengoordinasian Rencana Tindak Lanjut Penyesuaian Sistem Kerja Baru Tahun 2024
DESCRIPTION:13.00\nAula lantai III\nSetda Sleman
URL:https://dukcapil-old.slemankab.go.id/event/pengoordinasian-rencana-tindak-lanjut-penyesuaian-sistem-kerja-baru-tahun-2024
END:VEVENT
END:VCALENDAR