BEGIN:VCALENDAR
VERSION:2.0
PRODID:-//Dinas Kependudukan dan Pencatatan Sipil Kabupaten Sleman - ECPv6.4.0//NONSGML v1.0//EN
CALSCALE:GREGORIAN
METHOD:PUBLISH
X-ORIGINAL-URL:https://dukcapil-old.slemankab.go.id
X-WR-CALDESC:Events for Dinas Kependudukan dan Pencatatan Sipil Kabupaten Sleman
REFRESH-INTERVAL;VALUE=DURATION:PT1H
X-Robots-Tag:noindex
X-PUBLISHED-TTL:PT1H
BEGIN:VTIMEZONE
TZID:Asia/Jakarta
BEGIN:STANDARD
TZOFFSETFROM:+0700
TZOFFSETTO:+0700
TZNAME:WIB
DTSTART:20230101T000000
END:STANDARD
END:VTIMEZONE
BEGIN:VEVENT
DTSTART;VALUE=DATE:20231229
DTEND;VALUE=DATE:20231230
DTSTAMP:20260424T042535
CREATED:20231229T024805Z
LAST-MODIFIED:20231229T024805Z
UID:10366-1703808000-1703894399@dukcapil-old.slemankab.go.id
SUMMARY:Rapat Paripurna terkait: -Penetapan Propemperda Th 2024 -Laporan Akhir Masa Persidangan I TahunSidang 2023-2024
DESCRIPTION:09.00\nR.R Paripurna\nDPRD Sleman
URL:https://dukcapil-old.slemankab.go.id/event/rapat-paripurna-terkait-penetapan-propemperda-th-2024-laporan-akhir-masa-persidangan-i-tahunsidang-2023-2024
END:VEVENT
END:VCALENDAR