BEGIN:VCALENDAR
VERSION:2.0
PRODID:-//Dinas Kependudukan dan Pencatatan Sipil Kabupaten Sleman - ECPv6.4.0//NONSGML v1.0//EN
CALSCALE:GREGORIAN
METHOD:PUBLISH
X-ORIGINAL-URL:https://dukcapil-old.slemankab.go.id
X-WR-CALDESC:Events for Dinas Kependudukan dan Pencatatan Sipil Kabupaten Sleman
REFRESH-INTERVAL;VALUE=DURATION:PT1H
X-Robots-Tag:noindex
X-PUBLISHED-TTL:PT1H
BEGIN:VTIMEZONE
TZID:Asia/Jakarta
BEGIN:STANDARD
TZOFFSETFROM:+0700
TZOFFSETTO:+0700
TZNAME:WIB
DTSTART:20240101T000000
END:STANDARD
END:VTIMEZONE
BEGIN:VEVENT
DTSTART;VALUE=DATE:20240104
DTEND;VALUE=DATE:20240105
DTSTAMP:20260424T031242
CREATED:20240104T023113Z
LAST-MODIFIED:20240104T023113Z
UID:10384-1704326400-1704412799@dukcapil-old.slemankab.go.id
SUMMARY:Rapat Koordinasi Pengembangan Aplikasi Pelayanan Online dan Web Publik
DESCRIPTION:08.00\nR.R Dinas\nDukcapil
URL:https://dukcapil-old.slemankab.go.id/event/rapat-koordinasi-pengembangan-aplikasi-pelayanan-online-dan-web-publik
END:VEVENT
END:VCALENDAR