BEGIN:VCALENDAR
VERSION:2.0
PRODID:-//Dinas Kependudukan dan Pencatatan Sipil Kabupaten Sleman - ECPv6.4.0//NONSGML v1.0//EN
CALSCALE:GREGORIAN
METHOD:PUBLISH
X-ORIGINAL-URL:https://dukcapil-old.slemankab.go.id
X-WR-CALDESC:Events for Dinas Kependudukan dan Pencatatan Sipil Kabupaten Sleman
REFRESH-INTERVAL;VALUE=DURATION:PT1H
X-Robots-Tag:noindex
X-PUBLISHED-TTL:PT1H
BEGIN:VTIMEZONE
TZID:Asia/Jakarta
BEGIN:STANDARD
TZOFFSETFROM:+0700
TZOFFSETTO:+0700
TZNAME:WIB
DTSTART:20240101T000000
END:STANDARD
END:VTIMEZONE
BEGIN:VEVENT
DTSTART;VALUE=DATE:20240108
DTEND;VALUE=DATE:20240109
DTSTAMP:20260424T031241
CREATED:20240108T010614Z
LAST-MODIFIED:20240108T010614Z
UID:10410-1704672000-1704758399@dukcapil-old.slemankab.go.id
SUMMARY:Pencermatan DPA SKPD Tahun 2024
DESCRIPTION:08.30\nR.R III B Pokja\n4 BKAD
URL:https://dukcapil-old.slemankab.go.id/event/pencermatan-dpa-skpd-tahun-2024
END:VEVENT
BEGIN:VEVENT
DTSTART;VALUE=DATE:20240108
DTEND;VALUE=DATE:20240109
DTSTAMP:20260424T031241
CREATED:20240108T010747Z
LAST-MODIFIED:20240108T010747Z
UID:10412-1704672000-1704758399@dukcapil-old.slemankab.go.id
SUMMARY:Forum Diskusi Tentang Strategi Mewujudkan Pemilu yang Bermanfaat dan Berbudaya
DESCRIPTION:12.00\nR.R Paripurna\nLantai II DPRD\nDIY
URL:https://dukcapil-old.slemankab.go.id/event/forum-diskusi-tentang-strategi-mewujudkan-pemilu-yang-bermanfaat-dan-berbudaya
END:VEVENT
END:VCALENDAR