BEGIN:VCALENDAR
VERSION:2.0
PRODID:-//Dinas Kependudukan dan Pencatatan Sipil Kabupaten Sleman - ECPv6.4.0//NONSGML v1.0//EN
CALSCALE:GREGORIAN
METHOD:PUBLISH
X-WR-CALNAME:Dinas Kependudukan dan Pencatatan Sipil Kabupaten Sleman
X-ORIGINAL-URL:https://dukcapil-old.slemankab.go.id
X-WR-CALDESC:Events for Dinas Kependudukan dan Pencatatan Sipil Kabupaten Sleman
REFRESH-INTERVAL;VALUE=DURATION:PT1H
X-Robots-Tag:noindex
X-PUBLISHED-TTL:PT1H
BEGIN:VTIMEZONE
TZID:Asia/Jakarta
BEGIN:STANDARD
TZOFFSETFROM:+0700
TZOFFSETTO:+0700
TZNAME:WIB
DTSTART:20240101T000000
END:STANDARD
END:VTIMEZONE
BEGIN:VEVENT
DTSTART;VALUE=DATE:20240111
DTEND;VALUE=DATE:20240112
DTSTAMP:20260423T230005
CREATED:20240111T004650Z
LAST-MODIFIED:20240111T004650Z
UID:10429-1704931200-1705017599@dukcapil-old.slemankab.go.id
SUMMARY:Forum Konsultasi Publik RKPD Kabupaten Sleman Tahun 2025
DESCRIPTION:08.30\nAmartapura B\nPlenary Hall\, MICC Building\nThe Alana\nHotel\nYogyakarta
URL:https://dukcapil-old.slemankab.go.id/event/forum-konsultasi-publik-rkpd-kabupaten-sleman-tahun-2025
END:VEVENT
BEGIN:VEVENT
DTSTART;VALUE=DATE:20240111
DTEND;VALUE=DATE:20240112
DTSTAMP:20260423T230005
CREATED:20240111T004855Z
LAST-MODIFIED:20240111T004855Z
UID:10431-1704931200-1705017599@dukcapil-old.slemankab.go.id
SUMMARY:Rapat Koordinasi Persiapan Safari Jumat/Tarawih Bupati dan Wakil Bupati Sleman Tahun 2024
DESCRIPTION:09.00\nR.R Praja I\nSekretariat\nDaerah
URL:https://dukcapil-old.slemankab.go.id/event/rapat-koordinasi-persiapan-safari-jumat-tarawih-bupati-dan-wakil-bupati-sleman-tahun-2024
END:VEVENT
BEGIN:VEVENT
DTSTART;VALUE=DATE:20240111
DTEND;VALUE=DATE:20240112
DTSTAMP:20260423T230005
CREATED:20240111T004958Z
LAST-MODIFIED:20240111T004958Z
UID:10433-1704931200-1705017599@dukcapil-old.slemankab.go.id
SUMMARY:Bimtek Petugas Pos Pelayanan Dokumen Kependudukan (Posyanduk)
DESCRIPTION:09.00\nR.R Dinas\nDukcapil
URL:https://dukcapil-old.slemankab.go.id/event/bimtek-petugas-pos-pelayanan-dokumen-kependudukan-posyanduk
END:VEVENT
END:VCALENDAR