BEGIN:VCALENDAR
VERSION:2.0
PRODID:-//Dinas Kependudukan dan Pencatatan Sipil Kabupaten Sleman - ECPv6.4.0//NONSGML v1.0//EN
CALSCALE:GREGORIAN
METHOD:PUBLISH
X-ORIGINAL-URL:https://dukcapil-old.slemankab.go.id
X-WR-CALDESC:Events for Dinas Kependudukan dan Pencatatan Sipil Kabupaten Sleman
REFRESH-INTERVAL;VALUE=DURATION:PT1H
X-Robots-Tag:noindex
X-PUBLISHED-TTL:PT1H
BEGIN:VTIMEZONE
TZID:Asia/Jakarta
BEGIN:STANDARD
TZOFFSETFROM:+0700
TZOFFSETTO:+0700
TZNAME:WIB
DTSTART:20240101T000000
END:STANDARD
END:VTIMEZONE
BEGIN:VEVENT
DTSTART;VALUE=DATE:20240118
DTEND;VALUE=DATE:20240119
DTSTAMP:20260424T002312
CREATED:20240118T005253Z
LAST-MODIFIED:20240118T005253Z
UID:10480-1705536000-1705622399@dukcapil-old.slemankab.go.id
SUMMARY:Sosialisasi Penyelenggaraan Adminduk Pelayanan Dokumen Kependudukan Sisir Adminduk
DESCRIPTION:09.00\nBalai\nKalurahan\nMAguwoharjo\nDepok
URL:https://dukcapil-old.slemankab.go.id/event/sosialisasi-penyelenggaraan-adminduk-pelayanan-dokumen-kependudukan-sisir-adminduk-2
END:VEVENT
BEGIN:VEVENT
DTSTART;VALUE=DATE:20240118
DTEND;VALUE=DATE:20240119
DTSTAMP:20260424T002312
CREATED:20240118T005402Z
LAST-MODIFIED:20240118T005402Z
UID:10482-1705536000-1705622399@dukcapil-old.slemankab.go.id
SUMMARY:Bimbingan Teknis Penyusunan Angka Kredit Berbasis Predikat Kinerja Berdasarkan Peraturan BKN Nomor 3Tahun 2023
DESCRIPTION:09.00\nR.R Bima Lt. 3\nBKPP Kab. Sleman
URL:https://dukcapil-old.slemankab.go.id/event/bimbingan-teknis-penyusunan-angka-kredit-berbasis-predikat-kinerja-berdasarkan-peraturan-bkn-nomor-3tahun-2023
END:VEVENT
BEGIN:VEVENT
DTSTART;TZID=Asia/Jakarta:20240118T080000
DTEND;TZID=Asia/Jakarta:20240118T170000
DTSTAMP:20260424T002312
CREATED:20240118T005504Z
LAST-MODIFIED:20240118T005504Z
UID:10484-1705564800-1705597200@dukcapil-old.slemankab.go.id
SUMMARY:Arahan Bupati dan Kepala Perwakilan BPK DIY dalam Entry Meeting Pemeriksaan Rinci LKPD Kab. Sleman Tahun 2023
DESCRIPTION:09.00\nAula Lt. 3\nSetda Kab. Sleman
URL:https://dukcapil-old.slemankab.go.id/event/arahan-bupati-dan-kepala-perwakilan-bpk-diy-dalam-entry-meeting-pemeriksaan-rinci-lkpd-kab-sleman-tahun-2023
END:VEVENT
END:VCALENDAR