BEGIN:VCALENDAR
VERSION:2.0
PRODID:-//Dinas Kependudukan dan Pencatatan Sipil Kabupaten Sleman - ECPv6.4.0//NONSGML v1.0//EN
CALSCALE:GREGORIAN
METHOD:PUBLISH
X-WR-CALNAME:Dinas Kependudukan dan Pencatatan Sipil Kabupaten Sleman
X-ORIGINAL-URL:https://dukcapil-old.slemankab.go.id
X-WR-CALDESC:Events for Dinas Kependudukan dan Pencatatan Sipil Kabupaten Sleman
REFRESH-INTERVAL;VALUE=DURATION:PT1H
X-Robots-Tag:noindex
X-PUBLISHED-TTL:PT1H
BEGIN:VTIMEZONE
TZID:Asia/Jakarta
BEGIN:STANDARD
TZOFFSETFROM:+0700
TZOFFSETTO:+0700
TZNAME:WIB
DTSTART:20240101T000000
END:STANDARD
END:VTIMEZONE
BEGIN:VEVENT
DTSTART;TZID=Asia/Jakarta:20240119T080000
DTEND;TZID=Asia/Jakarta:20240119T170000
DTSTAMP:20260424T014836
CREATED:20240119T020104Z
LAST-MODIFIED:20240119T020104Z
UID:10500-1705651200-1705683600@dukcapil-old.slemankab.go.id
SUMMARY:Rapat Koordinasi Persiapan Rakerkab KORPRI Tahun 2024 Kab. Sleman
DESCRIPTION:13.00\nR.R Arjuna Lt. 2 BKPP\nSleman
URL:https://dukcapil-old.slemankab.go.id/event/rapat-koordinasi-persiapan-rakerkab-korpri-tahun-2024-kab-sleman
END:VEVENT
END:VCALENDAR