BEGIN:VCALENDAR
VERSION:2.0
PRODID:-//Dinas Kependudukan dan Pencatatan Sipil Kabupaten Sleman - ECPv6.4.0//NONSGML v1.0//EN
CALSCALE:GREGORIAN
METHOD:PUBLISH
X-WR-CALNAME:Dinas Kependudukan dan Pencatatan Sipil Kabupaten Sleman
X-ORIGINAL-URL:https://dukcapil-old.slemankab.go.id
X-WR-CALDESC:Events for Dinas Kependudukan dan Pencatatan Sipil Kabupaten Sleman
REFRESH-INTERVAL;VALUE=DURATION:PT1H
X-Robots-Tag:noindex
X-PUBLISHED-TTL:PT1H
BEGIN:VTIMEZONE
TZID:Asia/Jakarta
BEGIN:STANDARD
TZOFFSETFROM:+0700
TZOFFSETTO:+0700
TZNAME:WIB
DTSTART:20240101T000000
END:STANDARD
END:VTIMEZONE
BEGIN:VEVENT
DTSTART;VALUE=DATE:20240123
DTEND;VALUE=DATE:20240124
DTSTAMP:20260424T014836
CREATED:20240123T012948Z
LAST-MODIFIED:20240123T012948Z
UID:10511-1705968000-1706054399@dukcapil-old.slemankab.go.id
SUMMARY:Rapat Koordinasi Ampuan Bidang Pemerintahan dan Sumber Daya Manusia Tahun 2024
DESCRIPTION:08.30\nRR Kinanthi\nBappeda
URL:https://dukcapil-old.slemankab.go.id/event/rapat-koordinasi-ampuan-bidang-pemerintahan-dan-sumber-daya-manusia-tahun-2024
END:VEVENT
BEGIN:VEVENT
DTSTART;VALUE=DATE:20240123
DTEND;VALUE=DATE:20240124
DTSTAMP:20260424T014836
CREATED:20240123T013040Z
LAST-MODIFIED:20240123T013040Z
UID:10513-1705968000-1706054399@dukcapil-old.slemankab.go.id
SUMMARY:Sosialisasi Adminduk Pelayanan Dokumen Kependudukan Sisir Adminduk
DESCRIPTION:09.00\nBalai\nKalurahan\nWedomartani\nNgemplak
URL:https://dukcapil-old.slemankab.go.id/event/sosialisasi-adminduk-pelayanan-dokumen-kependudukan-sisir-adminduk
END:VEVENT
END:VCALENDAR