BEGIN:VCALENDAR
VERSION:2.0
PRODID:-//Dinas Kependudukan dan Pencatatan Sipil Kabupaten Sleman - ECPv6.4.0//NONSGML v1.0//EN
CALSCALE:GREGORIAN
METHOD:PUBLISH
X-ORIGINAL-URL:https://dukcapil-old.slemankab.go.id
X-WR-CALDESC:Events for Dinas Kependudukan dan Pencatatan Sipil Kabupaten Sleman
REFRESH-INTERVAL;VALUE=DURATION:PT1H
X-Robots-Tag:noindex
X-PUBLISHED-TTL:PT1H
BEGIN:VTIMEZONE
TZID:Asia/Jakarta
BEGIN:STANDARD
TZOFFSETFROM:+0700
TZOFFSETTO:+0700
TZNAME:WIB
DTSTART:20240101T000000
END:STANDARD
END:VTIMEZONE
BEGIN:VEVENT
DTSTART;VALUE=DATE:20240223
DTEND;VALUE=DATE:20240224
DTSTAMP:20260423T201906
CREATED:20240223T004023Z
LAST-MODIFIED:20240223T004023Z
UID:10754-1708646400-1708732799@dukcapil-old.slemankab.go.id
SUMMARY:Rapat Koordinasi Pelaksanaan PUPM Bidang Pelayanan Pendaftaran Pendudukdan Rencana Jemput Bola IKD Thn. 2024
DESCRIPTION:09.00\nRuang Rapat\nDinas Dukcapil
URL:https://dukcapil-old.slemankab.go.id/event/rapat-koordinasi-pelaksanaan-pupm-bidang-pelayanan-pendaftaran-pendudukdan-rencana-jemput-bola-ikd-thn-2024
END:VEVENT
BEGIN:VEVENT
DTSTART;VALUE=DATE:20240223
DTEND;VALUE=DATE:20240224
DTSTAMP:20260423T201906
CREATED:20240223T004302Z
LAST-MODIFIED:20240223T004302Z
UID:10756-1708646400-1708732799@dukcapil-old.slemankab.go.id
SUMMARY:Silahturahmi Kerjasama Progam KAPERU (KTP&KK Baru Bagi Pengantin Baru)
DESCRIPTION:09.00\nRuang Rapat\nDinas Dukcapil
URL:https://dukcapil-old.slemankab.go.id/event/silahturahmi-kerjasama-progam-kaperu-ktpkk-baru-bagi-pengantin-baru
END:VEVENT
BEGIN:VEVENT
DTSTART;VALUE=DATE:20240223
DTEND;VALUE=DATE:20240224
DTSTAMP:20260423T201906
CREATED:20240223T004358Z
LAST-MODIFIED:20240223T004358Z
UID:10758-1708646400-1708732799@dukcapil-old.slemankab.go.id
SUMMARY:Rapat Koordinasi Penanganan Penduduk Rentan Adminduk/ Pennyelesaian Data Adminduk Bermasalah
DESCRIPTION:13.00\nRuang Rapat\nDinas Dukcapil
URL:https://dukcapil-old.slemankab.go.id/event/rapat-koordinasi-penanganan-penduduk-rentan-adminduk-pennyelesaian-data-adminduk-bermasalah
END:VEVENT
END:VCALENDAR