BEGIN:VCALENDAR
VERSION:2.0
PRODID:-//Dinas Kependudukan dan Pencatatan Sipil Kabupaten Sleman - ECPv6.4.0//NONSGML v1.0//EN
CALSCALE:GREGORIAN
METHOD:PUBLISH
X-WR-CALNAME:Dinas Kependudukan dan Pencatatan Sipil Kabupaten Sleman
X-ORIGINAL-URL:https://dukcapil-old.slemankab.go.id
X-WR-CALDESC:Events for Dinas Kependudukan dan Pencatatan Sipil Kabupaten Sleman
REFRESH-INTERVAL;VALUE=DURATION:PT1H
X-Robots-Tag:noindex
X-PUBLISHED-TTL:PT1H
BEGIN:VTIMEZONE
TZID:Asia/Jakarta
BEGIN:STANDARD
TZOFFSETFROM:+0700
TZOFFSETTO:+0700
TZNAME:WIB
DTSTART:20240101T000000
END:STANDARD
END:VTIMEZONE
BEGIN:VEVENT
DTSTART;VALUE=DATE:20240401
DTEND;VALUE=DATE:20240402
DTSTAMP:20260424T043958
CREATED:20240401T011601Z
LAST-MODIFIED:20240401T011601Z
UID:11066-1711929600-1712015999@dukcapil-old.slemankab.go.id
SUMMARY:Rapat Paripurna Penyampaian Jawaban Bupati atas Pandangan Umum Fraksi terhadap Rancangan Perda tentang Pertanggung Jawaban APBD Tahun 2023
DESCRIPTION:09.00\nR.R. Paripurna\nDPRD Kab. Sleman
URL:https://dukcapil-old.slemankab.go.id/event/rapat-paripurna-penyampaian-jawaban-bupati-atas-pandangan-umum-fraksi-terhadap-rancangan-perda-tentang-pertanggung-jawaban-apbd-tahun-2023
END:VEVENT
BEGIN:VEVENT
DTSTART;VALUE=DATE:20240401
DTEND;VALUE=DATE:20240402
DTSTAMP:20260424T043958
CREATED:20240401T011823Z
LAST-MODIFIED:20240401T011823Z
UID:11068-1711929600-1712015999@dukcapil-old.slemankab.go.id
SUMMARY:Narasumber Sosialisasi Administrasi dan Kependudukan dari Dinas Dukcapil Kab. Sleman
DESCRIPTION:14.00\nAula Kelurahan\nTridadi
URL:https://dukcapil-old.slemankab.go.id/event/narasumber-sosialisasi-administrasi-dan-kependudukan-dari-dinas-dukcapil-kab-sleman
END:VEVENT
END:VCALENDAR