BEGIN:VCALENDAR
VERSION:2.0
PRODID:-//Dinas Kependudukan dan Pencatatan Sipil Kabupaten Sleman - ECPv6.4.0//NONSGML v1.0//EN
CALSCALE:GREGORIAN
METHOD:PUBLISH
X-ORIGINAL-URL:https://dukcapil-old.slemankab.go.id
X-WR-CALDESC:Events for Dinas Kependudukan dan Pencatatan Sipil Kabupaten Sleman
REFRESH-INTERVAL;VALUE=DURATION:PT1H
X-Robots-Tag:noindex
X-PUBLISHED-TTL:PT1H
BEGIN:VTIMEZONE
TZID:Asia/Jakarta
BEGIN:STANDARD
TZOFFSETFROM:+0700
TZOFFSETTO:+0700
TZNAME:WIB
DTSTART:20240101T000000
END:STANDARD
END:VTIMEZONE
BEGIN:VEVENT
DTSTART;VALUE=DATE:20240404
DTEND;VALUE=DATE:20240405
DTSTAMP:20260424T055328
CREATED:20240404T005854Z
LAST-MODIFIED:20240404T005854Z
UID:11079-1712188800-1712275199@dukcapil-old.slemankab.go.id
SUMMARY:Ekspos Hasil Survei Budaya Pemerintah Th2023 dan Monitoring\, Evaluasi Implementasi Budaya Pemerintahan“SATRIYA” di Ling. Daerah Pemkab. Sleman untuk Triwulan I Th 2024
DESCRIPTION:08.30\nR.R. Sembada\nSetda Kab. Sleman
URL:https://dukcapil-old.slemankab.go.id/event/ekspos-hasil-survei-budaya-pemerintah-th2023-dan-monitoring-evaluasi-implementasi-budaya-pemerintahansatriya-di-ling-daerah-pemkab-sleman-untuk-triwulan-i-th-2024
END:VEVENT
BEGIN:VEVENT
DTSTART;VALUE=DATE:20240404
DTEND;VALUE=DATE:20240405
DTSTAMP:20260424T055328
CREATED:20240404T010150Z
LAST-MODIFIED:20240404T010150Z
UID:11081-1712188800-1712275199@dukcapil-old.slemankab.go.id
SUMMARY:Rapat Koordinasi Persiapan Peringatan Hari Buruh Internasional May Day Th 2024
DESCRIPTION:09.00\nRuang Sadewa\nLt. 3 Dinas\nTenaga Kerja
URL:https://dukcapil-old.slemankab.go.id/event/rapat-koordinasi-persiapan-peringatan-hari-buruh-internasional-may-day-th-2024
END:VEVENT
BEGIN:VEVENT
DTSTART;VALUE=DATE:20240404
DTEND;VALUE=DATE:20240405
DTSTAMP:20260424T055328
CREATED:20240404T010245Z
LAST-MODIFIED:20240404T010245Z
UID:11083-1712188800-1712275199@dukcapil-old.slemankab.go.id
SUMMARY:Rapat Koordinasi Pimpinan Perangkat Daerah Bulan April 2024
DESCRIPTION:12.30\nAula Lt. 3 Setda
URL:https://dukcapil-old.slemankab.go.id/event/rapat-koordinasi-pimpinan-perangkat-daerah-bulan-april-2024
END:VEVENT
END:VCALENDAR