BEGIN:VCALENDAR
VERSION:2.0
PRODID:-//Dinas Kependudukan dan Pencatatan Sipil Kabupaten Sleman - ECPv6.4.0//NONSGML v1.0//EN
CALSCALE:GREGORIAN
METHOD:PUBLISH
X-WR-CALNAME:Dinas Kependudukan dan Pencatatan Sipil Kabupaten Sleman
X-ORIGINAL-URL:https://dukcapil-old.slemankab.go.id
X-WR-CALDESC:Events for Dinas Kependudukan dan Pencatatan Sipil Kabupaten Sleman
REFRESH-INTERVAL;VALUE=DURATION:PT1H
X-Robots-Tag:noindex
X-PUBLISHED-TTL:PT1H
BEGIN:VTIMEZONE
TZID:Asia/Jakarta
BEGIN:STANDARD
TZOFFSETFROM:+0700
TZOFFSETTO:+0700
TZNAME:WIB
DTSTART:20240101T000000
END:STANDARD
END:VTIMEZONE
BEGIN:VEVENT
DTSTART;VALUE=DATE:20240418
DTEND;VALUE=DATE:20240419
DTSTAMP:20260424T004634
CREATED:20240418T014052Z
LAST-MODIFIED:20240418T014052Z
UID:11144-1713398400-1713484799@dukcapil-old.slemankab.go.id
SUMMARY:Rapat Sidang Kajian Penetapan Cagar Budaya dan Permohonan data bangunan Kantor Dukcapil Kab. Sleman
DESCRIPTION:09.00\nR.R. Rukun\nDinas\nKebudayaan
URL:https://dukcapil-old.slemankab.go.id/event/rapat-sidang-kajian-penetapan-cagar-budaya-dan-permohonan-data-bangunan-kantor-dukcapil-kab-sleman
END:VEVENT
BEGIN:VEVENT
DTSTART;VALUE=DATE:20240418
DTEND;VALUE=DATE:20240419
DTSTAMP:20260424T004634
CREATED:20240418T014224Z
LAST-MODIFIED:20240418T014224Z
UID:11146-1713398400-1713484799@dukcapil-old.slemankab.go.id
SUMMARY:Rapat Koordinasi Persiapan Pengawasan Kearsipan Internal Tahun 2024
DESCRIPTION:09.00\nR.R. Op Room\nPemkab\nSleman
URL:https://dukcapil-old.slemankab.go.id/event/rapat-koordinasi-persiapan-pengawasan-kearsipan-internal-tahun-2024
END:VEVENT
END:VCALENDAR