BEGIN:VCALENDAR
VERSION:2.0
PRODID:-//Dinas Kependudukan dan Pencatatan Sipil Kabupaten Sleman - ECPv6.4.0//NONSGML v1.0//EN
CALSCALE:GREGORIAN
METHOD:PUBLISH
X-ORIGINAL-URL:https://dukcapil-old.slemankab.go.id
X-WR-CALDESC:Events for Dinas Kependudukan dan Pencatatan Sipil Kabupaten Sleman
REFRESH-INTERVAL;VALUE=DURATION:PT1H
X-Robots-Tag:noindex
X-PUBLISHED-TTL:PT1H
BEGIN:VTIMEZONE
TZID:Asia/Jakarta
BEGIN:STANDARD
TZOFFSETFROM:+0700
TZOFFSETTO:+0700
TZNAME:WIB
DTSTART:20240101T000000
END:STANDARD
END:VTIMEZONE
BEGIN:VEVENT
DTSTART;VALUE=DATE:20240425
DTEND;VALUE=DATE:20240426
DTSTAMP:20260424T112436
CREATED:20240425T024755Z
LAST-MODIFIED:20240425T024755Z
UID:11171-1714003200-1714089599@dukcapil-old.slemankab.go.id
SUMMARY:Workshop PraEvaluasi SAKIP2023 Pemkab Sleman thn 2024
DESCRIPTION:08.00\nSooji meeting\nroom\nRamada by\nWyrdhan
URL:https://dukcapil-old.slemankab.go.id/event/workshop-praevaluasi-sakip2023-pemkab-sleman-thn-2024
END:VEVENT
END:VCALENDAR