BEGIN:VCALENDAR
VERSION:2.0
PRODID:-//Dinas Kependudukan dan Pencatatan Sipil Kabupaten Sleman - ECPv6.4.0//NONSGML v1.0//EN
CALSCALE:GREGORIAN
METHOD:PUBLISH
X-ORIGINAL-URL:https://dukcapil-old.slemankab.go.id
X-WR-CALDESC:Events for Dinas Kependudukan dan Pencatatan Sipil Kabupaten Sleman
REFRESH-INTERVAL;VALUE=DURATION:PT1H
X-Robots-Tag:noindex
X-PUBLISHED-TTL:PT1H
BEGIN:VTIMEZONE
TZID:Asia/Jakarta
BEGIN:STANDARD
TZOFFSETFROM:+0700
TZOFFSETTO:+0700
TZNAME:WIB
DTSTART:20240101T000000
END:STANDARD
END:VTIMEZONE
BEGIN:VEVENT
DTSTART;VALUE=DATE:20240430
DTEND;VALUE=DATE:20240501
DTSTAMP:20260424T055339
CREATED:20240430T005456Z
LAST-MODIFIED:20240430T005456Z
UID:11189-1714435200-1714521599@dukcapil-old.slemankab.go.id
SUMMARY:Kegiatan Studi Komparasi Pelayanan Adminduk Dinas Dukcapil Kab. Karanganyar
DESCRIPTION:10.00\nDukcapil Kab. Sleman
URL:https://dukcapil-old.slemankab.go.id/event/kegiatan-studi-komparasi-pelayanan-adminduk-dinas-dukcapil-kab-karanganyar
END:VEVENT
BEGIN:VEVENT
DTSTART;VALUE=DATE:20240430
DTEND;VALUE=DATE:20240501
DTSTAMP:20260424T055339
CREATED:20240430T005613Z
LAST-MODIFIED:20240430T005613Z
UID:11191-1714435200-1714521599@dukcapil-old.slemankab.go.id
SUMMARY:Workshop Posyanduk : “ DUKCAPIL PRIMAMASYARAKAT BAHAGIA
DESCRIPTION:12.30\nAula BBPPM\nKab Sleman
URL:https://dukcapil-old.slemankab.go.id/event/workshop-posyanduk-dukcapil-primamasyarakat-bahagia
END:VEVENT
BEGIN:VEVENT
DTSTART;VALUE=DATE:20240430
DTEND;VALUE=DATE:20240501
DTSTAMP:20260424T055339
CREATED:20240430T005641Z
LAST-MODIFIED:20240430T005641Z
UID:11193-1714435200-1714521599@dukcapil-old.slemankab.go.id
SUMMARY:Rapat Paripurna Penyampaian Rekomendasi DPRD terhadap LKPJ Bupati TA 2023
DESCRIPTION:13.00\nRR Paripurna\nDPRD
URL:https://dukcapil-old.slemankab.go.id/event/rapat-paripurna-penyampaian-rekomendasi-dprd-terhadap-lkpj-bupati-ta-2023
END:VEVENT
END:VCALENDAR