BEGIN:VCALENDAR
VERSION:2.0
PRODID:-//Dinas Kependudukan dan Pencatatan Sipil Kabupaten Sleman - ECPv6.4.0//NONSGML v1.0//EN
CALSCALE:GREGORIAN
METHOD:PUBLISH
X-WR-CALNAME:Dinas Kependudukan dan Pencatatan Sipil Kabupaten Sleman
X-ORIGINAL-URL:https://dukcapil-old.slemankab.go.id
X-WR-CALDESC:Events for Dinas Kependudukan dan Pencatatan Sipil Kabupaten Sleman
REFRESH-INTERVAL;VALUE=DURATION:PT1H
X-Robots-Tag:noindex
X-PUBLISHED-TTL:PT1H
BEGIN:VTIMEZONE
TZID:Asia/Jakarta
BEGIN:STANDARD
TZOFFSETFROM:+0700
TZOFFSETTO:+0700
TZNAME:WIB
DTSTART:20190101T000000
END:STANDARD
TZID:Asia/Krasnoyarsk
BEGIN:STANDARD
TZOFFSETFROM:+0700
TZOFFSETTO:+0700
TZNAME:+07
DTSTART:20180101T000000
END:STANDARD
END:VTIMEZONE
BEGIN:VEVENT
DTSTART;TZID=Asia/Jakarta:20210713T090000
DTEND;TZID=Asia/Jakarta:20210713T090000
DTSTAMP:20260424T173144
CREATED:20210202T081906Z
LAST-MODIFIED:20210202T081906Z
UID:3683-1626166800-1626166800@dukcapil-old.slemankab.go.id
SUMMARY:KEGIATAN SISIR ADMINDUK TAHUN 2021 MARGODADI SEYEGAN
DESCRIPTION:
URL:https://dukcapil-old.slemankab.go.id/event/kegiatan-sisir-adminduk-tahun-2021-margodadi-seyegan
LOCATION:Margodadi\, Seyegan
END:VEVENT
BEGIN:VEVENT
DTSTART;TZID=Asia/Jakarta:20210708T090000
DTEND;TZID=Asia/Jakarta:20210708T090000
DTSTAMP:20260424T173144
CREATED:20210202T081720Z
LAST-MODIFIED:20210202T081720Z
UID:3680-1625734800-1625734800@dukcapil-old.slemankab.go.id
SUMMARY:KEGIATAN SISIR ADMINDUK TAHUN 2021 MAGUWOHARJO DEPOK
DESCRIPTION:
URL:https://dukcapil-old.slemankab.go.id/event/kegiatan-sisir-adminduk-tahun-2021-maguwoharjo-depok
LOCATION:Maguwoharjo\, Depok
END:VEVENT
BEGIN:VEVENT
DTSTART;TZID=Asia/Jakarta:20210706T090000
DTEND;TZID=Asia/Jakarta:20210706T090000
DTSTAMP:20260424T173144
CREATED:20210202T081601Z
LAST-MODIFIED:20210202T081601Z
UID:3677-1625562000-1625562000@dukcapil-old.slemankab.go.id
SUMMARY:KEGIATAN SISIR ADMINDUK TAHUN 2021 PURWOBINANGUN PAKEM
DESCRIPTION:
URL:https://dukcapil-old.slemankab.go.id/event/kegiatan-sisir-adminduk-tahun-2021-purwobinangun-pakem
LOCATION:Purwobinangun\, Pakem
END:VEVENT
BEGIN:VEVENT
DTSTART;TZID=Asia/Jakarta:20210622T090000
DTEND;TZID=Asia/Jakarta:20210622T090000
DTSTAMP:20260424T173144
CREATED:20210202T081434Z
LAST-MODIFIED:20210202T081434Z
UID:3674-1624352400-1624352400@dukcapil-old.slemankab.go.id
SUMMARY:KEGIATAN SISIR ADMINDUK TAHUN 2021 SIDOMOYO GODEAN
DESCRIPTION:
URL:https://dukcapil-old.slemankab.go.id/event/kegiatan-sisir-adminduk-tahun-2021-sidomoyo-godean
LOCATION:Sidomoyo\, Godean
END:VEVENT
BEGIN:VEVENT
DTSTART;TZID=Asia/Jakarta:20210617T090000
DTEND;TZID=Asia/Jakarta:20210617T090000
DTSTAMP:20260424T173144
CREATED:20210202T081320Z
LAST-MODIFIED:20210202T081320Z
UID:3671-1623920400-1623920400@dukcapil-old.slemankab.go.id
SUMMARY:KEGIATAN SISIR ADMINDUK TAHUN 2021 TIRTOADI MLATI
DESCRIPTION:
URL:https://dukcapil-old.slemankab.go.id/event/kegiatan-sisir-adminduk-tahun-2021-tirtoadi-mlati
LOCATION:Tirtoadi\, Mlati
END:VEVENT
BEGIN:VEVENT
DTSTART;TZID=Asia/Jakarta:20210615T090000
DTEND;TZID=Asia/Jakarta:20210615T090000
DTSTAMP:20260424T173144
CREATED:20210202T081021Z
LAST-MODIFIED:20210202T081021Z
UID:3668-1623747600-1623747600@dukcapil-old.slemankab.go.id
SUMMARY:KEGIATAN SISIR ADMINDUK TAHUN 2021 WONOKERTO TURI
DESCRIPTION:
URL:https://dukcapil-old.slemankab.go.id/event/kegiatan-sisir-adminduk-tahun-2021-wonokerto-turi
LOCATION:Wonokerto\, Turi
END:VEVENT
BEGIN:VEVENT
DTSTART;TZID=Asia/Jakarta:20210609T090000
DTEND;TZID=Asia/Jakarta:20210609T090000
DTSTAMP:20260424T173144
CREATED:20210202T080900Z
LAST-MODIFIED:20210202T080900Z
UID:3665-1623229200-1623229200@dukcapil-old.slemankab.go.id
SUMMARY:KEGIATAN SISIR ADMINDUK TAHUN 2021 TAMANMARTANI KALASAN
DESCRIPTION:
URL:https://dukcapil-old.slemankab.go.id/event/kegiatan-sisir-adminduk-tahun-2021-tamanmartani-kalasan
LOCATION:Tamanmartani\, kalasan
END:VEVENT
BEGIN:VEVENT
DTSTART;TZID=Asia/Jakarta:20210408T090000
DTEND;TZID=Asia/Jakarta:20210408T090000
DTSTAMP:20260424T173144
CREATED:20210202T080725Z
LAST-MODIFIED:20210202T080725Z
UID:3662-1617872400-1617872400@dukcapil-old.slemankab.go.id
SUMMARY:KEGIATAN SISIR ADMINDUK TAHUN 2021 SUMBERARUM MOYUDAN
DESCRIPTION:
URL:https://dukcapil-old.slemankab.go.id/event/kegiatan-sisir-adminduk-tahun-2021-sumberarum-moyudan
LOCATION:Sumberarum\, Moyudan
END:VEVENT
BEGIN:VEVENT
DTSTART;TZID=Asia/Jakarta:20210406T090000
DTEND;TZID=Asia/Jakarta:20210406T090000
DTSTAMP:20260424T173144
CREATED:20210202T080612Z
LAST-MODIFIED:20210202T080612Z
UID:3659-1617699600-1617699600@dukcapil-old.slemankab.go.id
SUMMARY:KEGIATAN SISIR ADMINDUK TAHUN 2021 SENDANGMULYO MINGGIR
DESCRIPTION:
URL:https://dukcapil-old.slemankab.go.id/event/kegiatan-sisir-adminduk-tahun-2021-sendangmulyo-minggir
LOCATION:Sendangmulyo\, Minggir
END:VEVENT
BEGIN:VEVENT
DTSTART;TZID=Asia/Jakarta:20210325T090000
DTEND;TZID=Asia/Jakarta:20210325T090000
DTSTAMP:20260424T173144
CREATED:20210202T080448Z
LAST-MODIFIED:20210202T080448Z
UID:3656-1616662800-1616662800@dukcapil-old.slemankab.go.id
SUMMARY:KEGIATAN SISIR ADMINDUK TAHUN 2021 BIMOMARTANI NGEMPLAK
DESCRIPTION:
URL:https://dukcapil-old.slemankab.go.id/event/kegiatan-sisir-adminduk-tahun-2021-bimomartani-ngemplak
LOCATION:Bimomartani\, Ngemplak
END:VEVENT
BEGIN:VEVENT
DTSTART;TZID=Asia/Jakarta:20210323T090000
DTEND;TZID=Asia/Jakarta:20210323T090000
DTSTAMP:20260424T173144
CREATED:20210202T075701Z
LAST-MODIFIED:20210202T075701Z
UID:3651-1616490000-1616490000@dukcapil-old.slemankab.go.id
SUMMARY:KEGIATAN SISIR ADMINDUK TAHUN 2021 TRIDADI SLEMAN
DESCRIPTION:
URL:https://dukcapil-old.slemankab.go.id/event/kegiatan-sisir-adminduk-tahun-2021-tridadi-sleman
LOCATION:Tridadi\, Sleman
END:VEVENT
BEGIN:VEVENT
DTSTART;TZID=Asia/Jakarta:20210318T090000
DTEND;TZID=Asia/Jakarta:20210318T090000
DTSTAMP:20260424T173144
CREATED:20210202T075419Z
LAST-MODIFIED:20210202T080303Z
UID:3648-1616058000-1616058000@dukcapil-old.slemankab.go.id
SUMMARY:KEGIATAN SISIR ADMINDUK TAHUN 2021 SARIHARJO NGAGLIK
DESCRIPTION:
URL:https://dukcapil-old.slemankab.go.id/event/kegiatan-sisir-adminduk-tahun-2021-sariharjo-ngaglik
LOCATION:Sariharjo\, Ngaglik
END:VEVENT
BEGIN:VEVENT
DTSTART;TZID=Asia/Jakarta:20210316T090000
DTEND;TZID=Asia/Jakarta:20210316T090000
DTSTAMP:20260424T173144
CREATED:20210202T075210Z
LAST-MODIFIED:20210202T080237Z
UID:3645-1615885200-1615885200@dukcapil-old.slemankab.go.id
SUMMARY:KEGIATAN SISIR ADMINDUK TAHUN 2021 BALECATUR GAMPING
DESCRIPTION:
URL:https://dukcapil-old.slemankab.go.id/event/kegiatan-sisir-adminduk-tahun-2021-balecatur-gamping
LOCATION:Balecatur\, Gamping
END:VEVENT
BEGIN:VEVENT
DTSTART;TZID=Asia/Jakarta:20210309T090000
DTEND;TZID=Asia/Jakarta:20210309T090000
DTSTAMP:20260424T173144
CREATED:20210202T075054Z
LAST-MODIFIED:20210202T080200Z
UID:3642-1615280400-1615280400@dukcapil-old.slemankab.go.id
SUMMARY:KEGIATAN SISIR ADMINDUK TAHUN 2021 JOGOTIRTO BERBAH
DESCRIPTION:
URL:https://dukcapil-old.slemankab.go.id/event/kegiatan-sisir-adminduk-tahun-2021-jogotirto-berbah
LOCATION:Jogotirto\, Berbah
END:VEVENT
BEGIN:VEVENT
DTSTART;TZID=Asia/Jakarta:20210223T090000
DTEND;TZID=Asia/Jakarta:20210223T090000
DTSTAMP:20260424T173144
CREATED:20210202T074918Z
LAST-MODIFIED:20210202T080124Z
UID:3639-1614070800-1614070800@dukcapil-old.slemankab.go.id
SUMMARY:KEGIATAN SISIR ADMINDUK TAHUN 2021 GAYAMHARJO PRAMBANAN
DESCRIPTION:
URL:https://dukcapil-old.slemankab.go.id/event/kegiatan-sisir-adminduk-tahun-2021-gayamharjo-prambanan
LOCATION:Gayamharjo\, Prambanan
END:VEVENT
BEGIN:VEVENT
DTSTART;TZID=Asia/Jakarta:20210216T090000
DTEND;TZID=Asia/Jakarta:20210216T090000
DTSTAMP:20260424T173144
CREATED:20210202T074749Z
LAST-MODIFIED:20210202T080045Z
UID:3637-1613466000-1613466000@dukcapil-old.slemankab.go.id
SUMMARY:KEGIATAN SISIR ADMINDUK TAHUN 2021 ARGOMULYO CANGKRINGAN
DESCRIPTION:
URL:https://dukcapil-old.slemankab.go.id/event/kegiatan-sisir-adminduk-tahun-2021-argomulyo-cangkringan
END:VEVENT
BEGIN:VEVENT
DTSTART;TZID=Asia/Jakarta:20210210T090000
DTEND;TZID=Asia/Jakarta:20210210T090000
DTSTAMP:20260424T173144
CREATED:20210202T073750Z
LAST-MODIFIED:20210202T075929Z
UID:3630-1612947600-1612947600@dukcapil-old.slemankab.go.id
SUMMARY:KEGIATAN SISIR ADMINDUK TAHUN 2021 MARGOREJO TEMPEL
DESCRIPTION:
URL:https://dukcapil-old.slemankab.go.id/event/kegiatan-sisir-adminduk-tahun-2021
LOCATION:Margorejo\, Tempel
END:VEVENT
BEGIN:VEVENT
DTSTART;TZID=Asia/Jakarta:20200806T080000
DTEND;TZID=Asia/Jakarta:20200806T170000
DTSTAMP:20260424T173144
CREATED:20200806T035505Z
LAST-MODIFIED:20200806T035505Z
UID:3272-1596700800-1596733200@dukcapil-old.slemankab.go.id
SUMMARY:Bintek PPID dan Web
DESCRIPTION:
URL:https://dukcapil-old.slemankab.go.id/event/bintek-ppid-dan-web
END:VEVENT
BEGIN:VEVENT
DTSTART;TZID=Asia/Jakarta:20200326T080000
DTEND;TZID=Asia/Jakarta:20200326T120000
DTSTAMP:20260424T173144
CREATED:20200303T031612Z
LAST-MODIFIED:20200303T031756Z
UID:2864-1585209600-1585224000@dukcapil-old.slemankab.go.id
SUMMARY:Sisir Adminduk di Balai Desa Sumbersari Kecamatan Moyudan
DESCRIPTION:Manfaatkan kesempatan SISIR ADMINDUK untuk perekaman KTP el bagi penduduk setempat yang belum memiliki KTP el
URL:https://dukcapil-old.slemankab.go.id/event/sisir-adminduk-di-balai-desa-sumbersari-kecamatan-moyudan
ATTACH;FMTTYPE=image/jpeg:https://dukcapil-old.slemankab.go.id/wp-content/uploads/2020/03/rekam-sinduharjo.jpg
END:VEVENT
BEGIN:VEVENT
DTSTART;TZID=Asia/Jakarta:20200311T090000
DTEND;TZID=Asia/Jakarta:20200311T120000
DTSTAMP:20260424T173144
CREATED:20200303T032305Z
LAST-MODIFIED:20200303T032305Z
UID:2867-1583917200-1583928000@dukcapil-old.slemankab.go.id
SUMMARY:Sisir Adminduk di Balai Desa Girikerto Kecamatan Turi
DESCRIPTION:
URL:https://dukcapil-old.slemankab.go.id/event/sisir-adminduk-di-balai-desa-girikerto-kecamatan-turi
END:VEVENT
BEGIN:VEVENT
DTSTART;TZID=Asia/Jakarta:20200310T090000
DTEND;TZID=Asia/Jakarta:20200310T120000
DTSTAMP:20260424T173144
CREATED:20200303T033018Z
LAST-MODIFIED:20200303T033018Z
UID:2873-1583830800-1583841600@dukcapil-old.slemankab.go.id
SUMMARY:SISIR ADMINDUK di Balai Desa Ambarketawang kec Gamping
DESCRIPTION:
URL:https://dukcapil-old.slemankab.go.id/event/sisir-adminduk-di-balai-desa-ambarketawang-kec-gamping
END:VEVENT
BEGIN:VEVENT
DTSTART;TZID=Asia/Jakarta:20200305T090000
DTEND;TZID=Asia/Jakarta:20200305T120000
DTSTAMP:20260424T173144
CREATED:20200303T032834Z
LAST-MODIFIED:20200303T032834Z
UID:2871-1583398800-1583409600@dukcapil-old.slemankab.go.id
SUMMARY:SISIR ADMINDUK di balai desa Sambirejo kecamatan Prambanan
DESCRIPTION:
URL:https://dukcapil-old.slemankab.go.id/event/sisir-adminduk-di-balai-desa-sambirejo-kecamatan-prambanan
END:VEVENT
BEGIN:VEVENT
DTSTART;TZID=Asia/Jakarta:20200304T090000
DTEND;TZID=Asia/Jakarta:20200304T120000
DTSTAMP:20260424T173144
CREATED:20200303T032505Z
LAST-MODIFIED:20200303T032505Z
UID:2869-1583312400-1583323200@dukcapil-old.slemankab.go.id
SUMMARY:SISIR ADMINDUK di Balai Desa Candibinangun kec Pakem
DESCRIPTION:
URL:https://dukcapil-old.slemankab.go.id/event/sisir-adminduk-di-balai-desa-candibinangun-kec-pakem
END:VEVENT
BEGIN:VEVENT
DTSTART;TZID=Asia/Jakarta:20191022T090000
DTEND;TZID=Asia/Jakarta:20191023T150000
DTSTAMP:20260424T173144
CREATED:20191021T050104Z
LAST-MODIFIED:20191021T050113Z
UID:2628-1571734800-1571842800@dukcapil-old.slemankab.go.id
SUMMARY:Pelayanan Terpadu KTP-el
DESCRIPTION:
URL:https://dukcapil-old.slemankab.go.id/event/pelayanan-terpadu-ktp-el
LOCATION:Bangsal Wiyata Praja\, Kepatihan\, Yogyakarta\, Yogyakarta\, Daerah Istimewa yogyakarta\, Indonesia
ATTACH;FMTTYPE=image/jpeg:https://dukcapil-old.slemankab.go.id/wp-content/uploads/2019/10/EHUc2exU4AAPn7m.jpg
END:VEVENT
BEGIN:VEVENT
DTSTART;TZID=Asia/Jakarta:20190911T130000
DTEND;TZID=Asia/Jakarta:20190911T180000
DTSTAMP:20260424T173144
CREATED:20190910T080235Z
LAST-MODIFIED:20190910T080235Z
UID:2544-1568206800-1568224800@dukcapil-old.slemankab.go.id
SUMMARY:
DESCRIPTION:
URL:https://dukcapil-old.slemankab.go.id/event/2544
ATTACH;FMTTYPE=image/jpeg:https://dukcapil-old.slemankab.go.id/wp-content/uploads/2019/09/EDliVXPU0AAenIo.jpg
END:VEVENT
BEGIN:VEVENT
DTSTART;TZID=Asia/Krasnoyarsk:20190130T100000
DTEND;TZID=Asia/Krasnoyarsk:20190130T130000
DTSTAMP:20260424T173144
CREATED:20190131T034128Z
LAST-MODIFIED:20190131T034128Z
UID:2129-1548842400-1548853200@dukcapil-old.slemankab.go.id
SUMMARY:Jemput Bola rekam KTPel MAN 4 Sleman
DESCRIPTION:
URL:https://dukcapil-old.slemankab.go.id/event/jemput-bola-rekam-ktpel-man-4-sleman
ATTACH;FMTTYPE=image/jpeg:https://dukcapil-old.slemankab.go.id/wp-content/uploads/2019/01/WhatsApp-Image-2019-01-30-at-10.54.49.jpeg
END:VEVENT
BEGIN:VEVENT
DTSTART;TZID=Asia/Krasnoyarsk:20190129T100000
DTEND;TZID=Asia/Krasnoyarsk:20190129T130000
DTSTAMP:20260424T173144
CREATED:20190129T075012Z
LAST-MODIFIED:20190129T075012Z
UID:2114-1548756000-1548766800@dukcapil-old.slemankab.go.id
SUMMARY:Jemput bola perekaman KTPel di Desa Sumberharjo
DESCRIPTION:
URL:https://dukcapil-old.slemankab.go.id/event/jemput-bola-perekaman-ktpel-di-desa-sumberharjo
ATTACH;FMTTYPE=image/jpeg:https://dukcapil-old.slemankab.go.id/wp-content/uploads/2019/01/WhatsApp-Image-2019-01-29-at-10.54.08.jpeg
END:VEVENT
BEGIN:VEVENT
DTSTART;TZID=Asia/Krasnoyarsk:20190128T100000
DTEND;TZID=Asia/Krasnoyarsk:20190128T130000
DTSTAMP:20260424T173144
CREATED:20190129T075207Z
LAST-MODIFIED:20190129T075235Z
UID:2118-1548669600-1548680400@dukcapil-old.slemankab.go.id
SUMMARY:Jemput Bola rekam KTPel di Desa Madurejo
DESCRIPTION:
URL:https://dukcapil-old.slemankab.go.id/event/jemput-bola-rekam-ktpel-di-desa-madurejo
ATTACH;FMTTYPE=image/jpeg:https://dukcapil-old.slemankab.go.id/wp-content/uploads/2019/01/WhatsApp-Image-2019-01-28-at-13.58.05.jpeg
END:VEVENT
BEGIN:VEVENT
DTSTART;TZID=Asia/Krasnoyarsk:20190124T100000
DTEND;TZID=Asia/Krasnoyarsk:20190124T130000
DTSTAMP:20260424T173144
CREATED:20190129T075447Z
LAST-MODIFIED:20190129T075447Z
UID:2123-1548324000-1548334800@dukcapil-old.slemankab.go.id
SUMMARY:Jemput Bola rekam KTPel di Desa Wukirharjo
DESCRIPTION:
URL:https://dukcapil-old.slemankab.go.id/event/jemput-bola-rekam-ktpel-di-desa-wukirharjo
ATTACH;FMTTYPE=image/jpeg:https://dukcapil-old.slemankab.go.id/wp-content/uploads/2019/01/WhatsApp-Image-2019-01-24-at-11.24.29.jpeg
END:VEVENT
BEGIN:VEVENT
DTSTART;VALUE=DATE:20181213
DTEND;VALUE=DATE:20181214
DTSTAMP:20260424T173144
CREATED:20181218T033329Z
LAST-MODIFIED:20181218T033329Z
UID:2010-1544659200-1544745599@dukcapil-old.slemankab.go.id
SUMMARY:Kamis Pahing
DESCRIPTION:
URL:https://dukcapil-old.slemankab.go.id/event/kamis-pahing
END:VEVENT
END:VCALENDAR