BEGIN:VCALENDAR
VERSION:2.0
PRODID:-//Dinas Kependudukan dan Pencatatan Sipil Kabupaten Sleman - ECPv6.4.0//NONSGML v1.0//EN
CALSCALE:GREGORIAN
METHOD:PUBLISH
X-WR-CALNAME:Dinas Kependudukan dan Pencatatan Sipil Kabupaten Sleman
X-ORIGINAL-URL:https://dukcapil-old.slemankab.go.id
X-WR-CALDESC:Events for Dinas Kependudukan dan Pencatatan Sipil Kabupaten Sleman
REFRESH-INTERVAL;VALUE=DURATION:PT1H
X-Robots-Tag:noindex
X-PUBLISHED-TTL:PT1H
BEGIN:VTIMEZONE
TZID:Asia/Jakarta
BEGIN:STANDARD
TZOFFSETFROM:+0700
TZOFFSETTO:+0700
TZNAME:WIB
DTSTART:20230101T000000
END:STANDARD
END:VTIMEZONE
BEGIN:VEVENT
DTSTART;VALUE=DATE:20231201
DTEND;VALUE=DATE:20231202
DTSTAMP:20260424T165604
CREATED:20231201T014347Z
LAST-MODIFIED:20231201T014347Z
UID:10129-1701388800-1701475199@dukcapil-old.slemankab.go.id
SUMMARY:Rapat Koordinasi Seleksi Anugerah ASN2023
DESCRIPTION:13.00\nR R Arjuna Lt 2\nBKPP
URL:https://dukcapil-old.slemankab.go.id/event/rapat-koordinasi-seleksi-anugerah-asn2023
END:VEVENT
BEGIN:VEVENT
DTSTART;VALUE=DATE:20231201
DTEND;VALUE=DATE:20231202
DTSTAMP:20260424T165604
CREATED:20231201T014306Z
LAST-MODIFIED:20231201T014306Z
UID:10127-1701388800-1701475199@dukcapil-old.slemankab.go.id
SUMMARY:Rapat Koordinasi Lanjutan Membahas Pelepasan Asisten 1
DESCRIPTION:13.00\nR R Merti Bumi\nDinas Pertaru\nSleman
URL:https://dukcapil-old.slemankab.go.id/event/rapat-koordinasi-lanjutan-membahas-pelepasan-asisten-1
END:VEVENT
BEGIN:VEVENT
DTSTART;VALUE=DATE:20231130
DTEND;VALUE=DATE:20231201
DTSTAMP:20260424T165604
CREATED:20231130T012105Z
LAST-MODIFIED:20231130T012105Z
UID:10125-1701302400-1701388799@dukcapil-old.slemankab.go.id
SUMMARY:Lauching Buletin Literasia dan BuletinArsip
DESCRIPTION:09.00\nR R Widya\nPustaka
URL:https://dukcapil-old.slemankab.go.id/event/lauching-buletin-literasia-dan-buletinarsip
END:VEVENT
BEGIN:VEVENT
DTSTART;VALUE=DATE:20231130
DTEND;VALUE=DATE:20231201
DTSTAMP:20260424T165604
CREATED:20231130T012040Z
LAST-MODIFIED:20231130T012040Z
UID:10123-1701302400-1701388799@dukcapil-old.slemankab.go.id
SUMMARY:Penyerahan Sertifikat HKI Bagi UMKMYang telah Difasilitasi dan Sosialisasi HKI
DESCRIPTION:08.30\nAula Pangripta\nBappeda
URL:https://dukcapil-old.slemankab.go.id/event/penyerahan-sertifikat-hki-bagi-umkmyang-telah-difasilitasi-dan-sosialisasi-hki
END:VEVENT
BEGIN:VEVENT
DTSTART;VALUE=DATE:20231129
DTEND;VALUE=DATE:20231130
DTSTAMP:20260424T165604
CREATED:20231129T013534Z
LAST-MODIFIED:20231129T013534Z
UID:10097-1701216000-1701302399@dukcapil-old.slemankab.go.id
SUMMARY:Desk Data Non ASN Pemerintah Kabupaten Sleman
DESCRIPTION:10.00\nR.R Bima Lantai\nlll\nBKPP
URL:https://dukcapil-old.slemankab.go.id/event/desk-data-non-asn-pemerintah-kabupaten-sleman
END:VEVENT
BEGIN:VEVENT
DTSTART;VALUE=DATE:20231129
DTEND;VALUE=DATE:20231130
DTSTAMP:20260424T165604
CREATED:20231129T013511Z
LAST-MODIFIED:20231129T013511Z
UID:10095-1701216000-1701302399@dukcapil-old.slemankab.go.id
SUMMARY:Studi Banding Universal health Coverage(UHK) 29-30 Nov 2023\, Ke Dinas Kesehatan Kota Bandung
DESCRIPTION:Dinas\nKesehatan Kab\nSleman
URL:https://dukcapil-old.slemankab.go.id/event/studi-banding-universal-health-coverageuhk-29-30-nov-2023-ke-dinas-kesehatan-kota-bandung
END:VEVENT
BEGIN:VEVENT
DTSTART;VALUE=DATE:20231128
DTEND;VALUE=DATE:20231129
DTSTAMP:20260424T165604
CREATED:20231128T011540Z
LAST-MODIFIED:20231128T011540Z
UID:10089-1701129600-1701215999@dukcapil-old.slemankab.go.id
SUMMARY:Tindak Lanjut Permasalahan PencapaianTarget Standar Pelayanan Minimal (SPM) Pekerjaan Umum Kab/Kota se-DIY
DESCRIPTION:09.00\nR.R Dharma\nPraja L.t 3 Biro\nTapem Setda\nDIY
URL:https://dukcapil-old.slemankab.go.id/event/tindak-lanjut-permasalahan-pencapaiantarget-standar-pelayanan-minimal-spm-pekerjaan-umum-kab-kota-se-diy
END:VEVENT
BEGIN:VEVENT
DTSTART;VALUE=DATE:20231128
DTEND;VALUE=DATE:20231129
DTSTAMP:20260424T165604
CREATED:20231128T011450Z
LAST-MODIFIED:20231128T011450Z
UID:10087-1701129600-1701215999@dukcapil-old.slemankab.go.id
SUMMARY:Rapat Koordinasi Persiapan Laporan Kinerja Instansi Pemerintah Tahun 2023 Tingkat Perangkat Daerah
DESCRIPTION:08.00\nAsram Edupark\nKapanewon\nMlati Kab\nSleman
URL:https://dukcapil-old.slemankab.go.id/event/rapat-koordinasi-persiapan-laporan-kinerja-instansi-pemerintah-tahun-2023-tingkat-perangkat-daerah
END:VEVENT
BEGIN:VEVENT
DTSTART;VALUE=DATE:20231127
DTEND;VALUE=DATE:20231128
DTSTAMP:20260424T165604
CREATED:20231127T005834Z
LAST-MODIFIED:20231127T005834Z
UID:10082-1701043200-1701129599@dukcapil-old.slemankab.go.id
SUMMARY:Seminar Pendidikan Tema Nguri-uri Memetri Wiji Menuju Pendidikan berkualitas
DESCRIPTION:12.00\nMerapi Ballroom\nHotel Prima SR
URL:https://dukcapil-old.slemankab.go.id/event/seminar-pendidikan-tema-nguri-uri-memetri-wiji-menuju-pendidikan-berkualitas
END:VEVENT
BEGIN:VEVENT
DTSTART;VALUE=DATE:20231127
DTEND;VALUE=DATE:20231128
DTSTAMP:20260424T165604
CREATED:20231127T005809Z
LAST-MODIFIED:20231127T005809Z
UID:10080-1701043200-1701129599@dukcapil-old.slemankab.go.id
SUMMARY:Exit Meeting Pengawasan Umumdan Pengawasan Teknis Tahun 2023 oleh Inspektorat DIY
DESCRIPTION:10.00\nRuang Rapat\nInspektorat Kab\nSleman
URL:https://dukcapil-old.slemankab.go.id/event/exit-meeting-pengawasan-umumdan-pengawasan-teknis-tahun-2023-oleh-inspektorat-diy
END:VEVENT
BEGIN:VEVENT
DTSTART;VALUE=DATE:20231127
DTEND;VALUE=DATE:20231128
DTSTAMP:20260424T165604
CREATED:20231127T005730Z
LAST-MODIFIED:20231127T005730Z
UID:10078-1701043200-1701129599@dukcapil-old.slemankab.go.id
SUMMARY:Rapat Koordinasi Penyusunan LaporanGNRM Tahun 2023
DESCRIPTION:09.00\nAula Lantai III\nSetda Kab\nSleman
URL:https://dukcapil-old.slemankab.go.id/event/rapat-koordinasi-penyusunan-laporangnrm-tahun-2023
END:VEVENT
BEGIN:VEVENT
DTSTART;VALUE=DATE:20231124
DTEND;VALUE=DATE:20231125
DTSTAMP:20260424T165604
CREATED:20231124T013815Z
LAST-MODIFIED:20231124T013815Z
UID:10076-1700784000-1700870399@dukcapil-old.slemankab.go.id
SUMMARY:Rapat Koordinasi Membahas Pelepasan Asisten 1
DESCRIPTION:13.00\nR.R Sarpol PP\nSleman
URL:https://dukcapil-old.slemankab.go.id/event/rapat-koordinasi-membahas-pelepasan-asisten-1
END:VEVENT
BEGIN:VEVENT
DTSTART;VALUE=DATE:20231124
DTEND;VALUE=DATE:20231125
DTSTAMP:20260424T165604
CREATED:20231124T013751Z
LAST-MODIFIED:20231124T013751Z
UID:10073-1700784000-1700870399@dukcapil-old.slemankab.go.id
SUMMARY:osialisasi Draft Kamus Pokok pokok Pikiran DPRD untuk Perencanaan Tahun 2025
DESCRIPTION:13.00\nRuang Aula\nPangripta\nBappeda\nSleman
URL:https://dukcapil-old.slemankab.go.id/event/osialisasi-draft-kamus-pokok-pokok-pikiran-dprd-untuk-perencanaan-tahun-2025
END:VEVENT
BEGIN:VEVENT
DTSTART;VALUE=DATE:20231123
DTEND;VALUE=DATE:20231124
DTSTAMP:20260424T165604
CREATED:20231123T033530Z
LAST-MODIFIED:20231123T033530Z
UID:10070-1700697600-1700783999@dukcapil-old.slemankab.go.id
SUMMARY:Narasumber Pembinaan Tertib Administrasi Kalurahan Percontohan Tahun 2023
DESCRIPTION:09.00\nBalai Kalurahan\nArgomulyo\nKapanewon\nCangkringan
URL:https://dukcapil-old.slemankab.go.id/event/narasumber-pembinaan-tertib-administrasi-kalurahan-percontohan-tahun-2023
END:VEVENT
BEGIN:VEVENT
DTSTART;VALUE=DATE:20231123
DTEND;VALUE=DATE:20231124
DTSTAMP:20260424T165604
CREATED:20231123T033507Z
LAST-MODIFIED:20231123T033507Z
UID:10068-1700697600-1700783999@dukcapil-old.slemankab.go.id
SUMMARY:Customer Gathering logistics Day di Bogor\,Denpasar\,Makassar\,Medan\,bandung dan Semarang
DESCRIPTION:08.30\nRoyal\nAmbarukmo
URL:https://dukcapil-old.slemankab.go.id/event/customer-gathering-logistics-day-di-bogordenpasarmakassarmedanbandung-dan-semarang
END:VEVENT
BEGIN:VEVENT
DTSTART;VALUE=DATE:20231123
DTEND;VALUE=DATE:20231124
DTSTAMP:20260424T165604
CREATED:20231123T033441Z
LAST-MODIFIED:20231123T033441Z
UID:10066-1700697600-1700783999@dukcapil-old.slemankab.go.id
SUMMARY:FGD Proyeksi Penduduk Kab Sleman s.d Tahun 2045
DESCRIPTION:08.00\nR.R Gambuh\nBappeda Kab\nSleman
URL:https://dukcapil-old.slemankab.go.id/event/fgd-proyeksi-penduduk-kab-sleman-s-d-tahun-2045
END:VEVENT
BEGIN:VEVENT
DTSTART;VALUE=DATE:20231122
DTEND;VALUE=DATE:20231123
DTSTAMP:20260424T165604
CREATED:20231122T014403Z
LAST-MODIFIED:20231122T014403Z
UID:10061-1700611200-1700697599@dukcapil-old.slemankab.go.id
SUMMARY:FGD Monitoring dan Evaluasi KegiatanTahun 2023 sebagai bahan MasukanRKPD Tahun 2025
DESCRIPTION:09.00\nR.R Kinanthi\nBappeda
URL:https://dukcapil-old.slemankab.go.id/event/fgd-monitoring-dan-evaluasi-kegiatantahun-2023-sebagai-bahan-masukanrkpd-tahun-2025
END:VEVENT
BEGIN:VEVENT
DTSTART;VALUE=DATE:20231122
DTEND;VALUE=DATE:20231123
DTSTAMP:20260424T165604
CREATED:20231122T014338Z
LAST-MODIFIED:20231122T014338Z
UID:10059-1700611200-1700697599@dukcapil-old.slemankab.go.id
SUMMARY:Pelayanan Jemput Bola Adminduk Perekaman ktp e\, IKD\,Pemutakhiran KK\,Akte Kelahiran Akte Kematian
DESCRIPTION:09.00\nRumah Dukuh\nMlati Dukuh\nSendangadi\nMlati Sleman
URL:https://dukcapil-old.slemankab.go.id/event/pelayanan-jemput-bola-adminduk-perekaman-ktp-e-ikdpemutakhiran-kkakte-kelahiran-akte-kematian
END:VEVENT
BEGIN:VEVENT
DTSTART;VALUE=DATE:20231122
DTEND;VALUE=DATE:20231123
DTSTAMP:20260424T165604
CREATED:20231122T014309Z
LAST-MODIFIED:20231122T014309Z
UID:10057-1700611200-1700697599@dukcapil-old.slemankab.go.id
SUMMARY:Monev Kegiatan Statistik Perangkat Daerah
DESCRIPTION:08.30\nSmart Room Lt\n3 Diskominfo
URL:https://dukcapil-old.slemankab.go.id/event/monev-kegiatan-statistik-perangkat-daerah
END:VEVENT
BEGIN:VEVENT
DTSTART;VALUE=DATE:20231121
DTEND;VALUE=DATE:20231122
DTSTAMP:20260424T165604
CREATED:20231121T012213Z
LAST-MODIFIED:20231121T012213Z
UID:10038-1700524800-1700611199@dukcapil-old.slemankab.go.id
SUMMARY:Narasumber Bimbingan Teknis bagi Dukuh di Awal Masa Tugas
DESCRIPTION:10.00\nRR Op Room\nDinas PMK
URL:https://dukcapil-old.slemankab.go.id/event/narasumber-bimbingan-teknis-bagi-dukuh-di-awal-masa-tugas
END:VEVENT
BEGIN:VEVENT
DTSTART;VALUE=DATE:20231121
DTEND;VALUE=DATE:20231122
DTSTAMP:20260424T165604
CREATED:20231121T012136Z
LAST-MODIFIED:20231121T012136Z
UID:10036-1700524800-1700611199@dukcapil-old.slemankab.go.id
SUMMARY:Rapat Koordinasi Evaluasi Kenaikan Pangkat Periode Oktober 2023 dan Persiapan Kenaikan Pangkat PeriodeFebruari 2024
DESCRIPTION:09.00\nRR Bima Lantai\n3 BKPP kab\nSleman
URL:https://dukcapil-old.slemankab.go.id/event/rapat-koordinasi-evaluasi-kenaikan-pangkat-periode-oktober-2023-dan-persiapan-kenaikan-pangkat-periodefebruari-2024
END:VEVENT
BEGIN:VEVENT
DTSTART;VALUE=DATE:20231121
DTEND;VALUE=DATE:20231122
DTSTAMP:20260424T165604
CREATED:20231121T012055Z
LAST-MODIFIED:20231121T012055Z
UID:10034-1700524800-1700611199@dukcapil-old.slemankab.go.id
SUMMARY:Koordinasi Monitoring Evaluasi Pelaksanaan Reformasi Birokrasi Tingkat Perangkat Daerah Th 2023
DESCRIPTION:08.00\nHeha Forest\nHargobinangun\nPakem
URL:https://dukcapil-old.slemankab.go.id/event/koordinasi-monitoring-evaluasi-pelaksanaan-reformasi-birokrasi-tingkat-perangkat-daerah-th-2023
END:VEVENT
BEGIN:VEVENT
DTSTART;VALUE=DATE:20231120
DTEND;VALUE=DATE:20231121
DTSTAMP:20260424T165604
CREATED:20231120T011000Z
LAST-MODIFIED:20231120T011000Z
UID:10031-1700438400-1700524799@dukcapil-old.slemankab.go.id
SUMMARY:Rapat Koordinasi Pengelolaan TPPTh2023 dalam rangka Persiapan PencairanTPP Bulan November 2023
DESCRIPTION:13.00\nRR Bima\nBKPP Kab\nSleman
URL:https://dukcapil-old.slemankab.go.id/event/rapat-koordinasi-pengelolaan-tppth2023-dalam-rangka-persiapan-pencairantpp-bulan-november-2023
END:VEVENT
BEGIN:VEVENT
DTSTART;VALUE=DATE:20231120
DTEND;VALUE=DATE:20231121
DTSTAMP:20260424T165604
CREATED:20231120T010936Z
LAST-MODIFIED:20231120T010936Z
UID:10029-1700438400-1700524799@dukcapil-old.slemankab.go.id
SUMMARY:Workshop Peningkatan Kepemilikan Dokumen Kependudukan pada siswaPAUD di Kab Sleman
DESCRIPTION:13.00\nPendopo\nRumah Dinas\nBupat
URL:https://dukcapil-old.slemankab.go.id/event/workshop-peningkatan-kepemilikan-dokumen-kependudukan-pada-siswapaud-di-kab-sleman
END:VEVENT
BEGIN:VEVENT
DTSTART;VALUE=DATE:20231120
DTEND;VALUE=DATE:20231121
DTSTAMP:20260424T165604
CREATED:20231120T010913Z
LAST-MODIFIED:20231120T010913Z
UID:10027-1700438400-1700524799@dukcapil-old.slemankab.go.id
SUMMARY:Narasumber Sharing Alumni Fresh Graduate Transisi Kehidupan Pasca Wisuda
DESCRIPTION:09.30\nR Auditorium\nMerapi Gedung\nA Lt 1 Fakultas\nGeografi
URL:https://dukcapil-old.slemankab.go.id/event/narasumber-sharing-alumni-fresh-graduate-transisi-kehidupan-pasca-wisuda
END:VEVENT
BEGIN:VEVENT
DTSTART;VALUE=DATE:20231117
DTEND;VALUE=DATE:20231118
DTSTAMP:20260424T165604
CREATED:20231117T031938Z
LAST-MODIFIED:20231117T031938Z
UID:10025-1700179200-1700265599@dukcapil-old.slemankab.go.id
SUMMARY:Pembinaan Pelayanan Pembaharuan KKdan Penggunaan Printer KTP-el bagi Operator SIAK di Kapanewon
DESCRIPTION:13.00\nAyem- Ayem\nCoffee
URL:https://dukcapil-old.slemankab.go.id/event/pembinaan-pelayanan-pembaharuan-kkdan-penggunaan-printer-ktp-el-bagi-operator-siak-di-kapanewon
END:VEVENT
BEGIN:VEVENT
DTSTART;VALUE=DATE:20231117
DTEND;VALUE=DATE:20231118
DTSTAMP:20260424T165604
CREATED:20231117T031913Z
LAST-MODIFIED:20231117T031913Z
UID:10023-1700179200-1700265599@dukcapil-old.slemankab.go.id
SUMMARY:Rapat Koordinasi Persiapan PelaksanaanPenilaian Visitasi Evaluasi SistemPemerintahan Berbasis Elektronik (SPBE) Th 2023 Pemkab Sleman
DESCRIPTION:09.00\nSleman Smart\nRoom\, Lantai 3\nDinas Kominfo
URL:https://dukcapil-old.slemankab.go.id/event/rapat-koordinasi-persiapan-pelaksanaanpenilaian-visitasi-evaluasi-sistempemerintahan-berbasis-elektronik-spbe-th-2023-pemkab-sleman
END:VEVENT
BEGIN:VEVENT
DTSTART;VALUE=DATE:20231117
DTEND;VALUE=DATE:20231118
DTSTAMP:20260424T165604
CREATED:20231117T031850Z
LAST-MODIFIED:20231117T031850Z
UID:10021-1700179200-1700265599@dukcapil-old.slemankab.go.id
SUMMARY:Penerimaan Kunjungan Koordinasi danKonsultasi DP KORPRI Kota Balikpapan
DESCRIPTION:08.30\nRuang\nSembada\nKantor Bupati\nSleman
URL:https://dukcapil-old.slemankab.go.id/event/penerimaan-kunjungan-koordinasi-dankonsultasi-dp-korpri-kota-balikpapan
END:VEVENT
BEGIN:VEVENT
DTSTART;VALUE=DATE:20231116
DTEND;VALUE=DATE:20231117
DTSTAMP:20260424T165604
CREATED:20231116T004232Z
LAST-MODIFIED:20231116T004232Z
UID:10012-1700092800-1700179199@dukcapil-old.slemankab.go.id
SUMMARY:Koordinasi dan Diskusi Pengangkatan Anak\, Pengakuan Anak\, Pengesahan Anak\, Dispensasi Kawin\, Itsbat Nikah DLL
DESCRIPTION:12.30\nRR Dinas\nDukcapil
URL:https://dukcapil-old.slemankab.go.id/event/koordinasi-dan-diskusi-pengangkatan-anak-pengakuan-anak-pengesahan-anak-dispensasi-kawin-itsbat-nikah-dll
END:VEVENT
BEGIN:VEVENT
DTSTART;VALUE=DATE:20231116
DTEND;VALUE=DATE:20231117
DTSTAMP:20260424T165604
CREATED:20231116T004207Z
LAST-MODIFIED:20231116T004207Z
UID:10010-1700092800-1700179199@dukcapil-old.slemankab.go.id
SUMMARY:Pembinaan Kader GISA dalamupayaWujudkan Tertib Adminduk
DESCRIPTION:09.30\nGedung Sasana\nAnglocitama\nKapanewon\nDepok
URL:https://dukcapil-old.slemankab.go.id/event/pembinaan-kader-gisa-dalamupayawujudkan-tertib-adminduk
END:VEVENT
END:VCALENDAR