BEGIN:VCALENDAR
VERSION:2.0
PRODID:-//Dinas Kependudukan dan Pencatatan Sipil Kabupaten Sleman - ECPv6.4.0//NONSGML v1.0//EN
CALSCALE:GREGORIAN
METHOD:PUBLISH
X-WR-CALNAME:Dinas Kependudukan dan Pencatatan Sipil Kabupaten Sleman
X-ORIGINAL-URL:https://dukcapil-old.slemankab.go.id
X-WR-CALDESC:Events for Dinas Kependudukan dan Pencatatan Sipil Kabupaten Sleman
REFRESH-INTERVAL;VALUE=DURATION:PT1H
X-Robots-Tag:noindex
X-PUBLISHED-TTL:PT1H
BEGIN:VTIMEZONE
TZID:Asia/Jakarta
BEGIN:STANDARD
TZOFFSETFROM:+0700
TZOFFSETTO:+0700
TZNAME:WIB
DTSTART:20220101T000000
END:STANDARD
END:VTIMEZONE
BEGIN:VEVENT
DTSTART;VALUE=DATE:20220126
DTEND;VALUE=DATE:20220127
DTSTAMP:20260424T060800
CREATED:20220127T023321Z
LAST-MODIFIED:20220127T025910Z
UID:4301-1643155200-1643241599@dukcapil-old.slemankab.go.id
SUMMARY:Jemput Bola Permohonan Akte Kelahiran dan Akte Kematian
DESCRIPTION:
URL:https://dukcapil-old.slemankab.go.id/event/pelatihan-teknis-operator-sp4n-lapor
LOCATION:Pendopo Kapanewon Tempel\, Jl. Tempel\, Tempel\, Lumbungrejo\, Sleman\, Yogyakarta\, 55552
END:VEVENT
BEGIN:VEVENT
DTSTART;VALUE=DATE:20220126
DTEND;VALUE=DATE:20220127
DTSTAMP:20260424T060800
CREATED:20220127T030547Z
LAST-MODIFIED:20220127T031401Z
UID:4312-1643155200-1643241599@dukcapil-old.slemankab.go.id
SUMMARY:Pembinaan Pelayanan Adminduk
DESCRIPTION:
URL:https://dukcapil-old.slemankab.go.id/event/pembinaan-pelayanan-adminduk
LOCATION:Tirtoadi\, Mlati
ATTACH;FMTTYPE=image/jpeg:https://dukcapil-old.slemankab.go.id/wp-content/uploads/2022/01/WhatsApp-Image-2022-01-21-at-13.18.57-1.jpeg
END:VEVENT
BEGIN:VEVENT
DTSTART;VALUE=DATE:20220127
DTEND;VALUE=DATE:20220128
DTSTAMP:20260424T060800
CREATED:20220127T022437Z
LAST-MODIFIED:20220127T031639Z
UID:4299-1643241600-1643327999@dukcapil-old.slemankab.go.id
SUMMARY:PELATIHAN TEKNIS UNTUK OPERATOR SP4N-LAPOR
DESCRIPTION:
URL:https://dukcapil-old.slemankab.go.id/event/jadwal-kegiatan-kamis-27-januari-2022
LOCATION:Royal Ambarukmo Yogyakarta\, Jl. Laksda Adisucipto No.81\, Ambarukmo\, Sleman\, Yogyakarta\, 55281\, Indonesia
ATTACH;FMTTYPE=image/jpeg:https://dukcapil-old.slemankab.go.id/wp-content/uploads/2022/01/jadwal-kamis-27-januari.jpeg
END:VEVENT
BEGIN:VEVENT
DTSTART;VALUE=DATE:20220127
DTEND;VALUE=DATE:20220128
DTSTAMP:20260424T060800
CREATED:20220127T032545Z
LAST-MODIFIED:20220127T032545Z
UID:4317-1643241600-1643327999@dukcapil-old.slemankab.go.id
SUMMARY:PERSIAPAN PENYUSUNAN PROFIL PERKEMBANGAN KEPENDUDUKAN 2021
DESCRIPTION:
URL:https://dukcapil-old.slemankab.go.id/event/persiapan-penyusunan-profil-perkembangan-kependudukan-2021
LOCATION:Biro Tata Pemerintah Setda DIY\, Komplek Kepatihan\, Jl. Malioboro\, Suryatmajan\, Yogyakarta\, Yogyakarta\, 55213\, Indonesia
END:VEVENT
BEGIN:VEVENT
DTSTART;VALUE=DATE:20220127
DTEND;VALUE=DATE:20220128
DTSTAMP:20260424T060800
CREATED:20220127T033153Z
LAST-MODIFIED:20220127T033153Z
UID:4320-1643241600-1643327999@dukcapil-old.slemankab.go.id
SUMMARY:KONSINYERING PENYUSUNAN LKPJ/LPPD
DESCRIPTION:
URL:https://dukcapil-old.slemankab.go.id/event/konsinyering-penyusunan-lkpj-lppd
LOCATION:Seketariat Daerah Sleman\, JL. Parasamya 1 \, Tridadi \, Sleman\, Sleman\, Yogyakarta\, 55511\, Indonesia
END:VEVENT
BEGIN:VEVENT
DTSTART;VALUE=DATE:20220127
DTEND;VALUE=DATE:20220128
DTSTAMP:20260424T060800
CREATED:20220127T033456Z
LAST-MODIFIED:20220127T033456Z
UID:4323-1643241600-1643327999@dukcapil-old.slemankab.go.id
SUMMARY:PENJELASAN RANCANGAN AWAL RENJA DAN TATA CARA INPUT PADA APLIKASI SIPD
DESCRIPTION:
URL:https://dukcapil-old.slemankab.go.id/event/penjelasan-rancangan-awal-renja-dan-tata-cara-input-pada-aplikasi-sipd
LOCATION:Aula Bappeda\, Jl. Parasamya No.1\, Beran\, Tridadi\, Sleman\, Yogyakarta\, 55511\, Indonesia
END:VEVENT
BEGIN:VEVENT
DTSTART;VALUE=DATE:20220128
DTEND;VALUE=DATE:20220129
DTSTAMP:20260424T060800
CREATED:20220127T074921Z
LAST-MODIFIED:20220127T074921Z
UID:4327-1643328000-1643414399@dukcapil-old.slemankab.go.id
SUMMARY:Vaksinasi Covid-19 Dosis Lanjutan (Booster) bagi pegawai (PHL/PJLP)
DESCRIPTION:
URL:https://dukcapil-old.slemankab.go.id/event/vaksinasi-covid-19-dosis-lanjutan-booster-bagi-pegawai-phl-pjlp
LOCATION:Sleman City Hall
END:VEVENT
BEGIN:VEVENT
DTSTART;VALUE=DATE:20220128
DTEND;VALUE=DATE:20220129
DTSTAMP:20260424T060800
CREATED:20220127T075206Z
LAST-MODIFIED:20220127T075206Z
UID:4332-1643328000-1643414399@dukcapil-old.slemankab.go.id
SUMMARY:Pengajian Rutin Dharma Wanita Persatuan Kab Sleman
DESCRIPTION:
URL:https://dukcapil-old.slemankab.go.id/event/pengajian-rutin-dharma-wanita-persatuan-kab-sleman
LOCATION:Aula Kalurahan Tridadi
END:VEVENT
BEGIN:VEVENT
DTSTART;VALUE=DATE:20220128
DTEND;VALUE=DATE:20220129
DTSTAMP:20260424T060800
CREATED:20220127T075359Z
LAST-MODIFIED:20220127T075359Z
UID:4338-1643328000-1643414399@dukcapil-old.slemankab.go.id
SUMMARY:Narasumber Sosialisasi Kebijakan Pengurusan Dokumen Kependudukan
DESCRIPTION:
URL:https://dukcapil-old.slemankab.go.id/event/narasumber-sosialisasi-kebijakan-pengurusan-dokumen-kependudukan
LOCATION:Kapanewon Depok
END:VEVENT
BEGIN:VEVENT
DTSTART;VALUE=DATE:20220128
DTEND;VALUE=DATE:20220129
DTSTAMP:20260424T060800
CREATED:20220127T075528Z
LAST-MODIFIED:20220127T075547Z
UID:4343-1643328000-1643414399@dukcapil-old.slemankab.go.id
SUMMARY:Penutupan/Pembukaan Bulan Dana PMI Kab Sleman th 2021/2022
DESCRIPTION:
URL:https://dukcapil-old.slemankab.go.id/event/penutupan-pembukaan-bulan-dana-pmi-kab-sleman-th-2021-2022
LOCATION:Kantor Setda Sleman
END:VEVENT
BEGIN:VEVENT
DTSTART;VALUE=DATE:20220128
DTEND;VALUE=DATE:20220129
DTSTAMP:20260424T060800
CREATED:20220127T075728Z
LAST-MODIFIED:20220127T075728Z
UID:4347-1643328000-1643414399@dukcapil-old.slemankab.go.id
SUMMARY:Mengikuti Munas IX KORPRI Th 2022 secara daring melalui zoom meeting
DESCRIPTION:
URL:https://dukcapil-old.slemankab.go.id/event/mengikuti-munas-ix-korpri-th-2022-secara-daring-melalui-zoom-meeting
LOCATION:Zoom Meeting
END:VEVENT
BEGIN:VEVENT
DTSTART;VALUE=DATE:20220128
DTEND;VALUE=DATE:20220129
DTSTAMP:20260424T060800
CREATED:20220127T075834Z
LAST-MODIFIED:20220127T075849Z
UID:4350-1643328000-1643414399@dukcapil-old.slemankab.go.id
SUMMARY:Pembinaan Adminduk (Narasumber)
DESCRIPTION:
URL:https://dukcapil-old.slemankab.go.id/event/pembinaan-adminduk-narasumber
END:VEVENT
BEGIN:VEVENT
DTSTART;VALUE=DATE:20220129
DTEND;VALUE=DATE:20220130
DTSTAMP:20260424T060800
CREATED:20220128T070445Z
LAST-MODIFIED:20220128T070445Z
UID:4364-1643414400-1643500799@dukcapil-old.slemankab.go.id
SUMMARY:Dukcapil Menyapa Masyarakat “ Bagaimana Membuat dan Mengganti KTP- EL “
DESCRIPTION:
URL:https://dukcapil-old.slemankab.go.id/event/dukcapil-menyapa-masyarakat-bagaimana-membuat-dan-mengganti-ktp-el
LOCATION:Zoom Meeting
END:VEVENT
BEGIN:VEVENT
DTSTART;VALUE=DATE:20220131
DTEND;VALUE=DATE:20220201
DTSTAMP:20260424T060800
CREATED:20220128T070703Z
LAST-MODIFIED:20220128T070703Z
UID:4366-1643587200-1643673599@dukcapil-old.slemankab.go.id
SUMMARY:Rapat Koordinasi Penyusunan Sasaran Kinerja Pegawai (SKP)
DESCRIPTION:
URL:https://dukcapil-old.slemankab.go.id/event/rapat-koordinasi-penyusunan-sasaran-kinerja-pegawai-skp
LOCATION:R.R Dinas Dukcapil
END:VEVENT
BEGIN:VEVENT
DTSTART;VALUE=DATE:20220202
DTEND;VALUE=DATE:20220203
DTSTAMP:20260424T060800
CREATED:20220131T082521Z
LAST-MODIFIED:20220131T082521Z
UID:4379-1643760000-1643846399@dukcapil-old.slemankab.go.id
SUMMARY:Rakor Persiapan BLT DBHCHT untuk Buruh Tani Tembakau dan Buruh Pabrik Rokok TA 2022
DESCRIPTION:
URL:https://dukcapil-old.slemankab.go.id/event/rakor-persiapan-blt-dbhcht-untuk-buruh-tani-tembakau-dan-buruh-pabrik-rokok-ta-2022
LOCATION:R R PRAJA V
END:VEVENT
BEGIN:VEVENT
DTSTART;VALUE=DATE:20220203
DTEND;VALUE=DATE:20220204
DTSTAMP:20260424T060800
CREATED:20220202T080024Z
LAST-MODIFIED:20220202T080205Z
UID:4382-1643846400-1643932799@dukcapil-old.slemankab.go.id
SUMMARY:Bimbingan Teknis Pengelola Tambahan Penghasilan Pegawai
DESCRIPTION:
URL:https://dukcapil-old.slemankab.go.id/event/bimbingan-teknis-pengelola-tambahan-penghasilan-pegawai
LOCATION:R.R Bima Lt III BKPP Kab Sleman
END:VEVENT
BEGIN:VEVENT
DTSTART;VALUE=DATE:20220203
DTEND;VALUE=DATE:20220204
DTSTAMP:20260424T060800
CREATED:20220202T080308Z
LAST-MODIFIED:20220202T080308Z
UID:4385-1643846400-1643932799@dukcapil-old.slemankab.go.id
SUMMARY:Penerimaan Kunjungan Kerja dari Setda kota Banjarmasin dengan mentri Kepengurusan KORPRI
DESCRIPTION:
URL:https://dukcapil-old.slemankab.go.id/event/penerimaan-kunjungan-kerja-dari-setda-kota-banjarmasin-dengan-mentri-kepengurusan-korpri
LOCATION:Pendopo Parasamya
END:VEVENT
BEGIN:VEVENT
DTSTART;VALUE=DATE:20220203
DTEND;VALUE=DATE:20220204
DTSTAMP:20260424T060800
CREATED:20220202T081236Z
LAST-MODIFIED:20220202T081236Z
UID:4388-1643846400-1643932799@dukcapil-old.slemankab.go.id
SUMMARY:Rapat koordinasi Penyusunan Renja TA 2023
DESCRIPTION:
URL:https://dukcapil-old.slemankab.go.id/event/rapat-koordinasi-penyusunan-renja-ta-2023
LOCATION:R.R Dinas Dukcapil
END:VEVENT
BEGIN:VEVENT
DTSTART;VALUE=DATE:20220203
DTEND;VALUE=DATE:20220204
DTSTAMP:20260424T060800
CREATED:20220202T081326Z
LAST-MODIFIED:20220202T081326Z
UID:4390-1643846400-1643932799@dukcapil-old.slemankab.go.id
SUMMARY:Pelantikan dan Pembekalaan Ketua RT dan RW Sekalurahan Tirtomartani
DESCRIPTION:
URL:https://dukcapil-old.slemankab.go.id/event/pelantikan-dan-pembekalaan-ketua-rt-dan-rw-sekalurahan-tirtomartani
LOCATION:Balai Kalurahan Tirtomartani Kalasan
END:VEVENT
BEGIN:VEVENT
DTSTART;VALUE=DATE:20220204
DTEND;VALUE=DATE:20220205
DTSTAMP:20260424T060800
CREATED:20220203T082022Z
LAST-MODIFIED:20220203T082022Z
UID:4393-1643932800-1644019199@dukcapil-old.slemankab.go.id
SUMMARY:Rapat Bendahara UP2 dan Sosialisasi InBup
DESCRIPTION:
URL:https://dukcapil-old.slemankab.go.id/event/rapat-bendahara-up2-dan-sosialisasi-inbup
LOCATION:Aula Lt 3 Setda Kab Sleman
END:VEVENT
BEGIN:VEVENT
DTSTART;VALUE=DATE:20220204
DTEND;VALUE=DATE:20220205
DTSTAMP:20260424T060800
CREATED:20220203T082111Z
LAST-MODIFIED:20220203T082111Z
UID:4396-1643932800-1644019199@dukcapil-old.slemankab.go.id
SUMMARY:Koordinasi Monev DAK Th 2021
DESCRIPTION:
URL:https://dukcapil-old.slemankab.go.id/event/koordinasi-monev-dak-th-2021
LOCATION:R R Dhandanggula Bappeda
END:VEVENT
BEGIN:VEVENT
DTSTART;VALUE=DATE:20220204
DTEND;VALUE=DATE:20220205
DTSTAMP:20260424T060800
CREATED:20220203T082215Z
LAST-MODIFIED:20220203T082215Z
UID:4399-1643932800-1644019199@dukcapil-old.slemankab.go.id
SUMMARY:Rapat koordinasi rencana musyawarah KORPRI Th 2022
DESCRIPTION:
URL:https://dukcapil-old.slemankab.go.id/event/rapat-koordinasi-rencana-musyawarah-korpri-th-2022
LOCATION:R.R Arjuna Lt 2 BKPP Kab Sleman
END:VEVENT
BEGIN:VEVENT
DTSTART;VALUE=DATE:20220207
DTEND;VALUE=DATE:20220208
DTSTAMP:20260424T060800
CREATED:20220207T002727Z
LAST-MODIFIED:20220207T002727Z
UID:4409-1644192000-1644278399@dukcapil-old.slemankab.go.id
SUMMARY:Konsinyering Penyusunan LKPJ/LPDD
DESCRIPTION:
URL:https://dukcapil-old.slemankab.go.id/event/konsinyering-penyusunan-lkpj-lpdd
LOCATION:R R SEMBADA SETDA KAB SLEMAN
END:VEVENT
BEGIN:VEVENT
DTSTART;VALUE=DATE:20220208
DTEND;VALUE=DATE:20220209
DTSTAMP:20260424T060800
CREATED:20220208T001731Z
LAST-MODIFIED:20220208T001731Z
UID:4412-1644278400-1644364799@dukcapil-old.slemankab.go.id
SUMMARY:Rakornas Dukcapil Th. 2022 (8-10Februari 2022)
DESCRIPTION:
URL:https://dukcapil-old.slemankab.go.id/event/rakornas-dukcapil-th-2022-8-10februari-2022
LOCATION:Grand Hyatt Bali Kawasan Wisata Nusa Dua bali
END:VEVENT
BEGIN:VEVENT
DTSTART;VALUE=DATE:20220208
DTEND;VALUE=DATE:20220209
DTSTAMP:20260424T060800
CREATED:20220208T002019Z
LAST-MODIFIED:20220208T002019Z
UID:4415-1644278400-1644364799@dukcapil-old.slemankab.go.id
SUMMARY:FGD Penyusunan Publikasi Kab. Sleman dalan Angka 2022
DESCRIPTION:
URL:https://dukcapil-old.slemankab.go.id/event/fgd-penyusunan-publikasi-kab-sleman-dalan-angka-2022
LOCATION:The Alana Yogyakarta Hotel Convention Center Jalan Tentara Pelajar Ngaglik
END:VEVENT
BEGIN:VEVENT
DTSTART;VALUE=DATE:20220208
DTEND;VALUE=DATE:20220209
DTSTAMP:20260424T060800
CREATED:20220208T002100Z
LAST-MODIFIED:20220208T002100Z
UID:4418-1644278400-1644364799@dukcapil-old.slemankab.go.id
SUMMARY:Rapat Koordinasi Persiapan Pelaksanaan Safari Jumat dan safari Tarawih Th. 2022
DESCRIPTION:
URL:https://dukcapil-old.slemankab.go.id/event/rapat-koordinasi-persiapan-pelaksanaan-safari-jumat-dan-safari-tarawih-th-2022
LOCATION:R.R Praja II Setda Kab. Sleman
END:VEVENT
BEGIN:VEVENT
DTSTART;VALUE=DATE:20220208
DTEND;VALUE=DATE:20220209
DTSTAMP:20260424T060800
CREATED:20220208T002144Z
LAST-MODIFIED:20220208T002144Z
UID:4421-1644278400-1644364799@dukcapil-old.slemankab.go.id
SUMMARY:Koordinasi penyusunan LKJIP Perangkat Daerah th. 2022
DESCRIPTION:
URL:https://dukcapil-old.slemankab.go.id/event/koordinasi-penyusunan-lkjip-perangkat-daerah-th-2022
LOCATION:Aula Lt. III Setda
END:VEVENT
BEGIN:VEVENT
DTSTART;VALUE=DATE:20220208
DTEND;VALUE=DATE:20220209
DTSTAMP:20260424T060800
CREATED:20220208T002218Z
LAST-MODIFIED:20220208T002218Z
UID:4424-1644278400-1644364799@dukcapil-old.slemankab.go.id
SUMMARY:Rakor Penyusunan Rancangan Peraturan Bupati tentang Penyelenggaraan Reklame
DESCRIPTION:
URL:https://dukcapil-old.slemankab.go.id/event/rakor-penyusunan-rancangan-peraturan-bupati-tentang-penyelenggaraan-reklame
LOCATION:R.R Sekretariat Daerah
END:VEVENT
BEGIN:VEVENT
DTSTART;VALUE=DATE:20220209
DTEND;VALUE=DATE:20220210
DTSTAMP:20260424T060800
CREATED:20220208T075737Z
LAST-MODIFIED:20220208T075737Z
UID:4430-1644364800-1644451199@dukcapil-old.slemankab.go.id
SUMMARY:Rakor penjaringan peserta JKN Pekerja bukan penerima upah dan bukan pekerja yang didftarakn oleh Pemda Sleman
DESCRIPTION:
URL:https://dukcapil-old.slemankab.go.id/event/rakor-penjaringan-peserta-jkn-pekerja-bukan-penerima-upah-dan-bukan-pekerja-yang-didftarakn-oleh-pemda-sleman
LOCATION:Ruang Husada Dinas Kesehatan
END:VEVENT
BEGIN:VEVENT
DTSTART;VALUE=DATE:20220209
DTEND;VALUE=DATE:20220210
DTSTAMP:20260424T060800
CREATED:20220208T075939Z
LAST-MODIFIED:20220208T075939Z
UID:4433-1644364800-1644451199@dukcapil-old.slemankab.go.id
SUMMARY:Koordinasi data pilah ketahanan keluarga
DESCRIPTION:
URL:https://dukcapil-old.slemankab.go.id/event/koordinasi-data-pilah-ketahanan-keluarga
END:VEVENT
END:VCALENDAR