BEGIN:VCALENDAR
VERSION:2.0
PRODID:-//Dinas Kependudukan dan Pencatatan Sipil Kabupaten Sleman - ECPv6.4.0//NONSGML v1.0//EN
CALSCALE:GREGORIAN
METHOD:PUBLISH
X-WR-CALNAME:Dinas Kependudukan dan Pencatatan Sipil Kabupaten Sleman
X-ORIGINAL-URL:https://dukcapil-old.slemankab.go.id
X-WR-CALDESC:Events for Dinas Kependudukan dan Pencatatan Sipil Kabupaten Sleman
REFRESH-INTERVAL;VALUE=DURATION:PT1H
X-Robots-Tag:noindex
X-PUBLISHED-TTL:PT1H
BEGIN:VTIMEZONE
TZID:Asia/Jakarta
BEGIN:STANDARD
TZOFFSETFROM:+0700
TZOFFSETTO:+0700
TZNAME:WIB
DTSTART:20240101T000000
END:STANDARD
END:VTIMEZONE
BEGIN:VEVENT
DTSTART;VALUE=DATE:20240131
DTEND;VALUE=DATE:20240201
DTSTAMP:20260424T054953
CREATED:20240131T010722Z
LAST-MODIFIED:20240131T010722Z
UID:10582-1706659200-1706745599@dukcapil-old.slemankab.go.id
SUMMARY:Musyawarah Perencanaan Pembangunan Rencana Kerja Pembangunan Daerah Kab. Sleman di Kap. Depok Th. 2024 Usulan Th. 2025
DESCRIPTION:08.30\nGedung\nSasana\nAnglocitatama\nKantor Kap. Depok
URL:https://dukcapil-old.slemankab.go.id/event/musyawarah-perencanaan-pembangunan-rencana-kerja-pembangunan-daerah-kab-sleman-di-kap-depok-th-2024-usulan-th-2025
END:VEVENT
BEGIN:VEVENT
DTSTART;VALUE=DATE:20240131
DTEND;VALUE=DATE:20240201
DTSTAMP:20260424T054953
CREATED:20240131T010918Z
LAST-MODIFIED:20240131T010918Z
UID:10584-1706659200-1706745599@dukcapil-old.slemankab.go.id
SUMMARY:Koordinasi Penyusunan Dokumen Informasi Kinerja Pengelolaan Lingkungan Hidup Daerah (DIKPLHD) Kab. SlemanTh. 2023
DESCRIPTION:08.30\nRR Kalpataru\nDLH Kab. Sleman
URL:https://dukcapil-old.slemankab.go.id/event/koordinasi-penyusunan-dokumen-informasi-kinerja-pengelolaan-lingkungan-hidup-daerah-dikplhd-kab-slemanth-2023
END:VEVENT
BEGIN:VEVENT
DTSTART;VALUE=DATE:20240131
DTEND;VALUE=DATE:20240201
DTSTAMP:20260424T054953
CREATED:20240131T010940Z
LAST-MODIFIED:20240131T010940Z
UID:10586-1706659200-1706745599@dukcapil-old.slemankab.go.id
SUMMARY:Rapat Monev Capaian Sustainable Development Goals (SDGs) Tahun 2023
DESCRIPTION:09.30\nRR Kinanthi\nBappeda\nSleman
URL:https://dukcapil-old.slemankab.go.id/event/rapat-monev-capaian-sustainable-development-goals-sdgs-tahun-2023
END:VEVENT
BEGIN:VEVENT
DTSTART;VALUE=DATE:20240201
DTEND;VALUE=DATE:20240202
DTSTAMP:20260424T054953
CREATED:20240201T015843Z
LAST-MODIFIED:20240201T015843Z
UID:10597-1706745600-1706831999@dukcapil-old.slemankab.go.id
SUMMARY:Koordinasi Implementasi dan Pemanfaatan Grand Design Pembangunan Kependudukan dalam RPJPD dan RPJMD di Kab\, Sleman
DESCRIPTION:12.30\nRR Kinanthi\nBappeda\nSleman
URL:https://dukcapil-old.slemankab.go.id/event/koordinasi-implementasi-dan-pemanfaatan-grand-design-pembangunan-kependudukan-dalam-rpjpd-dan-rpjmd-di-kab-sleman
END:VEVENT
BEGIN:VEVENT
DTSTART;VALUE=DATE:20240201
DTEND;VALUE=DATE:20240202
DTSTAMP:20260424T054953
CREATED:20240201T020128Z
LAST-MODIFIED:20240201T020128Z
UID:10599-1706745600-1706831999@dukcapil-old.slemankab.go.id
SUMMARY:Koordinasi Pelaksanaan Kebijakan/Program Serta Isu Strategis Bidang Kependudukan di Lingkup Kab. Sleman
DESCRIPTION:13.00\nKantor\nBappeda Kab. Sleman
URL:https://dukcapil-old.slemankab.go.id/event/koordinasi-pelaksanaan-kebijakan-program-serta-isu-strategis-bidang-kependudukan-di-lingkup-kab-sleman
END:VEVENT
BEGIN:VEVENT
DTSTART;VALUE=DATE:20240202
DTEND;VALUE=DATE:20240203
DTSTAMP:20260424T054953
CREATED:20240202T015437Z
LAST-MODIFIED:20240202T015437Z
UID:10611-1706832000-1706918399@dukcapil-old.slemankab.go.id
SUMMARY:Evaluasi Kinerja Kapanewon Tahun 2023
DESCRIPTION:13.00\nRR Bagian\nPemerintahan\nSetda Kab. Sleman
URL:https://dukcapil-old.slemankab.go.id/event/evaluasi-kinerja-kapanewon-tahun-2023
END:VEVENT
BEGIN:VEVENT
DTSTART;VALUE=DATE:20240202
DTEND;VALUE=DATE:20240203
DTSTAMP:20260424T054953
CREATED:20240202T015617Z
LAST-MODIFIED:20240202T015617Z
UID:10613-1706832000-1706918399@dukcapil-old.slemankab.go.id
SUMMARY:Rapat Koordinasi Panitia Bulan Dana PMI Kab. Sleman Tahun 2024
DESCRIPTION:13.00\nRuang\nPangripta\n(Aula)\nBappeda Kab. Sleman
URL:https://dukcapil-old.slemankab.go.id/event/rapat-koordinasi-panitia-bulan-dana-pmi-kab-sleman-tahun-2024
END:VEVENT
BEGIN:VEVENT
DTSTART;VALUE=DATE:20240206
DTEND;VALUE=DATE:20240207
DTSTAMP:20260424T054953
CREATED:20240206T010333Z
LAST-MODIFIED:20240206T010333Z
UID:10628-1707177600-1707263999@dukcapil-old.slemankab.go.id
SUMMARY:Rapat Musrenbang (Musyawarah RencanaKegiatan Pembangunan Daerah (RKPD)) Th. 2025
DESCRIPTION:08.30\nPendopo Kap. Sleman
URL:https://dukcapil-old.slemankab.go.id/event/rapat-musrenbang-musyawarah-rencanakegiatan-pembangunan-daerah-rkpd-th-2025
END:VEVENT
BEGIN:VEVENT
DTSTART;VALUE=DATE:20240206
DTEND;VALUE=DATE:20240207
DTSTAMP:20260424T054953
CREATED:20240206T010437Z
LAST-MODIFIED:20240206T010437Z
UID:10630-1707177600-1707263999@dukcapil-old.slemankab.go.id
SUMMARY:Bimbingan Teknis Digitalisasi Naskah Laporan Kinerja Instansi Pemerintahan Perangkat Daerah dan Perjanjian Kinerja Kepala Perangkat Daerah Th. 2023
DESCRIPTION:08.30\nRR Bima\nBKPP Kab. Sleman
URL:https://dukcapil-old.slemankab.go.id/event/bimbingan-teknis-digitalisasi-naskah-laporan-kinerja-instansi-pemerintahan-perangkat-daerah-dan-perjanjian-kinerja-kepala-perangkat-daerah-th-2023
END:VEVENT
BEGIN:VEVENT
DTSTART;VALUE=DATE:20240207
DTEND;VALUE=DATE:20240208
DTSTAMP:20260424T054953
CREATED:20240207T010643Z
LAST-MODIFIED:20240207T010643Z
UID:10642-1707264000-1707350399@dukcapil-old.slemankab.go.id
SUMMARY:Narasumber Sosialisasi bagi Penduduk Rentan Adminitrasi Kependudukan
DESCRIPTION:09.00\nPendopo Kap. Moyudan
URL:https://dukcapil-old.slemankab.go.id/event/narasumber-sosialisasi-bagi-penduduk-rentan-adminitrasi-kependudukan
END:VEVENT
BEGIN:VEVENT
DTSTART;VALUE=DATE:20240207
DTEND;VALUE=DATE:20240208
DTSTAMP:20260424T054953
CREATED:20240207T010805Z
LAST-MODIFIED:20240207T010805Z
UID:10644-1707264000-1707350399@dukcapil-old.slemankab.go.id
SUMMARY:Rakor Persiapan Pembinaan dan Penjaringan Aspirasi KORPRI unit Kab. Sleman Th. 2024
DESCRIPTION:13.00\nRR Arjuna Lt. II\nBKPP Sleman
URL:https://dukcapil-old.slemankab.go.id/event/rakor-persiapan-pembinaan-dan-penjaringan-aspirasi-korpri-unit-kab-sleman-th-2024
END:VEVENT
BEGIN:VEVENT
DTSTART;VALUE=DATE:20240216
DTEND;VALUE=DATE:20240217
DTSTAMP:20260424T054953
CREATED:20240216T021825Z
LAST-MODIFIED:20240216T021825Z
UID:10714-1708041600-1708127999@dukcapil-old.slemankab.go.id
SUMMARY:Studi Tiru Pelaksanaan Pelayanan Publikdi MPP Kab. Sleman terkait dengan Bidang Dukcapil\, Perhubungan\, Perpustakaan\,dan Pengelolaan MPP
DESCRIPTION:08.00\nMall Pelayanan\nPublik (MPP)\nKab. Sleman\, Jawa Tengah
URL:https://dukcapil-old.slemankab.go.id/event/studi-tiru-pelaksanaan-pelayanan-publikdi-mpp-kab-sleman-terkait-dengan-bidang-dukcapil-perhubungan-perpustakaandan-pengelolaan-mpp
END:VEVENT
BEGIN:VEVENT
DTSTART;VALUE=DATE:20240216
DTEND;VALUE=DATE:20240217
DTSTAMP:20260424T054953
CREATED:20240216T022019Z
LAST-MODIFIED:20240216T022019Z
UID:10716-1708041600-1708127999@dukcapil-old.slemankab.go.id
SUMMARY:Rakor Narasumber Pembinaan DPKORPRI Unit Kab Sleman
DESCRIPTION:13.00\nRR Arjuna Lt.II\nBKPP Sleman
URL:https://dukcapil-old.slemankab.go.id/event/rakor-narasumber-pembinaan-dpkorpri-unit-kab-sleman
END:VEVENT
BEGIN:VEVENT
DTSTART;VALUE=DATE:20240216
DTEND;VALUE=DATE:20240217
DTSTAMP:20260424T054953
CREATED:20240216T022051Z
LAST-MODIFIED:20240216T022051Z
UID:10718-1708041600-1708127999@dukcapil-old.slemankab.go.id
SUMMARY:Rapat Koordinasi Persiapan Pelaksanaan Forum Perangkat Daerah Tahun 2024
DESCRIPTION:13.00\nAula\nPangaripta\nBappeda\nSleman
URL:https://dukcapil-old.slemankab.go.id/event/rapat-koordinasi-persiapan-pelaksanaan-forum-perangkat-daerah-tahun-2024
END:VEVENT
BEGIN:VEVENT
DTSTART;VALUE=DATE:20240219
DTEND;VALUE=DATE:20240220
DTSTAMP:20260424T054953
CREATED:20240219T015756Z
LAST-MODIFIED:20240219T015756Z
UID:10720-1708300800-1708387199@dukcapil-old.slemankab.go.id
SUMMARY:Rapat Koordinasi Kebijakan Kelembagaan dan Kepegawaian dalam rangka Penyederhanaan Birokrasi
DESCRIPTION:08.30\nDesa Wisata\nGrogol Margodadi\, Seyegan\, Sleman
URL:https://dukcapil-old.slemankab.go.id/event/rapat-koordinasi-kebijakan-kelembagaan-dan-kepegawaian-dalam-rangka-penyederhanaan-birokrasi
END:VEVENT
BEGIN:VEVENT
DTSTART;VALUE=DATE:20240219
DTEND;VALUE=DATE:20240220
DTSTAMP:20260424T054953
CREATED:20240219T015932Z
LAST-MODIFIED:20240219T015932Z
UID:10722-1708300800-1708387199@dukcapil-old.slemankab.go.id
SUMMARY:Persiapan Pelaksanaan Pengambilan Foto ASN di lingkungan Pemkab SlemanTh. 2024
DESCRIPTION:09.00\nRR Kresna lt.II\nBKPP Sleman
URL:https://dukcapil-old.slemankab.go.id/event/persiapan-pelaksanaan-pengambilan-foto-asn-di-lingkungan-pemkab-slemanth-2024
END:VEVENT
BEGIN:VEVENT
DTSTART;VALUE=DATE:20240220
DTEND;VALUE=DATE:20240221
DTSTAMP:20260424T054953
CREATED:20240220T011520Z
LAST-MODIFIED:20240220T011520Z
UID:10724-1708387200-1708473599@dukcapil-old.slemankab.go.id
SUMMARY:Sosilaisasi Kebijakan Pelayanan Publik Serta Pemantauan dan Evaluasi Kinerja Penyelengaraan Pelayanan Publik
DESCRIPTION:08.00\nGedung\nWisageni Unit\nVIII Kepatihan\nDanurenja YK
URL:https://dukcapil-old.slemankab.go.id/event/sosilaisasi-kebijakan-pelayanan-publik-serta-pemantauan-dan-evaluasi-kinerja-penyelengaraan-pelayanan-publik
END:VEVENT
BEGIN:VEVENT
DTSTART;VALUE=DATE:20240220
DTEND;VALUE=DATE:20240221
DTSTAMP:20260424T054953
CREATED:20240220T011633Z
LAST-MODIFIED:20240220T011633Z
UID:10726-1708387200-1708473599@dukcapil-old.slemankab.go.id
SUMMARY:Rapat Teknis Trilateral PUM Untuk Perencanaan 2025
DESCRIPTION:08.30\nRR Gambuh\nBappeda
URL:https://dukcapil-old.slemankab.go.id/event/rapat-teknis-trilateral-pum-untuk-perencanaan-2025
END:VEVENT
BEGIN:VEVENT
DTSTART;VALUE=DATE:20240220
DTEND;VALUE=DATE:20240221
DTSTAMP:20260424T054953
CREATED:20240220T011748Z
LAST-MODIFIED:20240220T011748Z
UID:10728-1708387200-1708473599@dukcapil-old.slemankab.go.id
SUMMARY:Penyusunan Dokumen Evaluasi RAD Pencegahan dan Penanganan TPPO
DESCRIPTION:12.30\nAula Dinas\nP3AP2KB
URL:https://dukcapil-old.slemankab.go.id/event/penyusunan-dokumen-evaluasi-rad-pencegahan-dan-penanganan-tppo
END:VEVENT
BEGIN:VEVENT
DTSTART;VALUE=DATE:20240221
DTEND;VALUE=DATE:20240222
DTSTAMP:20260424T054953
CREATED:20240221T010658Z
LAST-MODIFIED:20240221T010658Z
UID:10740-1708473600-1708559999@dukcapil-old.slemankab.go.id
SUMMARY:Monitoring dan Evaluasi Penyelenggaraan Adminduk di-DIY
DESCRIPTION:09.00\nTinitah Alam\n(Jetis\, Pendowoharjo\, Girimulyo\, Kulon Progo)
URL:https://dukcapil-old.slemankab.go.id/event/monitoring-dan-evaluasi-penyelenggaraan-adminduk-di-diy
END:VEVENT
BEGIN:VEVENT
DTSTART;VALUE=DATE:20240222
DTEND;VALUE=DATE:20240223
DTSTAMP:20260424T054953
CREATED:20240222T010806Z
LAST-MODIFIED:20240222T010806Z
UID:10751-1708560000-1708646399@dukcapil-old.slemankab.go.id
SUMMARY:Pembinaan Statistik Sektoral Tingkat Daerah
DESCRIPTION:08.00\nRM Pringsewu\nMulungan\nSendangadi\nMlati
URL:https://dukcapil-old.slemankab.go.id/event/pembinaan-statistik-sektoral-tingkat-daerah
END:VEVENT
BEGIN:VEVENT
DTSTART;VALUE=DATE:20240223
DTEND;VALUE=DATE:20240224
DTSTAMP:20260424T054953
CREATED:20240223T004023Z
LAST-MODIFIED:20240223T004023Z
UID:10754-1708646400-1708732799@dukcapil-old.slemankab.go.id
SUMMARY:Rapat Koordinasi Pelaksanaan PUPM Bidang Pelayanan Pendaftaran Pendudukdan Rencana Jemput Bola IKD Thn. 2024
DESCRIPTION:09.00\nRuang Rapat\nDinas Dukcapil
URL:https://dukcapil-old.slemankab.go.id/event/rapat-koordinasi-pelaksanaan-pupm-bidang-pelayanan-pendaftaran-pendudukdan-rencana-jemput-bola-ikd-thn-2024
END:VEVENT
BEGIN:VEVENT
DTSTART;VALUE=DATE:20240223
DTEND;VALUE=DATE:20240224
DTSTAMP:20260424T054953
CREATED:20240223T004302Z
LAST-MODIFIED:20240223T004302Z
UID:10756-1708646400-1708732799@dukcapil-old.slemankab.go.id
SUMMARY:Silahturahmi Kerjasama Progam KAPERU (KTP&KK Baru Bagi Pengantin Baru)
DESCRIPTION:09.00\nRuang Rapat\nDinas Dukcapil
URL:https://dukcapil-old.slemankab.go.id/event/silahturahmi-kerjasama-progam-kaperu-ktpkk-baru-bagi-pengantin-baru
END:VEVENT
BEGIN:VEVENT
DTSTART;VALUE=DATE:20240223
DTEND;VALUE=DATE:20240224
DTSTAMP:20260424T054953
CREATED:20240223T004358Z
LAST-MODIFIED:20240223T004358Z
UID:10758-1708646400-1708732799@dukcapil-old.slemankab.go.id
SUMMARY:Rapat Koordinasi Penanganan Penduduk Rentan Adminduk/ Pennyelesaian Data Adminduk Bermasalah
DESCRIPTION:13.00\nRuang Rapat\nDinas Dukcapil
URL:https://dukcapil-old.slemankab.go.id/event/rapat-koordinasi-penanganan-penduduk-rentan-adminduk-pennyelesaian-data-adminduk-bermasalah
END:VEVENT
BEGIN:VEVENT
DTSTART;VALUE=DATE:20240226
DTEND;VALUE=DATE:20240227
DTSTAMP:20260424T054953
CREATED:20240226T013425Z
LAST-MODIFIED:20240226T013425Z
UID:10775-1708905600-1708991999@dukcapil-old.slemankab.go.id
SUMMARY:Partisipasi Peringatan Hari Pers Nasional Tahun 2024\, Bakti Sosial Donor Darah dan Pengukuhan Pengurus PWI Kab. Sleman
DESCRIPTION:09.00\nPendopo\nParasanya\nSetda
URL:https://dukcapil-old.slemankab.go.id/event/partisipasi-peringatan-hari-pers-nasional-tahun-2024-bakti-sosial-donor-darah-dan-pengukuhan-pengurus-pwi-kab-sleman
END:VEVENT
BEGIN:VEVENT
DTSTART;VALUE=DATE:20240226
DTEND;VALUE=DATE:20240227
DTSTAMP:20260424T054953
CREATED:20240226T013625Z
LAST-MODIFIED:20240226T013625Z
UID:10777-1708905600-1708991999@dukcapil-old.slemankab.go.id
SUMMARY:Rapat Penyusunan Laporan Rencana Aksi Daerah (RAD) Penanganan Konflik Sosial
DESCRIPTION:09.00\nAula Unit 1\nPemkab\nSleman
URL:https://dukcapil-old.slemankab.go.id/event/rapat-penyusunan-laporan-rencana-aksi-daerah-rad-penanganan-konflik-sosial
END:VEVENT
BEGIN:VEVENT
DTSTART;VALUE=DATE:20240226
DTEND;VALUE=DATE:20240227
DTSTAMP:20260424T054953
CREATED:20240226T013720Z
LAST-MODIFIED:20240226T013720Z
UID:10779-1708905600-1708991999@dukcapil-old.slemankab.go.id
SUMMARY:Rapat Koordinasi Pimpinan Perangkat Daerah Bulan Februari 2024
DESCRIPTION:12.30\nAula Lantai 3\nSetda
URL:https://dukcapil-old.slemankab.go.id/event/rapat-koordinasi-pimpinan-perangkat-daerah-bulan-februari-2024
END:VEVENT
BEGIN:VEVENT
DTSTART;VALUE=DATE:20240227
DTEND;VALUE=DATE:20240228
DTSTAMP:20260424T054953
CREATED:20240227T010537Z
LAST-MODIFIED:20240227T010537Z
UID:10781-1708992000-1709078399@dukcapil-old.slemankab.go.id
SUMMARY:Rapat Pembahasan Data Bab Sosial\, Kependudukan dan Kesehatan
DESCRIPTION:09.00\nR. Rapat\nKalpataru DLH\nKab. Sleman
URL:https://dukcapil-old.slemankab.go.id/event/rapat-pembahasan-data-bab-sosial-kependudukan-dan-kesehatan
END:VEVENT
BEGIN:VEVENT
DTSTART;VALUE=DATE:20240228
DTEND;VALUE=DATE:20240229
DTSTAMP:20260424T054953
CREATED:20240228T011138Z
LAST-MODIFIED:20240228T011138Z
UID:10800-1709078400-1709164799@dukcapil-old.slemankab.go.id
SUMMARY:Koordinasi Teknis dan Penguatan Pelaksanaan Akselerasi Penjaman Reformasi Birokrasi Tahun 2024
DESCRIPTION:08.30\nObelix Village\nPandowoharjo\nSleman
URL:https://dukcapil-old.slemankab.go.id/event/koordinasi-teknis-dan-penguatan-pelaksanaan-akselerasi-penjaman-reformasi-birokrasi-tahun-2024
END:VEVENT
BEGIN:VEVENT
DTSTART;VALUE=DATE:20240228
DTEND;VALUE=DATE:20240229
DTSTAMP:20260424T054953
CREATED:20240228T011259Z
LAST-MODIFIED:20240228T011259Z
UID:10802-1709078400-1709164799@dukcapil-old.slemankab.go.id
SUMMARY:Pengajian Dalam Rangka Peringatan IsraMi’raj Nabi Muhammad SAWdan Menyambut Bulan Suci Ramadhan Tahun1445 M /2024 H
DESCRIPTION:12.30\nMasjid Agung\ndr. Wahidin\nSoediro\nHoesodo Kab. Sleman
URL:https://dukcapil-old.slemankab.go.id/event/pengajian-dalam-rangka-peringatan-isramiraj-nabi-muhammad-sawdan-menyambut-bulan-suci-ramadhan-tahun1445-m-2024-h
END:VEVENT
END:VCALENDAR