BEGIN:VCALENDAR
VERSION:2.0
PRODID:-//Dinas Kependudukan dan Pencatatan Sipil Kabupaten Sleman - ECPv6.4.0//NONSGML v1.0//EN
CALSCALE:GREGORIAN
METHOD:PUBLISH
X-ORIGINAL-URL:https://dukcapil-old.slemankab.go.id
X-WR-CALDESC:Events for Dinas Kependudukan dan Pencatatan Sipil Kabupaten Sleman
REFRESH-INTERVAL;VALUE=DURATION:PT1H
X-Robots-Tag:noindex
X-PUBLISHED-TTL:PT1H
BEGIN:VTIMEZONE
TZID:Asia/Jakarta
BEGIN:STANDARD
TZOFFSETFROM:+0700
TZOFFSETTO:+0700
TZNAME:WIB
DTSTART:20220101T000000
END:STANDARD
END:VTIMEZONE
BEGIN:VEVENT
DTSTART;VALUE=DATE:20220215
DTEND;VALUE=DATE:20220216
DTSTAMP:20260424T045149
CREATED:20220214T081340Z
LAST-MODIFIED:20220214T081340Z
UID:4470-1644883200-1644969599@dukcapil-old.slemankab.go.id
SUMMARY:Rapat Koordinasi Penyusunan Kode Data Administrasi Pemkab Sleman
DESCRIPTION:
URL:https://dukcapil-old.slemankab.go.id/event/rapat-koordinasi-penyusunan-kode-data-administrasi-pemkab-sleman
END:VEVENT
BEGIN:VEVENT
DTSTART;VALUE=DATE:20220215
DTEND;VALUE=DATE:20220216
DTSTAMP:20260424T045149
CREATED:20220214T081626Z
LAST-MODIFIED:20220214T081626Z
UID:4472-1644883200-1644969599@dukcapil-old.slemankab.go.id
SUMMARY:Pelaksanaan Kelas Konsultasi PB I JK
DESCRIPTION:
URL:https://dukcapil-old.slemankab.go.id/event/pelaksanaan-kelas-konsultasi-pb-i-jk
END:VEVENT
BEGIN:VEVENT
DTSTART;VALUE=DATE:20220215
DTEND;VALUE=DATE:20220216
DTSTAMP:20260424T045149
CREATED:20220214T081650Z
LAST-MODIFIED:20220214T081650Z
UID:4475-1644883200-1644969599@dukcapil-old.slemankab.go.id
SUMMARY:Rapat Penyampaian Kerangka Acuan Kerja Kajian Kebijakan Kemiskinan di DIY
DESCRIPTION:
URL:https://dukcapil-old.slemankab.go.id/event/rapat-penyampaian-kerangka-acuan-kerja-kajian-kebijakan-kemiskinan-di-diy
END:VEVENT
BEGIN:VEVENT
DTSTART;VALUE=DATE:20220215
DTEND;VALUE=DATE:20220216
DTSTAMP:20260424T045149
CREATED:20220214T081717Z
LAST-MODIFIED:20220214T081717Z
UID:4477-1644883200-1644969599@dukcapil-old.slemankab.go.id
SUMMARY:Rakor Kepegawaian
DESCRIPTION:
URL:https://dukcapil-old.slemankab.go.id/event/rakor-kepegawaian
LOCATION:Zoom Meeting
END:VEVENT
BEGIN:VEVENT
DTSTART;VALUE=DATE:20220215
DTEND;VALUE=DATE:20220216
DTSTAMP:20260424T045149
CREATED:20220214T081738Z
LAST-MODIFIED:20220214T081738Z
UID:4480-1644883200-1644969599@dukcapil-old.slemankab.go.id
SUMMARY:Koordinasi Kegiatan Peningkatan Kapasitas Aparatur Inovasi Pelayanan Publik
DESCRIPTION:
URL:https://dukcapil-old.slemankab.go.id/event/koordinasi-kegiatan-peningkatan-kapasitas-aparatur-inovasi-pelayanan-publik
END:VEVENT
BEGIN:VEVENT
DTSTART;VALUE=DATE:20220215
DTEND;VALUE=DATE:20220216
DTSTAMP:20260424T045149
CREATED:20220214T081800Z
LAST-MODIFIED:20220214T081800Z
UID:4482-1644883200-1644969599@dukcapil-old.slemankab.go.id
SUMMARY:Rapat Koordinasi Penyusunan Perjanjian Kerja Sama Pelayanan Adminduk
DESCRIPTION:
URL:https://dukcapil-old.slemankab.go.id/event/rapat-koordinasi-penyusunan-perjanjian-kerja-sama-pelayanan-adminduk
END:VEVENT
BEGIN:VEVENT
DTSTART;VALUE=DATE:20220216
DTEND;VALUE=DATE:20220217
DTSTAMP:20260424T045149
CREATED:20220215T084111Z
LAST-MODIFIED:20220215T084111Z
UID:4485-1644969600-1645055999@dukcapil-old.slemankab.go.id
SUMMARY:Musyawarah rencana kerja bidang kepemudaan kab Sleman th 2023
DESCRIPTION:
URL:https://dukcapil-old.slemankab.go.id/event/musyawarah-rencana-kerja-bidang-kepemudaan-kab-sleman-th-2023
END:VEVENT
BEGIN:VEVENT
DTSTART;VALUE=DATE:20220216
DTEND;VALUE=DATE:20220217
DTSTAMP:20260424T045149
CREATED:20220215T084204Z
LAST-MODIFIED:20220215T084228Z
UID:4487-1644969600-1645055999@dukcapil-old.slemankab.go.id
SUMMARY:Rapat koordinasi Aminduk
DESCRIPTION:
URL:https://dukcapil-old.slemankab.go.id/event/rapat-koordinasi-aminduk
END:VEVENT
BEGIN:VEVENT
DTSTART;VALUE=DATE:20220216
DTEND;VALUE=DATE:20220217
DTSTAMP:20260424T045149
CREATED:20220215T084246Z
LAST-MODIFIED:20220215T084246Z
UID:4489-1644969600-1645055999@dukcapil-old.slemankab.go.id
SUMMARY:Sosialisasi kebijakan adminduk Pelayanan ktp el\, KK Pelayanan Akte kelahiran dan akte Kematian
DESCRIPTION:
URL:https://dukcapil-old.slemankab.go.id/event/sosialisasi-kebijakan-adminduk-pelayanan-ktp-el-kk-pelayanan-akte-kelahiran-dan-akte-kematian
END:VEVENT
BEGIN:VEVENT
DTSTART;VALUE=DATE:20220216
DTEND;VALUE=DATE:20220217
DTSTAMP:20260424T045149
CREATED:20220215T084331Z
LAST-MODIFIED:20220215T084331Z
UID:4491-1644969600-1645055999@dukcapil-old.slemankab.go.id
SUMMARY:Permintaan keterangan data pendudukan an Legowo
DESCRIPTION:
URL:https://dukcapil-old.slemankab.go.id/event/permintaan-keterangan-data-pendudukan-an-legowo
END:VEVENT
BEGIN:VEVENT
DTSTART;VALUE=DATE:20220216
DTEND;VALUE=DATE:20220217
DTSTAMP:20260424T045149
CREATED:20220215T084402Z
LAST-MODIFIED:20220215T084402Z
UID:4493-1644969600-1645055999@dukcapil-old.slemankab.go.id
SUMMARY:Sosialisasi SPM Digital Sign
DESCRIPTION:
URL:https://dukcapil-old.slemankab.go.id/event/sosialisasi-spm-digital-sign
END:VEVENT
BEGIN:VEVENT
DTSTART;VALUE=DATE:20220216
DTEND;VALUE=DATE:20220217
DTSTAMP:20260424T045149
CREATED:20220215T084426Z
LAST-MODIFIED:20220215T084426Z
UID:4495-1644969600-1645055999@dukcapil-old.slemankab.go.id
SUMMARY:Rapat koordinasi Pimpinan
DESCRIPTION:
URL:https://dukcapil-old.slemankab.go.id/event/rapat-koordinasi-pimpinan
END:VEVENT
BEGIN:VEVENT
DTSTART;VALUE=DATE:20220216
DTEND;VALUE=DATE:20220217
DTSTAMP:20260424T045149
CREATED:20220215T084511Z
LAST-MODIFIED:20220215T084511Z
UID:4497-1644969600-1645055999@dukcapil-old.slemankab.go.id
SUMMARY:Rapat koordinasi finalisasi pembahasan rancangan materi Muskab KORPRI th 2022
DESCRIPTION:
URL:https://dukcapil-old.slemankab.go.id/event/rapat-koordinasi-finalisasi-pembahasan-rancangan-materi-muskab-korpri-th-2022
END:VEVENT
BEGIN:VEVENT
DTSTART;VALUE=DATE:20220218
DTEND;VALUE=DATE:20220219
DTSTAMP:20260424T045149
CREATED:20220218T071619Z
LAST-MODIFIED:20220218T071619Z
UID:4516-1645142400-1645228799@dukcapil-old.slemankab.go.id
SUMMARY:Penyusunan Rancangan Kerja Pemerintah Daerah (RKPD) Tahun 2023
DESCRIPTION:
URL:https://dukcapil-old.slemankab.go.id/event/penyusunan-rancangan-kerja-pemerintah-daerah-rkpd-tahun-2023
END:VEVENT
BEGIN:VEVENT
DTSTART;VALUE=DATE:20220218
DTEND;VALUE=DATE:20220219
DTSTAMP:20260424T045149
CREATED:20220218T071721Z
LAST-MODIFIED:20220218T071721Z
UID:4519-1645142400-1645228799@dukcapil-old.slemankab.go.id
SUMMARY:Rakernas Peningkatan Kualitas Layanan Adminduk “Dukcapil Belajar Seri 7”
DESCRIPTION:
URL:https://dukcapil-old.slemankab.go.id/event/rakernas-peningkatan-kualitas-layanan-adminduk-dukcapil-belajar-seri-7
END:VEVENT
BEGIN:VEVENT
DTSTART;VALUE=DATE:20220218
DTEND;VALUE=DATE:20220219
DTSTAMP:20260424T045149
CREATED:20220218T071743Z
LAST-MODIFIED:20220218T071752Z
UID:4521-1645142400-1645228799@dukcapil-old.slemankab.go.id
SUMMARY:Narasumber Pembinaan Adminduk
DESCRIPTION:
URL:https://dukcapil-old.slemankab.go.id/event/narasumber-pembinaan-adminduk
END:VEVENT
BEGIN:VEVENT
DTSTART;VALUE=DATE:20220218
DTEND;VALUE=DATE:20220219
DTSTAMP:20260424T045149
CREATED:20220218T071831Z
LAST-MODIFIED:20220218T071831Z
UID:4523-1645142400-1645228799@dukcapil-old.slemankab.go.id
SUMMARY:Koordinasi Data SIMDAGENAK
DESCRIPTION:
URL:https://dukcapil-old.slemankab.go.id/event/koordinasi-data-simdagenak
END:VEVENT
BEGIN:VEVENT
DTSTART;VALUE=DATE:20220218
DTEND;VALUE=DATE:20220219
DTSTAMP:20260424T045149
CREATED:20220218T071905Z
LAST-MODIFIED:20220218T071905Z
UID:4525-1645142400-1645228799@dukcapil-old.slemankab.go.id
SUMMARY:Rapat Persiapan Usulan Kegiatan Sumber Dana APBN Th 2023
DESCRIPTION:
URL:https://dukcapil-old.slemankab.go.id/event/rapat-persiapan-usulan-kegiatan-sumber-dana-apbn-th-2023
END:VEVENT
BEGIN:VEVENT
DTSTART;VALUE=DATE:20220219
DTEND;VALUE=DATE:20220220
DTSTAMP:20260424T045149
CREATED:20220218T073127Z
LAST-MODIFIED:20220218T073127Z
UID:4527-1645228800-1645315199@dukcapil-old.slemankab.go.id
SUMMARY:Diklat Analisis Jabatan 21-24 Februari 2022
DESCRIPTION:
URL:https://dukcapil-old.slemankab.go.id/event/diklat-analisis-jabatan-21-24-februari-2022
END:VEVENT
BEGIN:VEVENT
DTSTART;VALUE=DATE:20220219
DTEND;VALUE=DATE:20220220
DTSTAMP:20260424T045149
CREATED:20220218T073209Z
LAST-MODIFIED:20220218T073209Z
UID:4529-1645228800-1645315199@dukcapil-old.slemankab.go.id
SUMMARY:Rapat Koordinasi Tindak Lanjut Pemotongan DAU dan Input Perubahan Ketiga Penjabaran APBD TA 2022
DESCRIPTION:
URL:https://dukcapil-old.slemankab.go.id/event/rapat-koordinasi-tindak-lanjut-pemotongan-dau-dan-input-perubahan-ketiga-penjabaran-apbd-ta-2022
END:VEVENT
BEGIN:VEVENT
DTSTART;VALUE=DATE:20220219
DTEND;VALUE=DATE:20220220
DTSTAMP:20260424T045149
CREATED:20220218T073251Z
LAST-MODIFIED:20220218T073251Z
UID:4531-1645228800-1645315199@dukcapil-old.slemankab.go.id
SUMMARY:Rakoor Pelaksanaan Penyusunan Perjanjian Kerja Sama Pelayanan Terintegrasi Adminduk Pasca Perkawinan
DESCRIPTION:
URL:https://dukcapil-old.slemankab.go.id/event/rakoor-pelaksanaan-penyusunan-perjanjian-kerja-sama-pelayanan-terintegrasi-adminduk-pasca-perkawinan
END:VEVENT
BEGIN:VEVENT
DTSTART;VALUE=DATE:20220222
DTEND;VALUE=DATE:20220223
DTSTAMP:20260424T045149
CREATED:20220222T003929Z
LAST-MODIFIED:20220222T003929Z
UID:4533-1645488000-1645574399@dukcapil-old.slemankab.go.id
SUMMARY:Bulan zakat panutan BAZNAS kab Sleman thn 2022
DESCRIPTION:
URL:https://dukcapil-old.slemankab.go.id/event/bulan-zakat-panutan-baznas-kab-sleman-thn-2022
END:VEVENT
BEGIN:VEVENT
DTSTART;VALUE=DATE:20220222
DTEND;VALUE=DATE:20220223
DTSTAMP:20260424T045149
CREATED:20220222T004042Z
LAST-MODIFIED:20220222T004042Z
UID:4535-1645488000-1645574399@dukcapil-old.slemankab.go.id
SUMMARY:Sosialisasi kebijakan adminduk\, pelayanan KTP el\, pelayanan akta kelahiran dan kematian
DESCRIPTION:
URL:https://dukcapil-old.slemankab.go.id/event/sosialisasi-kebijakan-adminduk-pelayanan-ktp-el-pelayanan-akta-kelahiran-dan-kematian
END:VEVENT
BEGIN:VEVENT
DTSTART;VALUE=DATE:20220222
DTEND;VALUE=DATE:20220223
DTSTAMP:20260424T045149
CREATED:20220222T004115Z
LAST-MODIFIED:20220222T004115Z
UID:4537-1645488000-1645574399@dukcapil-old.slemankab.go.id
SUMMARY:Rapat Pokja PUG (Pengarusutamaan Gender)
DESCRIPTION:
URL:https://dukcapil-old.slemankab.go.id/event/rapat-pokja-pug-pengarusutamaan-gender
END:VEVENT
BEGIN:VEVENT
DTSTART;VALUE=DATE:20220222
DTEND;VALUE=DATE:20220223
DTSTAMP:20260424T045149
CREATED:20220222T004146Z
LAST-MODIFIED:20220222T004146Z
UID:4539-1645488000-1645574399@dukcapil-old.slemankab.go.id
SUMMARY:Peresmian Hasta Brata dan musyawarah Pleno Hasta Brata
DESCRIPTION:
URL:https://dukcapil-old.slemankab.go.id/event/peresmian-hasta-brata-dan-musyawarah-pleno-hasta-brata
END:VEVENT
BEGIN:VEVENT
DTSTART;VALUE=DATE:20220222
DTEND;VALUE=DATE:20220223
DTSTAMP:20260424T045149
CREATED:20220222T004552Z
LAST-MODIFIED:20220222T004552Z
UID:4541-1645488000-1645574399@dukcapil-old.slemankab.go.id
SUMMARY:Musyawarah Kabupaten KORPRI tahun 2022
DESCRIPTION:
URL:https://dukcapil-old.slemankab.go.id/event/musyawarah-kabupaten-korpri-tahun-2022
END:VEVENT
BEGIN:VEVENT
DTSTART;VALUE=DATE:20220222
DTEND;VALUE=DATE:20220223
DTSTAMP:20260424T045149
CREATED:20220222T004623Z
LAST-MODIFIED:20220222T004623Z
UID:4543-1645488000-1645574399@dukcapil-old.slemankab.go.id
SUMMARY:Narasumber dalam musyawarah Kabupaten KORPRI tahun 2022
DESCRIPTION:
URL:https://dukcapil-old.slemankab.go.id/event/narasumber-dalam-musyawarah-kabupaten-korpri-tahun-2022
END:VEVENT
BEGIN:VEVENT
DTSTART;VALUE=DATE:20220223
DTEND;VALUE=DATE:20220224
DTSTAMP:20260424T045149
CREATED:20220222T074140Z
LAST-MODIFIED:20220222T074140Z
UID:4545-1645574400-1645660799@dukcapil-old.slemankab.go.id
SUMMARY:Bimtek Media Sosial
DESCRIPTION:
URL:https://dukcapil-old.slemankab.go.id/event/bimtek-media-sosial
END:VEVENT
BEGIN:VEVENT
DTSTART;VALUE=DATE:20220223
DTEND;VALUE=DATE:20220224
DTSTAMP:20260424T045149
CREATED:20220222T074251Z
LAST-MODIFIED:20220222T074251Z
UID:4547-1645574400-1645660799@dukcapil-old.slemankab.go.id
SUMMARY:Bimtek Aplikasi Sistem Informasi Kearsipan Dinamis Terintegrasi (SRIKANDI)
DESCRIPTION:
URL:https://dukcapil-old.slemankab.go.id/event/bimtek-aplikasi-sistem-informasi-kearsipan-dinamis-terintegrasi-srikandi
END:VEVENT
BEGIN:VEVENT
DTSTART;VALUE=DATE:20220223
DTEND;VALUE=DATE:20220224
DTSTAMP:20260424T045149
CREATED:20220222T074320Z
LAST-MODIFIED:20220222T074320Z
UID:4549-1645574400-1645660799@dukcapil-old.slemankab.go.id
SUMMARY:Sosialisasi Kebijakan Adminduk  Pelayanan KTP el\, KIA\, Pelayanan Akta Kelahiran dan Kematian
DESCRIPTION:
URL:https://dukcapil-old.slemankab.go.id/event/sosialisasi-kebijakan-adminduk-pelayanan-ktp-el-kia-pelayanan-akta-kelahiran-dan-kematian
END:VEVENT
END:VCALENDAR