BEGIN:VCALENDAR
VERSION:2.0
PRODID:-//Dinas Kependudukan dan Pencatatan Sipil Kabupaten Sleman - ECPv6.4.0//NONSGML v1.0//EN
CALSCALE:GREGORIAN
METHOD:PUBLISH
X-ORIGINAL-URL:https://dukcapil-old.slemankab.go.id
X-WR-CALDESC:Events for Dinas Kependudukan dan Pencatatan Sipil Kabupaten Sleman
REFRESH-INTERVAL;VALUE=DURATION:PT1H
X-Robots-Tag:noindex
X-PUBLISHED-TTL:PT1H
BEGIN:VTIMEZONE
TZID:Asia/Jakarta
BEGIN:STANDARD
TZOFFSETFROM:+0700
TZOFFSETTO:+0700
TZNAME:WIB
DTSTART:20220101T000000
END:STANDARD
END:VTIMEZONE
BEGIN:VEVENT
DTSTART;VALUE=DATE:20220315
DTEND;VALUE=DATE:20220316
DTSTAMP:20260424T021437
CREATED:20220314T075708Z
LAST-MODIFIED:20220314T075708Z
UID:4678-1647302400-1647388799@dukcapil-old.slemankab.go.id
SUMMARY:Sosialisasi Kebijakan Adminduk Pelayanan KTP-EL\,KIA\,AKTA\,KK
DESCRIPTION:
URL:https://dukcapil-old.slemankab.go.id/event/sosialisasi-kebijakan-adminduk-pelayanan-ktp-elkiaaktakk
END:VEVENT
BEGIN:VEVENT
DTSTART;VALUE=DATE:20220315
DTEND;VALUE=DATE:20220316
DTSTAMP:20260424T021437
CREATED:20220314T075847Z
LAST-MODIFIED:20220314T075847Z
UID:4680-1647302400-1647388799@dukcapil-old.slemankab.go.id
SUMMARY:Rapat Pembahasan Bab Sosial\,Kependudukan\,Kesehatan dan Komunikasi dalam rangka kegiatan penyusunan DikPLHD Kab Sleman
DESCRIPTION:
URL:https://dukcapil-old.slemankab.go.id/event/rapat-pembahasan-bab-sosialkependudukankesehatan-dan-komunikasi-dalam-rangka-kegiatan-penyusunan-dikplhd-kab-sleman
END:VEVENT
BEGIN:VEVENT
DTSTART;VALUE=DATE:20220315
DTEND;VALUE=DATE:20220316
DTSTAMP:20260424T021437
CREATED:20220314T075927Z
LAST-MODIFIED:20220314T075927Z
UID:4682-1647302400-1647388799@dukcapil-old.slemankab.go.id
SUMMARY:Kunjungan Kerja dari Komisi A DPRD Kota Kediri ke Dukcapil Kab Sleman
DESCRIPTION:
URL:https://dukcapil-old.slemankab.go.id/event/kunjungan-kerja-dari-komisi-a-dprd-kota-kediri-ke-dukcapil-kab-sleman
END:VEVENT
BEGIN:VEVENT
DTSTART;VALUE=DATE:20220315
DTEND;VALUE=DATE:20220316
DTSTAMP:20260424T021437
CREATED:20220314T075959Z
LAST-MODIFIED:20220314T075959Z
UID:4684-1647302400-1647388799@dukcapil-old.slemankab.go.id
SUMMARY:FGD Mengenai Trend\, Multilevel Determinan Stunting Balita dan Co-Exixtnya
DESCRIPTION:
URL:https://dukcapil-old.slemankab.go.id/event/fgd-mengenai-trend-multilevel-determinan-stunting-balita-dan-co-exixtnya
END:VEVENT
BEGIN:VEVENT
DTSTART;VALUE=DATE:20220316
DTEND;VALUE=DATE:20220317
DTSTAMP:20260424T021437
CREATED:20220316T003238Z
LAST-MODIFIED:20220316T003238Z
UID:4704-1647388800-1647475199@dukcapil-old.slemankab.go.id
SUMMARY:Sosialisasi Peraturan DIY Nomor 9 Tahun 2015 Tentang Penyelenggaraan Administrasi Kependudukan dan KIA
DESCRIPTION:
URL:https://dukcapil-old.slemankab.go.id/event/sosialisasi-peraturan-diy-nomor-9-tahun-2015-tentang-penyelenggaraan-administrasi-kependudukan-dan-kia
END:VEVENT
BEGIN:VEVENT
DTSTART;VALUE=DATE:20220316
DTEND;VALUE=DATE:20220317
DTSTAMP:20260424T021437
CREATED:20220316T003433Z
LAST-MODIFIED:20220316T003433Z
UID:4706-1647388800-1647475199@dukcapil-old.slemankab.go.id
SUMMARY:Audensi dan Silahturahmi Pimpinan BAZNAS Kab Sleman
DESCRIPTION:
URL:https://dukcapil-old.slemankab.go.id/event/audensi-dan-silahturahmi-pimpinan-baznas-kab-sleman
END:VEVENT
BEGIN:VEVENT
DTSTART;VALUE=DATE:20220316
DTEND;VALUE=DATE:20220317
DTSTAMP:20260424T021437
CREATED:20220316T003454Z
LAST-MODIFIED:20220316T003454Z
UID:4708-1647388800-1647475199@dukcapil-old.slemankab.go.id
SUMMARY:Sosialisasi Kebijakan Adminduk Pelayanan KTP-El\,KIA\,AKTA\,KK
DESCRIPTION:
URL:https://dukcapil-old.slemankab.go.id/event/sosialisasi-kebijakan-adminduk-pelayanan-ktp-elkiaaktakk-2
END:VEVENT
BEGIN:VEVENT
DTSTART;VALUE=DATE:20220316
DTEND;VALUE=DATE:20220317
DTSTAMP:20260424T021437
CREATED:20220316T003514Z
LAST-MODIFIED:20220316T003514Z
UID:4710-1647388800-1647475199@dukcapil-old.slemankab.go.id
SUMMARY:Pengukuhan/Pelantikan Pengurus Kabupaten PBSI Sleman MB 2022-2026
DESCRIPTION:
URL:https://dukcapil-old.slemankab.go.id/event/pengukuhan-pelantikan-pengurus-kabupaten-pbsi-sleman-mb-2022-2026
END:VEVENT
BEGIN:VEVENT
DTSTART;VALUE=DATE:20220317
DTEND;VALUE=DATE:20220318
DTSTAMP:20260424T021437
CREATED:20220317T023758Z
LAST-MODIFIED:20220317T023758Z
UID:4729-1647475200-1647561599@dukcapil-old.slemankab.go.id
SUMMARY:Bimtek Aplikasi E-Procurement
DESCRIPTION:
URL:https://dukcapil-old.slemankab.go.id/event/bimtek-aplikasi-e-procurement
END:VEVENT
BEGIN:VEVENT
DTSTART;VALUE=DATE:20220317
DTEND;VALUE=DATE:20220318
DTSTAMP:20260424T021437
CREATED:20220317T023827Z
LAST-MODIFIED:20220317T023827Z
UID:4731-1647475200-1647561599@dukcapil-old.slemankab.go.id
SUMMARY:Bimtek Identifikasi Kegiatan Statistik dalam Program Kegiatan di Perangkat Daerah
DESCRIPTION:
URL:https://dukcapil-old.slemankab.go.id/event/bimtek-identifikasi-kegiatan-statistik-dalam-program-kegiatan-di-perangkat-daerah
END:VEVENT
BEGIN:VEVENT
DTSTART;VALUE=DATE:20220317
DTEND;VALUE=DATE:20220318
DTSTAMP:20260424T021437
CREATED:20220317T023851Z
LAST-MODIFIED:20220317T023851Z
UID:4733-1647475200-1647561599@dukcapil-old.slemankab.go.id
SUMMARY:Narasumber Pembinaan Adminduk
DESCRIPTION:
URL:https://dukcapil-old.slemankab.go.id/event/narasumber-pembinaan-adminduk-4
END:VEVENT
BEGIN:VEVENT
DTSTART;VALUE=DATE:20220317
DTEND;VALUE=DATE:20220318
DTSTAMP:20260424T021437
CREATED:20220317T023913Z
LAST-MODIFIED:20220317T023913Z
UID:4735-1647475200-1647561599@dukcapil-old.slemankab.go.id
SUMMARY:Relaas Panggilan
DESCRIPTION:
URL:https://dukcapil-old.slemankab.go.id/event/relaas-panggilan
END:VEVENT
BEGIN:VEVENT
DTSTART;VALUE=DATE:20220317
DTEND;VALUE=DATE:20220318
DTSTAMP:20260424T021437
CREATED:20220317T023934Z
LAST-MODIFIED:20220317T023934Z
UID:4737-1647475200-1647561599@dukcapil-old.slemankab.go.id
SUMMARY:Rapat Koordinasi Persiapan Keikutsertaan dalam Kompetisi Inovasi Pelayanaan Publik (KIPP) Tahun 2022
DESCRIPTION:
URL:https://dukcapil-old.slemankab.go.id/event/rapat-koordinasi-persiapan-keikutsertaan-dalam-kompetisi-inovasi-pelayanaan-publik-kipp-tahun-2022
END:VEVENT
BEGIN:VEVENT
DTSTART;VALUE=DATE:20220317
DTEND;VALUE=DATE:20220318
DTSTAMP:20260424T021437
CREATED:20220317T023953Z
LAST-MODIFIED:20220317T023953Z
UID:4739-1647475200-1647561599@dukcapil-old.slemankab.go.id
SUMMARY:Rapat Koordinas Peningkatan Kapasitas Mitra Kerja Pengendaliaan Penduduk
DESCRIPTION:
URL:https://dukcapil-old.slemankab.go.id/event/rapat-koordinas-peningkatan-kapasitas-mitra-kerja-pengendaliaan-penduduk
END:VEVENT
BEGIN:VEVENT
DTSTART;VALUE=DATE:20220317
DTEND;VALUE=DATE:20220318
DTSTAMP:20260424T021437
CREATED:20220317T024015Z
LAST-MODIFIED:20220317T024015Z
UID:4741-1647475200-1647561599@dukcapil-old.slemankab.go.id
SUMMARY:Kegiatan Sosialisasi Petunjuk Teknis Pengisian Perubahan Elemen Data
DESCRIPTION:
URL:https://dukcapil-old.slemankab.go.id/event/kegiatan-sosialisasi-petunjuk-teknis-pengisian-perubahan-elemen-data
END:VEVENT
BEGIN:VEVENT
DTSTART;VALUE=DATE:20220317
DTEND;VALUE=DATE:20220318
DTSTAMP:20260424T021437
CREATED:20220317T024032Z
LAST-MODIFIED:20220317T024032Z
UID:4743-1647475200-1647561599@dukcapil-old.slemankab.go.id
SUMMARY:Pembinaan Adminduk
DESCRIPTION:
URL:https://dukcapil-old.slemankab.go.id/event/pembinaan-adminduk
END:VEVENT
BEGIN:VEVENT
DTSTART;VALUE=DATE:20220317
DTEND;VALUE=DATE:20220318
DTSTAMP:20260424T021437
CREATED:20220317T024058Z
LAST-MODIFIED:20220317T024058Z
UID:4745-1647475200-1647561599@dukcapil-old.slemankab.go.id
SUMMARY:Rekonsiliasi Peserta PBPU BP Pemda Triwulan 1 Tahun 2022
DESCRIPTION:
URL:https://dukcapil-old.slemankab.go.id/event/rekonsiliasi-peserta-pbpu-bp-pemda-triwulan-1-tahun-2022
END:VEVENT
BEGIN:VEVENT
DTSTART;VALUE=DATE:20220318
DTEND;VALUE=DATE:20220319
DTSTAMP:20260424T021437
CREATED:20220318T011823Z
LAST-MODIFIED:20220318T011823Z
UID:4748-1647561600-1647647999@dukcapil-old.slemankab.go.id
SUMMARY:Rakernas Peningkatan Layanan Adminduk
DESCRIPTION:
URL:https://dukcapil-old.slemankab.go.id/event/rakernas-peningkatan-layanan-adminduk
END:VEVENT
BEGIN:VEVENT
DTSTART;VALUE=DATE:20220318
DTEND;VALUE=DATE:20220319
DTSTAMP:20260424T021437
CREATED:20220318T012118Z
LAST-MODIFIED:20220318T012118Z
UID:4750-1647561600-1647647999@dukcapil-old.slemankab.go.id
SUMMARY:Pertemuan Rutin Dharma Wanita Persatuan
DESCRIPTION:
URL:https://dukcapil-old.slemankab.go.id/event/pertemuan-rutin-dharma-wanita-persatuan
END:VEVENT
BEGIN:VEVENT
DTSTART;VALUE=DATE:20220318
DTEND;VALUE=DATE:20220319
DTSTAMP:20260424T021437
CREATED:20220318T012228Z
LAST-MODIFIED:20220318T012228Z
UID:4752-1647561600-1647647999@dukcapil-old.slemankab.go.id
SUMMARY:Koordinasi Pelaporan Panutan Pembayaran PBB-P2 Tahun 2022 Bagi ASN dan Pejabat Di Lingkungan Pemerintah Kab Sleman
DESCRIPTION:
URL:https://dukcapil-old.slemankab.go.id/event/koordinasi-pelaporan-panutan-pembayaran-pbb-p2-tahun-2022-bagi-asn-dan-pejabat-di-lingkungan-pemerintah-kab-sleman
END:VEVENT
BEGIN:VEVENT
DTSTART;VALUE=DATE:20220318
DTEND;VALUE=DATE:20220319
DTSTAMP:20260424T021437
CREATED:20220318T012430Z
LAST-MODIFIED:20220318T012430Z
UID:4754-1647561600-1647647999@dukcapil-old.slemankab.go.id
SUMMARY:Workshop Penerapan SIAK Terpusat Dan Problematikanya dg Pembuka Acara Ibu Bupati Sleman
DESCRIPTION:
URL:https://dukcapil-old.slemankab.go.id/event/workshop-penerapan-siak-terpusat-dan-problematikanya-dg-pembuka-acara-ibu-bupati-sleman
END:VEVENT
BEGIN:VEVENT
DTSTART;VALUE=DATE:20220321
DTEND;VALUE=DATE:20220322
DTSTAMP:20260424T021437
CREATED:20220321T010822Z
LAST-MODIFIED:20220321T010822Z
UID:4756-1647820800-1647907199@dukcapil-old.slemankab.go.id
SUMMARY:Balai Pengukuran Kompetensi Pegawai( Balai PKP) BKD DIY
DESCRIPTION:
URL:https://dukcapil-old.slemankab.go.id/event/balai-pengukuran-kompetensi-pegawai-balai-pkp-bkd-diy
END:VEVENT
BEGIN:VEVENT
DTSTART;VALUE=DATE:20220321
DTEND;VALUE=DATE:20220322
DTSTAMP:20260424T021437
CREATED:20220321T011335Z
LAST-MODIFIED:20220321T011335Z
UID:4758-1647820800-1647907199@dukcapil-old.slemankab.go.id
SUMMARY:Konsolidasi Kepersertaan Jaminan Kesehatan
DESCRIPTION:
URL:https://dukcapil-old.slemankab.go.id/event/konsolidasi-kepersertaan-jaminan-kesehatan
END:VEVENT
BEGIN:VEVENT
DTSTART;VALUE=DATE:20220321
DTEND;VALUE=DATE:20220322
DTSTAMP:20260424T021437
CREATED:20220321T011455Z
LAST-MODIFIED:20220321T011455Z
UID:4760-1647820800-1647907199@dukcapil-old.slemankab.go.id
SUMMARY:Rapat Paripurna Penyampaian LKPJ Bupati tahun 2021 Perubahan Propemperda 2022
DESCRIPTION:
URL:https://dukcapil-old.slemankab.go.id/event/rapat-paripurna-penyampaian-lkpj-bupati-tahun-2021-perubahan-propemperda-2022
END:VEVENT
BEGIN:VEVENT
DTSTART;VALUE=DATE:20220321
DTEND;VALUE=DATE:20220322
DTSTAMP:20260424T021437
CREATED:20220321T011545Z
LAST-MODIFIED:20220321T011545Z
UID:4762-1647820800-1647907199@dukcapil-old.slemankab.go.id
SUMMARY:Rapat Koordinasi Data Capaian Rencana Aksi Daerah Pembangunan Kependudukan
DESCRIPTION:
URL:https://dukcapil-old.slemankab.go.id/event/rapat-koordinasi-data-capaian-rencana-aksi-daerah-pembangunan-kependudukan
END:VEVENT
BEGIN:VEVENT
DTSTART;VALUE=DATE:20220322
DTEND;VALUE=DATE:20220323
DTSTAMP:20260424T021437
CREATED:20220323T004443Z
LAST-MODIFIED:20220323T004443Z
UID:4782-1647907200-1647993599@dukcapil-old.slemankab.go.id
SUMMARY:Sosialisasi Kebijakan Adminduk Pelayanan KTP-EL\,KIA\,AKTA\,KK
DESCRIPTION:
URL:https://dukcapil-old.slemankab.go.id/event/sosialisasi-kebijakan-adminduk-pelayanan-ktp-elkiaaktakk-3
END:VEVENT
BEGIN:VEVENT
DTSTART;VALUE=DATE:20220322
DTEND;VALUE=DATE:20220323
DTSTAMP:20260424T021437
CREATED:20220323T004701Z
LAST-MODIFIED:20220323T004701Z
UID:4784-1647907200-1647993599@dukcapil-old.slemankab.go.id
SUMMARY:Kegiatan Donor Darah Perwakilan dari Dharma Wanita Persatuan
DESCRIPTION:
URL:https://dukcapil-old.slemankab.go.id/event/kegiatan-donor-darah-perwakilan-dari-dharma-wanita-persatuan
END:VEVENT
BEGIN:VEVENT
DTSTART;VALUE=DATE:20220322
DTEND;VALUE=DATE:20220323
DTSTAMP:20260424T021437
CREATED:20220323T020927Z
LAST-MODIFIED:20220323T020927Z
UID:4787-1647907200-1647993599@dukcapil-old.slemankab.go.id
SUMMARY:Penyampaian SKPP\, rekam data dan Penjelasan dari PT Taspen bagi PNS Calon Purna Tugas TMT 1 April 2022
DESCRIPTION:
URL:https://dukcapil-old.slemankab.go.id/event/penyampaian-skpp-rekam-data-dan-penjelasan-dari-pt-taspen-bagi-pns-calon-purna-tugas-tmt-1-april-2022
END:VEVENT
BEGIN:VEVENT
DTSTART;VALUE=DATE:20220322
DTEND;VALUE=DATE:20220323
DTSTAMP:20260424T021437
CREATED:20220323T021322Z
LAST-MODIFIED:20220323T021322Z
UID:4789-1647907200-1647993599@dukcapil-old.slemankab.go.id
SUMMARY:Rapat Penysusnan Daftar Panjang Isu Prioritas Lingkungan Hidup Daerah
DESCRIPTION:
URL:https://dukcapil-old.slemankab.go.id/event/rapat-penysusnan-daftar-panjang-isu-prioritas-lingkungan-hidup-daerah
END:VEVENT
BEGIN:VEVENT
DTSTART;VALUE=DATE:20220322
DTEND;VALUE=DATE:20220323
DTSTAMP:20260424T021437
CREATED:20220323T021445Z
LAST-MODIFIED:20220323T021445Z
UID:4791-1647907200-1647993599@dukcapil-old.slemankab.go.id
SUMMARY:Penyampaian Nota Keuangan Raperda Tentang Pertanggung Jawaban APBD T.A 2021
DESCRIPTION:
URL:https://dukcapil-old.slemankab.go.id/event/penyampaian-nota-keuangan-raperda-tentang-pertanggung-jawaban-apbd-t-a-2021
END:VEVENT
END:VCALENDAR