BEGIN:VCALENDAR
VERSION:2.0
PRODID:-//Dinas Kependudukan dan Pencatatan Sipil Kabupaten Sleman - ECPv6.4.0//NONSGML v1.0//EN
CALSCALE:GREGORIAN
METHOD:PUBLISH
X-ORIGINAL-URL:https://dukcapil-old.slemankab.go.id
X-WR-CALDESC:Events for Dinas Kependudukan dan Pencatatan Sipil Kabupaten Sleman
REFRESH-INTERVAL;VALUE=DURATION:PT1H
X-Robots-Tag:noindex
X-PUBLISHED-TTL:PT1H
BEGIN:VTIMEZONE
TZID:Asia/Jakarta
BEGIN:STANDARD
TZOFFSETFROM:+0700
TZOFFSETTO:+0700
TZNAME:WIB
DTSTART:20220101T000000
END:STANDARD
END:VTIMEZONE
BEGIN:VEVENT
DTSTART;VALUE=DATE:20220325
DTEND;VALUE=DATE:20220326
DTSTAMP:20260424T034209
CREATED:20220325T012918Z
LAST-MODIFIED:20220325T012918Z
UID:4824-1648166400-1648252799@dukcapil-old.slemankab.go.id
SUMMARY:Persiapan SIAK Terpusat
DESCRIPTION:
URL:https://dukcapil-old.slemankab.go.id/event/persiapan-siak-terpusat
END:VEVENT
BEGIN:VEVENT
DTSTART;VALUE=DATE:20220325
DTEND;VALUE=DATE:20220326
DTSTAMP:20260424T034209
CREATED:20220325T013024Z
LAST-MODIFIED:20220325T013024Z
UID:4826-1648166400-1648252799@dukcapil-old.slemankab.go.id
SUMMARY:1.Pengukuhan Pengurus FKA Periode 2022-2024 2.Penyusunan Program Kerja Periode 2022-2023
DESCRIPTION:
URL:https://dukcapil-old.slemankab.go.id/event/1-pengukuhan-pengurus-fka-periode-2022-2024-2-penyusunan-program-kerja-periode-2022-2023
END:VEVENT
BEGIN:VEVENT
DTSTART;VALUE=DATE:20220325
DTEND;VALUE=DATE:20220326
DTSTAMP:20260424T034209
CREATED:20220325T013106Z
LAST-MODIFIED:20220325T013106Z
UID:4828-1648166400-1648252799@dukcapil-old.slemankab.go.id
SUMMARY:Pengajian Rutin Dharma Wanita Persatuan Kab Sleman
DESCRIPTION:
URL:https://dukcapil-old.slemankab.go.id/event/pengajian-rutin-dharma-wanita-persatuan-kab-sleman-3
END:VEVENT
BEGIN:VEVENT
DTSTART;VALUE=DATE:20220325
DTEND;VALUE=DATE:20220326
DTSTAMP:20260424T034209
CREATED:20220325T013127Z
LAST-MODIFIED:20220325T013127Z
UID:4830-1648166400-1648252799@dukcapil-old.slemankab.go.id
SUMMARY:Seserahan/Silahturahmi Petugas Register Desa dg Bapak/Ibu Dinas Dukcapil Kab Sleman
DESCRIPTION:
URL:https://dukcapil-old.slemankab.go.id/event/seserahan-silahturahmi-petugas-register-desa-dg-bapak-ibu-dinas-dukcapil-kab-sleman
END:VEVENT
BEGIN:VEVENT
DTSTART;VALUE=DATE:20220325
DTEND;VALUE=DATE:20220326
DTSTAMP:20260424T034209
CREATED:20220325T013148Z
LAST-MODIFIED:20220325T013148Z
UID:4832-1648166400-1648252799@dukcapil-old.slemankab.go.id
SUMMARY:Rapat Koordinasi Persiapan Pengukuhan DP KORPRI Kab Sleman dan DP KORPRI Unit Se-Kabupaten Sleman
DESCRIPTION:
URL:https://dukcapil-old.slemankab.go.id/event/rapat-koordinasi-persiapan-pengukuhan-dp-korpri-kab-sleman-dan-dp-korpri-unit-se-kabupaten-sleman
END:VEVENT
BEGIN:VEVENT
DTSTART;VALUE=DATE:20220326
DTEND;VALUE=DATE:20220327
DTSTAMP:20260424T034209
CREATED:20220328T005104Z
LAST-MODIFIED:20220328T005104Z
UID:4834-1648252800-1648339199@dukcapil-old.slemankab.go.id
SUMMARY:Undangan Seminar Perkumpulan Masyarakat Perkawinan Campuran Indonesia (Perca Indonesia)
DESCRIPTION:
URL:https://dukcapil-old.slemankab.go.id/event/undangan-seminar-perkumpulan-masyarakat-perkawinan-campuran-indonesia-perca-indonesia
END:VEVENT
BEGIN:VEVENT
DTSTART;VALUE=DATE:20220328
DTEND;VALUE=DATE:20220329
DTSTAMP:20260424T034209
CREATED:20220328T005252Z
LAST-MODIFIED:20220328T005252Z
UID:4836-1648425600-1648511999@dukcapil-old.slemankab.go.id
SUMMARY:Rapat Koordinasi Profil Desa / Kalurahan Kab Sleman
DESCRIPTION:
URL:https://dukcapil-old.slemankab.go.id/event/rapat-koordinasi-profil-desa-kalurahan-kab-sleman
END:VEVENT
BEGIN:VEVENT
DTSTART;VALUE=DATE:20220328
DTEND;VALUE=DATE:20220329
DTSTAMP:20260424T034209
CREATED:20220328T005320Z
LAST-MODIFIED:20220328T005320Z
UID:4838-1648425600-1648511999@dukcapil-old.slemankab.go.id
SUMMARY:Rapat Paripurna Penyampaian Pandangan Umum Fraksi Terhadap Pertanggungjawaban APBD TA 202
DESCRIPTION:
URL:https://dukcapil-old.slemankab.go.id/event/rapat-paripurna-penyampaian-pandangan-umum-fraksi-terhadap-pertanggungjawaban-apbd-ta-202
END:VEVENT
BEGIN:VEVENT
DTSTART;VALUE=DATE:20220329
DTEND;VALUE=DATE:20220330
DTSTAMP:20260424T034209
CREATED:20220329T012446Z
LAST-MODIFIED:20220329T012446Z
UID:4841-1648512000-1648598399@dukcapil-old.slemankab.go.id
SUMMARY:Musrenbang RKPD Sleman Tahun 2023
DESCRIPTION:
URL:https://dukcapil-old.slemankab.go.id/event/musrenbang-rkpd-sleman-tahun-2023
END:VEVENT
BEGIN:VEVENT
DTSTART;VALUE=DATE:20220329
DTEND;VALUE=DATE:20220330
DTSTAMP:20260424T034209
CREATED:20220329T012640Z
LAST-MODIFIED:20220329T012640Z
UID:4843-1648512000-1648598399@dukcapil-old.slemankab.go.id
SUMMARY:Narasumber Sosialisasi Administrasi Kependudukan
DESCRIPTION:
URL:https://dukcapil-old.slemankab.go.id/event/narasumber-sosialisasi-administrasi-kependudukan
END:VEVENT
BEGIN:VEVENT
DTSTART;VALUE=DATE:20220329
DTEND;VALUE=DATE:20220330
DTSTAMP:20260424T034209
CREATED:20220329T014613Z
LAST-MODIFIED:20220329T014613Z
UID:4845-1648512000-1648598399@dukcapil-old.slemankab.go.id
SUMMARY:Forum Komunikasi Kepada Pemangku Kepentingan Utama BPJS Kesehatan Semster 1 Tahun 2022
DESCRIPTION:
URL:https://dukcapil-old.slemankab.go.id/event/forum-komunikasi-kepada-pemangku-kepentingan-utama-bpjs-kesehatan-semster-1-tahun-2022
END:VEVENT
BEGIN:VEVENT
DTSTART;VALUE=DATE:20220329
DTEND;VALUE=DATE:20220330
DTSTAMP:20260424T034209
CREATED:20220329T014642Z
LAST-MODIFIED:20220329T014642Z
UID:4847-1648512000-1648598399@dukcapil-old.slemankab.go.id
SUMMARY:Rakor 1.Pelayanan KK dan KTP Pasca Pernikahan. Evaluasi Pelayanan Admnistrasi Kepndudkan Triwulan I .
DESCRIPTION:
URL:https://dukcapil-old.slemankab.go.id/event/rakor-1-pelayanan-kk-dan-ktp-pasca-pernikahan-evaluasi-pelayanan-admnistrasi-kepndudkan-triwulan-i
END:VEVENT
BEGIN:VEVENT
DTSTART;VALUE=DATE:20220330
DTEND;VALUE=DATE:20220331
DTSTAMP:20260424T034209
CREATED:20220330T003641Z
LAST-MODIFIED:20220330T003641Z
UID:4851-1648598400-1648684799@dukcapil-old.slemankab.go.id
SUMMARY:Seminar di Seminasi AMP Dalam Upaya Pencegahan Kematian Ibu
DESCRIPTION:
URL:https://dukcapil-old.slemankab.go.id/event/seminar-di-seminasi-amp-dalam-upaya-pencegahan-kematian-ibu
END:VEVENT
BEGIN:VEVENT
DTSTART;VALUE=DATE:20220330
DTEND;VALUE=DATE:20220331
DTSTAMP:20260424T034209
CREATED:20220330T003743Z
LAST-MODIFIED:20220330T003743Z
UID:4853-1648598400-1648684799@dukcapil-old.slemankab.go.id
SUMMARY:Narasumber Integritas Kependudukan di Kab Sleman
DESCRIPTION:
URL:https://dukcapil-old.slemankab.go.id/event/narasumber-integritas-kependudukan-di-kab-sleman
END:VEVENT
BEGIN:VEVENT
DTSTART;VALUE=DATE:20220330
DTEND;VALUE=DATE:20220331
DTSTAMP:20260424T034209
CREATED:20220330T003917Z
LAST-MODIFIED:20220330T003917Z
UID:4855-1648598400-1648684799@dukcapil-old.slemankab.go.id
SUMMARY:Narasumber Rangka Meningkatkan Kualitas Pelayanan dan Menyediakan Data Informasi
DESCRIPTION:
URL:https://dukcapil-old.slemankab.go.id/event/narasumber-rangka-meningkatkan-kualitas-pelayanan-dan-menyediakan-data-informasi
END:VEVENT
BEGIN:VEVENT
DTSTART;VALUE=DATE:20220330
DTEND;VALUE=DATE:20220331
DTSTAMP:20260424T034209
CREATED:20220330T004630Z
LAST-MODIFIED:20220330T004630Z
UID:4857-1648598400-1648684799@dukcapil-old.slemankab.go.id
SUMMARY:Monev Pelaksanaan Zona Integritas
DESCRIPTION:
URL:https://dukcapil-old.slemankab.go.id/event/monev-pelaksanaan-zona-integritas
END:VEVENT
BEGIN:VEVENT
DTSTART;VALUE=DATE:20220330
DTEND;VALUE=DATE:20220331
DTSTAMP:20260424T034209
CREATED:20220330T004658Z
LAST-MODIFIED:20220330T004658Z
UID:4859-1648598400-1648684799@dukcapil-old.slemankab.go.id
SUMMARY:Rapat Dinas
DESCRIPTION:
URL:https://dukcapil-old.slemankab.go.id/event/rapat-dinas
END:VEVENT
BEGIN:VEVENT
DTSTART;VALUE=DATE:20220330
DTEND;VALUE=DATE:20220331
DTSTAMP:20260424T034209
CREATED:20220330T004723Z
LAST-MODIFIED:20220330T004723Z
UID:4861-1648598400-1648684799@dukcapil-old.slemankab.go.id
SUMMARY:Rapat Koordinasi Reviu Road Map Reformasi Birokarasi Kab Sleman TA 2020-2024
DESCRIPTION:
URL:https://dukcapil-old.slemankab.go.id/event/rapat-koordinasi-reviu-road-map-reformasi-birokarasi-kab-sleman-ta-2020-2024
END:VEVENT
BEGIN:VEVENT
DTSTART;VALUE=DATE:20220331
DTEND;VALUE=DATE:20220401
DTSTAMP:20260424T034209
CREATED:20220331T021050Z
LAST-MODIFIED:20220331T021050Z
UID:4865-1648684800-1648771199@dukcapil-old.slemankab.go.id
SUMMARY:Pengukuhan Dewan Pengurus KORPRI Kab Sleman dan Dewan Pengurus KORPRI Unit Se Kab Sleman Periode TA 2022-2027
DESCRIPTION:
URL:https://dukcapil-old.slemankab.go.id/event/pengukuhan-dewan-pengurus-korpri-kab-sleman-dan-dewan-pengurus-korpri-unit-se-kab-sleman-periode-ta-2022-2027
END:VEVENT
BEGIN:VEVENT
DTSTART;VALUE=DATE:20220331
DTEND;VALUE=DATE:20220401
DTSTAMP:20260424T034209
CREATED:20220331T021151Z
LAST-MODIFIED:20220331T021151Z
UID:4867-1648684800-1648771199@dukcapil-old.slemankab.go.id
SUMMARY:Temu Muzaki dan mustahik
DESCRIPTION:
URL:https://dukcapil-old.slemankab.go.id/event/temu-muzaki-dan-mustahik
END:VEVENT
BEGIN:VEVENT
DTSTART;VALUE=DATE:20220331
DTEND;VALUE=DATE:20220401
DTSTAMP:20260424T034209
CREATED:20220331T021216Z
LAST-MODIFIED:20220331T021216Z
UID:4869-1648684800-1648771199@dukcapil-old.slemankab.go.id
SUMMARY:Narasumber Sosialisasi Kependudkan
DESCRIPTION:
URL:https://dukcapil-old.slemankab.go.id/event/narasumber-sosialisasi-kependudkan
END:VEVENT
BEGIN:VEVENT
DTSTART;VALUE=DATE:20220401
DTEND;VALUE=DATE:20220402
DTSTAMP:20260424T034209
CREATED:20220401T031949Z
LAST-MODIFIED:20220401T031949Z
UID:4871-1648771200-1648857599@dukcapil-old.slemankab.go.id
SUMMARY:Launching Event Ramadhan Great Sale
DESCRIPTION:
URL:https://dukcapil-old.slemankab.go.id/event/launching-event-ramadhan-great-sale
END:VEVENT
BEGIN:VEVENT
DTSTART;VALUE=DATE:20220401
DTEND;VALUE=DATE:20220402
DTSTAMP:20260424T034209
CREATED:20220401T032108Z
LAST-MODIFIED:20220401T032108Z
UID:4873-1648771200-1648857599@dukcapil-old.slemankab.go.id
SUMMARY:Rapat Koordinasi Monev Pelaksanaan DAK Triwulan I TA 2022
DESCRIPTION:
URL:https://dukcapil-old.slemankab.go.id/event/rapat-koordinasi-monev-pelaksanaan-dak-triwulan-i-ta-2022
END:VEVENT
BEGIN:VEVENT
DTSTART;VALUE=DATE:20220401
DTEND;VALUE=DATE:20220402
DTSTAMP:20260424T034209
CREATED:20220401T032148Z
LAST-MODIFIED:20220401T032148Z
UID:4875-1648771200-1648857599@dukcapil-old.slemankab.go.id
SUMMARY:Pengajian Dalam Rangka Peringatan Isra Miraj dan Menjelang Bulan Suci Ramadhan 1443 H / 2022 M
DESCRIPTION:
URL:https://dukcapil-old.slemankab.go.id/event/pengajian-dalam-rangka-peringatan-isra-miraj-dan-menjelang-bulan-suci-ramadhan-1443-h-2022-m
END:VEVENT
BEGIN:VEVENT
DTSTART;VALUE=DATE:20220404
DTEND;VALUE=DATE:20220405
DTSTAMP:20260424T034209
CREATED:20220401T071440Z
LAST-MODIFIED:20220401T071440Z
UID:4878-1649030400-1649116799@dukcapil-old.slemankab.go.id
SUMMARY:Rapat Koordinasi Pencermatan Output Rancangan Renja Perangkat Daerah Bidang Pemerintah dan SDM
DESCRIPTION:
URL:https://dukcapil-old.slemankab.go.id/event/rapat-koordinasi-pencermatan-output-rancangan-renja-perangkat-daerah-bidang-pemerintah-dan-sdm
END:VEVENT
BEGIN:VEVENT
DTSTART;VALUE=DATE:20220404
DTEND;VALUE=DATE:20220405
DTSTAMP:20260424T034209
CREATED:20220401T071614Z
LAST-MODIFIED:20220401T071627Z
UID:4880-1649030400-1649116799@dukcapil-old.slemankab.go.id
SUMMARY:Safari Tarawih Bupati Beserta Perangkat Daerah di Lingkungan Pemerintah Kab Sleman TA 2022
DESCRIPTION:
URL:https://dukcapil-old.slemankab.go.id/event/safari-tarawih-bupati-beserta-perangkat-daerah-di-lingkungan-pemerintah-kab-sleman-ta-2022
END:VEVENT
BEGIN:VEVENT
DTSTART;VALUE=DATE:20220405
DTEND;VALUE=DATE:20220406
DTSTAMP:20260424T034209
CREATED:20220405T004022Z
LAST-MODIFIED:20220405T004022Z
UID:4903-1649116800-1649203199@dukcapil-old.slemankab.go.id
SUMMARY:Safari Tarawih Bupati Beserta Perangkat Daerah di Lingkungan Pemerintah Kab Sleman TA 2022
DESCRIPTION:
URL:https://dukcapil-old.slemankab.go.id/event/safari-tarawih-bupati-beserta-perangkat-daerah-di-lingkungan-pemerintah-kab-sleman-ta-2022-2
END:VEVENT
BEGIN:VEVENT
DTSTART;VALUE=DATE:20220405
DTEND;VALUE=DATE:20220406
DTSTAMP:20260424T034209
CREATED:20220405T004140Z
LAST-MODIFIED:20220405T004140Z
UID:4905-1649116800-1649203199@dukcapil-old.slemankab.go.id
SUMMARY:Menghadap Sidang Pengadilan Negeri Sleman
DESCRIPTION:
URL:https://dukcapil-old.slemankab.go.id/event/menghadap-sidang-pengadilan-negeri-sleman
END:VEVENT
BEGIN:VEVENT
DTSTART;VALUE=DATE:20220405
DTEND;VALUE=DATE:20220406
DTSTAMP:20260424T034209
CREATED:20220405T004209Z
LAST-MODIFIED:20220405T004209Z
UID:4907-1649116800-1649203199@dukcapil-old.slemankab.go.id
SUMMARY:Koordinasi PPDB Tahun 2022
DESCRIPTION:
URL:https://dukcapil-old.slemankab.go.id/event/koordinasi-ppdb-tahun-2022
END:VEVENT
BEGIN:VEVENT
DTSTART;VALUE=DATE:20220405
DTEND;VALUE=DATE:20220406
DTSTAMP:20260424T034209
CREATED:20220405T004235Z
LAST-MODIFIED:20220405T004235Z
UID:4909-1649116800-1649203199@dukcapil-old.slemankab.go.id
SUMMARY:Rapat Koordinasi Pemakaian Seragam KORPRI Baru Sesuai Surat Edaran DP KORPRI Nasional Nomor 02 Th 2022
DESCRIPTION:
URL:https://dukcapil-old.slemankab.go.id/event/rapat-koordinasi-pemakaian-seragam-korpri-baru-sesuai-surat-edaran-dp-korpri-nasional-nomor-02-th-2022
END:VEVENT
END:VCALENDAR