BEGIN:VCALENDAR
VERSION:2.0
PRODID:-//Dinas Kependudukan dan Pencatatan Sipil Kabupaten Sleman - ECPv6.4.0//NONSGML v1.0//EN
CALSCALE:GREGORIAN
METHOD:PUBLISH
X-ORIGINAL-URL:https://dukcapil-old.slemankab.go.id
X-WR-CALDESC:Events for Dinas Kependudukan dan Pencatatan Sipil Kabupaten Sleman
REFRESH-INTERVAL;VALUE=DURATION:PT1H
X-Robots-Tag:noindex
X-PUBLISHED-TTL:PT1H
BEGIN:VTIMEZONE
TZID:Asia/Jakarta
BEGIN:STANDARD
TZOFFSETFROM:+0700
TZOFFSETTO:+0700
TZNAME:WIB
DTSTART:20220101T000000
END:STANDARD
END:VTIMEZONE
BEGIN:VEVENT
DTSTART;VALUE=DATE:20220413
DTEND;VALUE=DATE:20220414
DTSTAMP:20260424T040021
CREATED:20220413T004328Z
LAST-MODIFIED:20220413T004328Z
UID:4986-1649808000-1649894399@dukcapil-old.slemankab.go.id
SUMMARY:Review dan Evaluasi PPRG Kab Sleman
DESCRIPTION:08.30 \nAula Pangripta Bappeda Sleman
URL:https://dukcapil-old.slemankab.go.id/event/review-dan-evaluasi-pprg-kab-sleman-2
END:VEVENT
BEGIN:VEVENT
DTSTART;VALUE=DATE:20220413
DTEND;VALUE=DATE:20220414
DTSTAMP:20260424T040021
CREATED:20220413T004402Z
LAST-MODIFIED:20220413T004402Z
UID:4988-1649808000-1649894399@dukcapil-old.slemankab.go.id
SUMMARY:Optimalisasi Pembayaran Zakat dari Gaji PNS dan BUMD Kab Sleman
DESCRIPTION:
URL:https://dukcapil-old.slemankab.go.id/event/optimalisasi-pembayaran-zakat-dari-gaji-pns-dan-bumd-kab-sleman
END:VEVENT
BEGIN:VEVENT
DTSTART;VALUE=DATE:20220413
DTEND;VALUE=DATE:20220414
DTSTAMP:20260424T040021
CREATED:20220413T004428Z
LAST-MODIFIED:20220413T004428Z
UID:4990-1649808000-1649894399@dukcapil-old.slemankab.go.id
SUMMARY:Rapat Koordinasi Pengendalian Pembangunan Dalam Rangka Evaluasi Pelaksanaan Kegiatan Triwulan I Tahun 2022
DESCRIPTION:12.30 \nAula Pangripta Bappeda Kab Sleman
URL:https://dukcapil-old.slemankab.go.id/event/rapat-koordinasi-pengendalian-pembangunan-dalam-rangka-evaluasi-pelaksanaan-kegiatan-triwulan-i-tahun-2022
END:VEVENT
BEGIN:VEVENT
DTSTART;VALUE=DATE:20220413
DTEND;VALUE=DATE:20220414
DTSTAMP:20260424T040021
CREATED:20220413T004503Z
LAST-MODIFIED:20220413T004503Z
UID:4992-1649808000-1649894399@dukcapil-old.slemankab.go.id
SUMMARY:Sosialisasi Monev Keterbukaan Informasi Badan Publik Se-DIY Tahun 2022 Secara Daring/Virtual
DESCRIPTION:13.00 \nZoom Meeting
URL:https://dukcapil-old.slemankab.go.id/event/sosialisasi-monev-keterbukaan-informasi-badan-publik-se-diy-tahun-2022-secara-daring-virtual
END:VEVENT
BEGIN:VEVENT
DTSTART;VALUE=DATE:20220414
DTEND;VALUE=DATE:20220415
DTSTAMP:20260424T040021
CREATED:20220414T061705Z
LAST-MODIFIED:20220414T061705Z
UID:4994-1649894400-1649980799@dukcapil-old.slemankab.go.id
SUMMARY:Safari Tarawih Bupati Beserta Perangkat Daerah di Lingkungan Pemerintah Kab Sleman Th 2022
DESCRIPTION:Masjid At Taqwa Sidorejo Tabayan Sendangrejo Minggir
URL:https://dukcapil-old.slemankab.go.id/event/safari-tarawih-bupati-beserta-perangkat-daerah-di-lingkungan-pemerintah-kab-sleman-th-2022-4
END:VEVENT
BEGIN:VEVENT
DTSTART;VALUE=DATE:20220414
DTEND;VALUE=DATE:20220415
DTSTAMP:20260424T040021
CREATED:20220414T061737Z
LAST-MODIFIED:20220414T061737Z
UID:4996-1649894400-1649980799@dukcapil-old.slemankab.go.id
SUMMARY:Sosialisasi Peraturan Pemrintah Nomor 25 Tahun 2020 Tentnag Penyelenggaraan Tabungan Perubahan Rakyat dan Sistem E-KinerjaTahun 2022
DESCRIPTION:08.00 \nRuang Rapat Bima Lt 3 BKPP Kab sleman
URL:https://dukcapil-old.slemankab.go.id/event/sosialisasi-peraturan-pemrintah-nomor-25-tahun-2020-tentnag-penyelenggaraan-tabungan-perubahan-rakyat-dan-sistem-e-kinerjatahun-2022
END:VEVENT
BEGIN:VEVENT
DTSTART;VALUE=DATE:20220414
DTEND;VALUE=DATE:20220415
DTSTAMP:20260424T040021
CREATED:20220414T061808Z
LAST-MODIFIED:20220414T061808Z
UID:4998-1649894400-1649980799@dukcapil-old.slemankab.go.id
SUMMARY:Permohonan Peserta “ Sleman Smart Campaign “
DESCRIPTION:10.00 \nHartono Mall
URL:https://dukcapil-old.slemankab.go.id/event/permohonan-peserta-sleman-smart-campaign
END:VEVENT
BEGIN:VEVENT
DTSTART;VALUE=DATE:20220414
DTEND;VALUE=DATE:20220415
DTSTAMP:20260424T040021
CREATED:20220414T061833Z
LAST-MODIFIED:20220414T061833Z
UID:5000-1649894400-1649980799@dukcapil-old.slemankab.go.id
SUMMARY:Rapat Koordinasi Pembahasan Pelayanan Kependudukan di Kapanewon Dalam Rangka Sinkronisasi Pembangunan Wilayah Perbatasan
DESCRIPTION:10.00 \nR R Bagian Pemerintahan Setda Kab Sleman
URL:https://dukcapil-old.slemankab.go.id/event/rapat-koordinasi-pembahasan-pelayanan-kependudukan-di-kapanewon-dalam-rangka-sinkronisasi-pembangunan-wilayah-perbatasan
END:VEVENT
BEGIN:VEVENT
DTSTART;VALUE=DATE:20220414
DTEND;VALUE=DATE:20220415
DTSTAMP:20260424T040021
CREATED:20220414T061909Z
LAST-MODIFIED:20220414T061909Z
UID:5002-1649894400-1649980799@dukcapil-old.slemankab.go.id
SUMMARY:Sosialisasi Kebijakan Administrasi Kependudukan Optimalisasi Pelayanan Akta Kelahiran dan KIA Bagi Siswa PAUD
DESCRIPTION:12.30 \nR R Lt 2 Kapanewon Berbah
URL:https://dukcapil-old.slemankab.go.id/event/sosialisasi-kebijakan-administrasi-kependudukan-optimalisasi-pelayanan-akta-kelahiran-dan-kia-bagi-siswa-paud
END:VEVENT
BEGIN:VEVENT
DTSTART;VALUE=DATE:20220418
DTEND;VALUE=DATE:20220419
DTSTAMP:20260424T040021
CREATED:20220419T003217Z
LAST-MODIFIED:20220419T003217Z
UID:5013-1650240000-1650326399@dukcapil-old.slemankab.go.id
SUMMARY:Rapat Evlauasi Pelayanan Informasi Publik
DESCRIPTION:13.00 \nR.R Lt 3 Dinas Kominfo
URL:https://dukcapil-old.slemankab.go.id/event/rapat-evlauasi-pelayanan-informasi-publik
END:VEVENT
BEGIN:VEVENT
DTSTART;VALUE=DATE:20220419
DTEND;VALUE=DATE:20220420
DTSTAMP:20260424T040021
CREATED:20220419T002948Z
LAST-MODIFIED:20220419T002948Z
UID:5007-1650326400-1650412799@dukcapil-old.slemankab.go.id
SUMMARY:Rapat koordinasi pimpinan bulan April 2022
DESCRIPTION:09.00 \nAula Lt 3 Setda Sleman
URL:https://dukcapil-old.slemankab.go.id/event/rapat-koordinasi-pimpinan-bulan-april-2022
END:VEVENT
BEGIN:VEVENT
DTSTART;VALUE=DATE:20220419
DTEND;VALUE=DATE:20220420
DTSTAMP:20260424T040021
CREATED:20220419T003043Z
LAST-MODIFIED:20220419T003043Z
UID:5009-1650326400-1650412799@dukcapil-old.slemankab.go.id
SUMMARY:Narasumber Pembinaan  bagi RT/RW se Kalurahan Bokoharjo
DESCRIPTION:13.00 \nBalai Kalurahan Bokoharjo Prambanan
URL:https://dukcapil-old.slemankab.go.id/event/narasumber-pembinaan-bagi-rt-rw-se-kalurahan-bokoharjo
END:VEVENT
BEGIN:VEVENT
DTSTART;VALUE=DATE:20220419
DTEND;VALUE=DATE:20220420
DTSTAMP:20260424T040021
CREATED:20220419T003128Z
LAST-MODIFIED:20220419T003128Z
UID:5011-1650326400-1650412799@dukcapil-old.slemankab.go.id
SUMMARY:Peringatan Nuzulul Quran dan doa syukur umat Islam dalam rangka peringatan Hari jadi Kab Sleman yang ke 106
DESCRIPTION:19.00 \nMasjid Agung Dr Wahidin Soedirohusodo Kab Sleman
URL:https://dukcapil-old.slemankab.go.id/event/peringatan-nuzulul-quran-dan-doa-syukur-umat-islam-dalam-rangka-peringatan-hari-jadi-kab-sleman-yang-ke-106
END:VEVENT
BEGIN:VEVENT
DTSTART;VALUE=DATE:20220420
DTEND;VALUE=DATE:20220421
DTSTAMP:20260424T040021
CREATED:20220422T004353Z
LAST-MODIFIED:20220422T004353Z
UID:5036-1650412800-1650499199@dukcapil-old.slemankab.go.id
SUMMARY:Rapat Dinas
DESCRIPTION:09.00 \nR.R Dinas Dukcapil
URL:https://dukcapil-old.slemankab.go.id/event/rapat-dinas-2
END:VEVENT
BEGIN:VEVENT
DTSTART;VALUE=DATE:20220420
DTEND;VALUE=DATE:20220421
DTSTAMP:20260424T040021
CREATED:20220422T004600Z
LAST-MODIFIED:20220422T004600Z
UID:5038-1650412800-1650499199@dukcapil-old.slemankab.go.id
SUMMARY:Koordinasi terkait persiapan pelaksanaan pelayanan adminduk bagi penyandang disabilitas
DESCRIPTION:09.00 \nR.R Dharma Praja Biro tapem setda DIY lantai 3
URL:https://dukcapil-old.slemankab.go.id/event/koordinasi-terkait-persiapan-pelaksanaan-pelayanan-adminduk-bagi-penyandang-disabilitas
END:VEVENT
BEGIN:VEVENT
DTSTART;VALUE=DATE:20220420
DTEND;VALUE=DATE:20220421
DTSTAMP:20260424T040021
CREATED:20220422T004730Z
LAST-MODIFIED:20220422T004730Z
UID:5040-1650412800-1650499199@dukcapil-old.slemankab.go.id
SUMMARY:Relaas Panggilan
DESCRIPTION:10.00 \nP Negeri Sleman
URL:https://dukcapil-old.slemankab.go.id/event/relaas-panggilan-2
END:VEVENT
BEGIN:VEVENT
DTSTART;VALUE=DATE:20220420
DTEND;VALUE=DATE:20220421
DTSTAMP:20260424T040021
CREATED:20220422T004840Z
LAST-MODIFIED:20220422T004840Z
UID:5042-1650412800-1650499199@dukcapil-old.slemankab.go.id
SUMMARY:Kegiatan Audiensi tim BPS Pusat dan DIY
DESCRIPTION:13.00 \nR.R Dharma Praja Biro tapem setda DIY lantai 3
URL:https://dukcapil-old.slemankab.go.id/event/kegiatan-audiensi-tim-bps-pusat-dan-diy
END:VEVENT
BEGIN:VEVENT
DTSTART;VALUE=DATE:20220422
DTEND;VALUE=DATE:20220423
DTSTAMP:20260424T040021
CREATED:20220422T005147Z
LAST-MODIFIED:20220422T005147Z
UID:5044-1650585600-1650671999@dukcapil-old.slemankab.go.id
SUMMARY:Workshop”Pengadaan Barang dan Jasa Dalam Persektif Hukum Persaingan Usaha dan Indeks Persaingan Usaha”
DESCRIPTION:08.00 \nAula Lt 3 Setda Sleman
URL:https://dukcapil-old.slemankab.go.id/event/workshoppengadaan-barang-dan-jasa-dalam-persektif-hukum-persaingan-usaha-dan-indeks-persaingan-usaha
END:VEVENT
BEGIN:VEVENT
DTSTART;VALUE=DATE:20220422
DTEND;VALUE=DATE:20220423
DTSTAMP:20260424T040021
CREATED:20220422T005306Z
LAST-MODIFIED:20220422T005306Z
UID:5046-1650585600-1650671999@dukcapil-old.slemankab.go.id
SUMMARY:Pembinaan Dalam Rangka Perayaan Paskah 2022
DESCRIPTION:08.30 \nGereja Katolik St. Aloysius Gonzaga\, Mlati
URL:https://dukcapil-old.slemankab.go.id/event/pembinaan-dalam-rangka-perayaan-paskah-2022
END:VEVENT
BEGIN:VEVENT
DTSTART;VALUE=DATE:20220422
DTEND;VALUE=DATE:20220423
DTSTAMP:20260424T040021
CREATED:20220422T005505Z
LAST-MODIFIED:20220422T005505Z
UID:5048-1650585600-1650671999@dukcapil-old.slemankab.go.id
SUMMARY:Pengajian Rutin Dharma Wanita Persatuan Kab Sleman
DESCRIPTION:09.00 \nMasjid Dorojatul Ulya
URL:https://dukcapil-old.slemankab.go.id/event/pengajian-rutin-dharma-wanita-persatuan-kab-sleman-4
END:VEVENT
BEGIN:VEVENT
DTSTART;VALUE=DATE:20220425
DTEND;VALUE=DATE:20220426
DTSTAMP:20260424T040021
CREATED:20220425T033647Z
LAST-MODIFIED:20220425T033647Z
UID:5053-1650844800-1650931199@dukcapil-old.slemankab.go.id
SUMMARY:Upacara Peringatan Hari Kartini ke-143 dan Hari Otonomi Daerah ke XXVI Th 2022
DESCRIPTION:07.30 \nLapangan Pemda Sleman
URL:https://dukcapil-old.slemankab.go.id/event/upacara-peringatan-hari-kartini-ke-143-dan-hari-otonomi-daerah-ke-xxvi-th-2022
END:VEVENT
BEGIN:VEVENT
DTSTART;VALUE=DATE:20220425
DTEND;VALUE=DATE:20220426
DTSTAMP:20260424T040021
CREATED:20220425T033732Z
LAST-MODIFIED:20220425T033732Z
UID:5055-1650844800-1650931199@dukcapil-old.slemankab.go.id
SUMMARY:Rapat Pelaksanaan Koordinasi Aksi HAM Pemerintah Daerah Th 2022
DESCRIPTION:09.00 \nAula Kanwil Kumham\, Jl Gedongkuning Yk
URL:https://dukcapil-old.slemankab.go.id/event/rapat-pelaksanaan-koordinasi-aksi-ham-pemerintah-daerah-th-2022
END:VEVENT
BEGIN:VEVENT
DTSTART;VALUE=DATE:20220425
DTEND;VALUE=DATE:20220426
DTSTAMP:20260424T040021
CREATED:20220425T034000Z
LAST-MODIFIED:20220425T034000Z
UID:5057-1650844800-1650931199@dukcapil-old.slemankab.go.id
SUMMARY:Rapat Kerja Pansus IV Pembahasan Raperda Tentang Grand Design Pembangunan Kependudukan di Kab Sleman Th 2021-2045
DESCRIPTION:12.00 \nR.R Komisi D Lt II Gedung DPRD Kab Sleman
URL:https://dukcapil-old.slemankab.go.id/event/rapat-kerja-pansus-iv-pembahasan-raperda-tentang-grand-design-pembangunan-kependudukan-di-kab-sleman-th-2021-2045
END:VEVENT
BEGIN:VEVENT
DTSTART;VALUE=DATE:20220427
DTEND;VALUE=DATE:20220428
DTSTAMP:20260424T040021
CREATED:20220505T024751Z
LAST-MODIFIED:20220505T024751Z
UID:5078-1651017600-1651103999@dukcapil-old.slemankab.go.id
SUMMARY:Rapat Koordinasi penyusunan Indikator Penilaian Kapanewon
DESCRIPTION:09.00 \nR.R Bagian Pemerintahan Setda Kab Slema
URL:https://dukcapil-old.slemankab.go.id/event/rapat-koordinasi-penyusunan-indikator-penilaian-kapanewon
END:VEVENT
BEGIN:VEVENT
DTSTART;VALUE=DATE:20220427
DTEND;VALUE=DATE:20220428
DTSTAMP:20260424T040021
CREATED:20220505T024830Z
LAST-MODIFIED:20220505T024830Z
UID:5080-1651017600-1651103999@dukcapil-old.slemankab.go.id
SUMMARY:Panggilan Sidang
DESCRIPTION:10.00 \nPNegri Sleman
URL:https://dukcapil-old.slemankab.go.id/event/panggilan-sidang
END:VEVENT
BEGIN:VEVENT
DTSTART;VALUE=DATE:20220427
DTEND;VALUE=DATE:20220428
DTSTAMP:20260424T040021
CREATED:20220505T024903Z
LAST-MODIFIED:20220505T024903Z
UID:5082-1651017600-1651103999@dukcapil-old.slemankab.go.id
SUMMARY:Rapat Koordinasi Sosialisasi Sensus Penduduk 2020 (SP2020) Lanjutan
DESCRIPTION:12.00 \nAula Lantai 3 Setda Sleman
URL:https://dukcapil-old.slemankab.go.id/event/rapat-koordinasi-sosialisasi-sensus-penduduk-2020-sp2020-lanjutan
END:VEVENT
BEGIN:VEVENT
DTSTART;VALUE=DATE:20220427
DTEND;VALUE=DATE:20220428
DTSTAMP:20260424T040021
CREATED:20220505T024936Z
LAST-MODIFIED:20220505T024936Z
UID:5084-1651017600-1651103999@dukcapil-old.slemankab.go.id
SUMMARY:Rapat Koordinasi Penanganan Penduduk Rentan Administrasi Kependudukan bagi Penyandangan Disabilitas
DESCRIPTION:13.00 \nR.R Dinas Dukcapil Sleman
URL:https://dukcapil-old.slemankab.go.id/event/rapat-koordinasi-penanganan-penduduk-rentan-administrasi-kependudukan-bagi-penyandangan-disabilitas
END:VEVENT
BEGIN:VEVENT
DTSTART;VALUE=DATE:20220428
DTEND;VALUE=DATE:20220429
DTSTAMP:20260424T040021
CREATED:20220505T025022Z
LAST-MODIFIED:20220505T025022Z
UID:5086-1651104000-1651190399@dukcapil-old.slemankab.go.id
SUMMARY:Sosialisasi pengendalian gratifikasi SPIP\, pengelolaan benturan kepentingan dan Whistle Blowing System
DESCRIPTION:09.00 \nUnit 1 Pemkab Sleman
URL:https://dukcapil-old.slemankab.go.id/event/sosialisasi-pengendalian-gratifikasi-spip-pengelolaan-benturan-kepentingan-dan-whistle-blowing-system
END:VEVENT
BEGIN:VEVENT
DTSTART;VALUE=DATE:20220428
DTEND;VALUE=DATE:20220429
DTSTAMP:20260424T040021
CREATED:20220505T025049Z
LAST-MODIFIED:20220505T025049Z
UID:5088-1651104000-1651190399@dukcapil-old.slemankab.go.id
SUMMARY:Rapat Paripurna penyampaian rekomendasi DPRD terhadap LKPJ Bupati TA 2021
DESCRIPTION:09.00 \nR Paripurna gedung DPRD
URL:https://dukcapil-old.slemankab.go.id/event/rapat-paripurna-penyampaian-rekomendasi-dprd-terhadap-lkpj-bupati-ta-2021
END:VEVENT
BEGIN:VEVENT
DTSTART;VALUE=DATE:20220428
DTEND;VALUE=DATE:20220429
DTSTAMP:20260424T040021
CREATED:20220505T025118Z
LAST-MODIFIED:20220505T025118Z
UID:5090-1651104000-1651190399@dukcapil-old.slemankab.go.id
SUMMARY:Pelantikan dan Pengambilan Sumpah jabtan Kepala Sekolah dai lingkungan Pemkab Sleman
DESCRIPTION:11.00 \nPendopo parasamya Kab Sleman
URL:https://dukcapil-old.slemankab.go.id/event/pelantikan-dan-pengambilan-sumpah-jabtan-kepala-sekolah-dai-lingkungan-pemkab-sleman
END:VEVENT
END:VCALENDAR