BEGIN:VCALENDAR
VERSION:2.0
PRODID:-//Dinas Kependudukan dan Pencatatan Sipil Kabupaten Sleman - ECPv6.4.0//NONSGML v1.0//EN
CALSCALE:GREGORIAN
METHOD:PUBLISH
X-WR-CALNAME:Dinas Kependudukan dan Pencatatan Sipil Kabupaten Sleman
X-ORIGINAL-URL:https://dukcapil-old.slemankab.go.id
X-WR-CALDESC:Events for Dinas Kependudukan dan Pencatatan Sipil Kabupaten Sleman
REFRESH-INTERVAL;VALUE=DURATION:PT1H
X-Robots-Tag:noindex
X-PUBLISHED-TTL:PT1H
BEGIN:VTIMEZONE
TZID:Asia/Jakarta
BEGIN:STANDARD
TZOFFSETFROM:+0700
TZOFFSETTO:+0700
TZNAME:WIB
DTSTART:20220101T000000
END:STANDARD
END:VTIMEZONE
BEGIN:VEVENT
DTSTART;VALUE=DATE:20220627
DTEND;VALUE=DATE:20220628
DTSTAMP:20260424T044929
CREATED:20220627T015314Z
LAST-MODIFIED:20220627T015314Z
UID:5772-1656288000-1656374399@dukcapil-old.slemankab.go.id
SUMMARY:Rapat Koordinasi Persiapan Verifikasi Lapangan KLA 2022
DESCRIPTION:09.00 \nR.R A Dinas P3AP2KB
URL:https://dukcapil-old.slemankab.go.id/event/rapat-koordinasi-persiapan-verifikasi-lapangan-kla-2022
END:VEVENT
BEGIN:VEVENT
DTSTART;VALUE=DATE:20220627
DTEND;VALUE=DATE:20220628
DTSTAMP:20260424T044929
CREATED:20220627T015359Z
LAST-MODIFIED:20220627T015359Z
UID:5774-1656288000-1656374399@dukcapil-old.slemankab.go.id
SUMMARY:Kunjungan Kerja dan DPRD Kab Sragen
DESCRIPTION:09.30 \nDisdukcapil Sleman
URL:https://dukcapil-old.slemankab.go.id/event/kunjungan-kerja-dan-dprd-kab-sragen
END:VEVENT
BEGIN:VEVENT
DTSTART;VALUE=DATE:20220627
DTEND;VALUE=DATE:20220628
DTSTAMP:20260424T044929
CREATED:20220627T015708Z
LAST-MODIFIED:20220627T015708Z
UID:5776-1656288000-1656374399@dukcapil-old.slemankab.go.id
SUMMARY:Paparan Laporan Pendahuluan Pekerjaan Pendataan MBR
DESCRIPTION:13.00 \nR.R Bidang Perumahan DPUPKP Sleman
URL:https://dukcapil-old.slemankab.go.id/event/paparan-laporan-pendahuluan-pekerjaan-pendataan-mbr
END:VEVENT
BEGIN:VEVENT
DTSTART;VALUE=DATE:20220628
DTEND;VALUE=DATE:20220629
DTSTAMP:20260424T044929
CREATED:20220628T005837Z
LAST-MODIFIED:20220628T005837Z
UID:5792-1656374400-1656460799@dukcapil-old.slemankab.go.id
SUMMARY:Pertemuan Dalam Rangka Tindak Lanjut Hasil Verifikasi Data Peserta BPJS Terdeteksi Meninggal Dunia
DESCRIPTION:09.30 \nAula Nakula Lt III \nDinsos
URL:https://dukcapil-old.slemankab.go.id/event/pertemuan-dalam-rangka-tindak-lanjut-hasil-verifikasi-data-peserta-bpjs-terdeteksi-meninggal-dunia
END:VEVENT
BEGIN:VEVENT
DTSTART;VALUE=DATE:20220628
DTEND;VALUE=DATE:20220629
DTSTAMP:20260424T044929
CREATED:20220628T005919Z
LAST-MODIFIED:20220628T005919Z
UID:5794-1656374400-1656460799@dukcapil-old.slemankab.go.id
SUMMARY:Komitmen Kerjasama Mendukung Pemilu Serentak 2024
DESCRIPTION:12.30 \nPendopo Parasamya
URL:https://dukcapil-old.slemankab.go.id/event/komitmen-kerjasama-mendukung-pemilu-serentak-2024
END:VEVENT
BEGIN:VEVENT
DTSTART;VALUE=DATE:20220630
DTEND;VALUE=DATE:20220701
DTSTAMP:20260424T044929
CREATED:20220630T013215Z
LAST-MODIFIED:20220630T013215Z
UID:5796-1656547200-1656633599@dukcapil-old.slemankab.go.id
SUMMARY:Workshop LPPD
DESCRIPTION:09.00 \nThe Antrium Hotel dan Resort Yogyakarta
URL:https://dukcapil-old.slemankab.go.id/event/workshop-lppd
END:VEVENT
BEGIN:VEVENT
DTSTART;VALUE=DATE:20220630
DTEND;VALUE=DATE:20220701
DTSTAMP:20260424T044929
CREATED:20220630T013405Z
LAST-MODIFIED:20220630T013405Z
UID:5798-1656547200-1656633599@dukcapil-old.slemankab.go.id
SUMMARY:Implementasi Modul Terbaru SIAK Terpusat Versi 80.1.1
DESCRIPTION:09.00 \nR.R Dinas Dukcapil Kab Sleman
URL:https://dukcapil-old.slemankab.go.id/event/implementasi-modul-terbaru-siak-terpusat-versi-80-1-1
END:VEVENT
BEGIN:VEVENT
DTSTART;VALUE=DATE:20220630
DTEND;VALUE=DATE:20220701
DTSTAMP:20260424T044929
CREATED:20220630T013519Z
LAST-MODIFIED:20220630T013519Z
UID:5800-1656547200-1656633599@dukcapil-old.slemankab.go.id
SUMMARY:Koordinasi Pengelolaan Tambahan Penghasilan Pegawai Th 2022
DESCRIPTION:13.00 \nR.R Bima Lt 3 BKPP Kab Sleman
URL:https://dukcapil-old.slemankab.go.id/event/koordinasi-pengelolaan-tambahan-penghasilan-pegawai-th-2022
END:VEVENT
BEGIN:VEVENT
DTSTART;VALUE=DATE:20220630
DTEND;VALUE=DATE:20220701
DTSTAMP:20260424T044929
CREATED:20220630T013605Z
LAST-MODIFIED:20220630T013605Z
UID:5802-1656547200-1656633599@dukcapil-old.slemankab.go.id
SUMMARY:Soft Launching Sistem Informasi Perumahan “NOALEM” (Network Resisdance Information Qualified System)
DESCRIPTION:13.00 \nR.R A. LT 2 Dinas PUPESDM DIY
URL:https://dukcapil-old.slemankab.go.id/event/soft-launching-sistem-informasi-perumahan-noalem-network-resisdance-information-qualified-system
END:VEVENT
BEGIN:VEVENT
DTSTART;VALUE=DATE:20220630
DTEND;VALUE=DATE:20220701
DTSTAMP:20260424T044929
CREATED:20220630T013645Z
LAST-MODIFIED:20220630T013645Z
UID:5804-1656547200-1656633599@dukcapil-old.slemankab.go.id
SUMMARY:Mendampingi Bupati Menerima Tim Verifikasi Lapangan Evaluasi KLA Th 2022 dan Kementrian PPPA RI
DESCRIPTION:15.30 \nAula Lt 3 Setda Sleman
URL:https://dukcapil-old.slemankab.go.id/event/mendampingi-bupati-menerima-tim-verifikasi-lapangan-evaluasi-kla-th-2022-dan-kementrian-pppa-ri
END:VEVENT
BEGIN:VEVENT
DTSTART;VALUE=DATE:20220701
DTEND;VALUE=DATE:20220702
DTSTAMP:20260424T044929
CREATED:20220701T005138Z
LAST-MODIFIED:20220701T005138Z
UID:5807-1656633600-1656719999@dukcapil-old.slemankab.go.id
SUMMARY:Rapat Paripurna Penjelasan DPRD terhadap 4 Raperda Inisiatif DPRD Kab Sleman
DESCRIPTION:09.00 \nR.R paripurna DPRD Kab Sleman
URL:https://dukcapil-old.slemankab.go.id/event/rapat-paripurna-penjelasan-dprd-terhadap-4-raperda-inisiatif-dprd-kab-sleman
END:VEVENT
BEGIN:VEVENT
DTSTART;VALUE=DATE:20220701
DTEND;VALUE=DATE:20220702
DTSTAMP:20260424T044929
CREATED:20220701T005259Z
LAST-MODIFIED:20220701T005259Z
UID:5809-1656633600-1656719999@dukcapil-old.slemankab.go.id
SUMMARY:Kunjungan Kerja Dari Dinas Dukcapil Kota Cilegon dan Dinas Dukcapil Kab Karawang
DESCRIPTION:Unit I Pemkab Sleman
URL:https://dukcapil-old.slemankab.go.id/event/kunjungan-kerja-dari-dinas-dukcapil-kota-cilegon-dan-dinas-dukcapil-kab-karawang
END:VEVENT
BEGIN:VEVENT
DTSTART;VALUE=DATE:20220701
DTEND;VALUE=DATE:20220702
DTSTAMP:20260424T044929
CREATED:20220701T005324Z
LAST-MODIFIED:20220701T005324Z
UID:5811-1656633600-1656719999@dukcapil-old.slemankab.go.id
SUMMARY:Rapat Koordinasi Rencana Pelaksanaan Sport Development Index (SDI) th 2022
DESCRIPTION:13.00 \nR.R Gelora Pora Dinas Pemuda Olahraga
URL:https://dukcapil-old.slemankab.go.id/event/rapat-koordinasi-rencana-pelaksanaan-sport-development-index-sdi-th-2022
END:VEVENT
BEGIN:VEVENT
DTSTART;VALUE=DATE:20220703
DTEND;VALUE=DATE:20220704
DTSTAMP:20260424T044929
CREATED:20220704T010820Z
LAST-MODIFIED:20220704T010820Z
UID:5814-1656806400-1656892799@dukcapil-old.slemankab.go.id
SUMMARY:Pamitan dan Pemberangkatan Jama’ah Calon Haji Kab Sleman
DESCRIPTION:05.00 \nMasjid Agung Dr Wahidim Soedirohoesodo
URL:https://dukcapil-old.slemankab.go.id/event/pamitan-dan-pemberangkatan-jamaah-calon-haji-kab-sleman
END:VEVENT
BEGIN:VEVENT
DTSTART;VALUE=DATE:20220704
DTEND;VALUE=DATE:20220705
DTSTAMP:20260424T044929
CREATED:20220704T011102Z
LAST-MODIFIED:20220704T011102Z
UID:5816-1656892800-1656979199@dukcapil-old.slemankab.go.id
SUMMARY:Kegiatan Training For Trainers : Rencana Aksi Keluarga
DESCRIPTION:08.30-15.00 \n  \nR.R Bima Lt.3 BKPP Kab Sleman
URL:https://dukcapil-old.slemankab.go.id/event/kegiatan-training-for-trainers-rencana-aksi-keluarga
END:VEVENT
BEGIN:VEVENT
DTSTART;VALUE=DATE:20220704
DTEND;VALUE=DATE:20220705
DTSTAMP:20260424T044929
CREATED:20220704T011145Z
LAST-MODIFIED:20220704T011145Z
UID:5818-1656892800-1656979199@dukcapil-old.slemankab.go.id
SUMMARY:Peningkatan Indeks Literasi Masyarakat Dengan Tema “ Batik Literasi dan Kesejahteraan”
DESCRIPTION:08.00 \n  \nPendopo Parasamya Kab Sleman
URL:https://dukcapil-old.slemankab.go.id/event/peningkatan-indeks-literasi-masyarakat-dengan-tema-batik-literasi-dan-kesejahteraan
END:VEVENT
BEGIN:VEVENT
DTSTART;VALUE=DATE:20220704
DTEND;VALUE=DATE:20220705
DTSTAMP:20260424T044929
CREATED:20220704T011207Z
LAST-MODIFIED:20220704T011207Z
UID:5820-1656892800-1656979199@dukcapil-old.slemankab.go.id
SUMMARY:Rapat Paripurna Pendapat Bupati Terhadap 4 Raperda Inisatif DPRD Kab Sleman
DESCRIPTION:09.00 \n  \nRR Paripurna DPRD Kab Sleman
URL:https://dukcapil-old.slemankab.go.id/event/rapat-paripurna-pendapat-bupati-terhadap-4-raperda-inisatif-dprd-kab-sleman
END:VEVENT
BEGIN:VEVENT
DTSTART;VALUE=DATE:20220704
DTEND;VALUE=DATE:20220705
DTSTAMP:20260424T044929
CREATED:20220704T011233Z
LAST-MODIFIED:20220704T011233Z
UID:5822-1656892800-1656979199@dukcapil-old.slemankab.go.id
SUMMARY:Rapat Koordinasi Tindaklanjut di Pengadilan Negeri SlemanTerkait Kolaborasi Anggaran Pelayanan Pengedalian Negeri Kepada Masyaraka
DESCRIPTION:10.00 \n  \nRR Praja V LT.2 Setda Kab Sleman
URL:https://dukcapil-old.slemankab.go.id/event/rapat-koordinasi-tindaklanjut-di-pengadilan-negeri-slemanterkait-kolaborasi-anggaran-pelayanan-pengedalian-negeri-kepada-masyaraka
END:VEVENT
BEGIN:VEVENT
DTSTART;VALUE=DATE:20220704
DTEND;VALUE=DATE:20220705
DTSTAMP:20260424T044929
CREATED:20220704T011257Z
LAST-MODIFIED:20220704T011257Z
UID:5824-1656892800-1656979199@dukcapil-old.slemankab.go.id
SUMMARY:Rapat Kerja Pansus IV Membahas Raperda Tentang Grand Design Pembangunan Kependudukan di Kab Sleman
DESCRIPTION:11.00 \n  \nRR Komisi D LT.2 DPRD Kab Sleman
URL:https://dukcapil-old.slemankab.go.id/event/rapat-kerja-pansus-iv-membahas-raperda-tentang-grand-design-pembangunan-kependudukan-di-kab-sleman
END:VEVENT
BEGIN:VEVENT
DTSTART;VALUE=DATE:20220705
DTEND;VALUE=DATE:20220706
DTSTAMP:20260424T044929
CREATED:20220705T003112Z
LAST-MODIFIED:20220705T003112Z
UID:5826-1656979200-1657065599@dukcapil-old.slemankab.go.id
SUMMARY:Rapat Koordinasi Penyadingan Data Kepersetaan JKN Yang Dibiayai Oleh Pemkab Sleman
DESCRIPTION:08.00 \nR.Husada Dinas Kesehatan
URL:https://dukcapil-old.slemankab.go.id/event/rapat-koordinasi-penyadingan-data-kepersetaan-jkn-yang-dibiayai-oleh-pemkab-sleman
END:VEVENT
BEGIN:VEVENT
DTSTART;VALUE=DATE:20220705
DTEND;VALUE=DATE:20220706
DTSTAMP:20260424T044929
CREATED:20220705T003208Z
LAST-MODIFIED:20220705T003208Z
UID:5828-1656979200-1657065599@dukcapil-old.slemankab.go.id
SUMMARY:Penyerahan Tali Asih Purna Tugas Anggota KORPRI Semester I Th 2022
DESCRIPTION:08.30 \nGedung Serbaguna Kab Sleman
URL:https://dukcapil-old.slemankab.go.id/event/penyerahan-tali-asih-purna-tugas-anggota-korpri-semester-i-th-2022
END:VEVENT
BEGIN:VEVENT
DTSTART;VALUE=DATE:20220705
DTEND;VALUE=DATE:20220706
DTSTAMP:20260424T044929
CREATED:20220705T003235Z
LAST-MODIFIED:20220705T003235Z
UID:5830-1656979200-1657065599@dukcapil-old.slemankab.go.id
SUMMARY:Pemberian Penghargaan Panutan Pembayaran PBB-P2 Th 2022 Oleh Bupati Sleman Kepada Wajib Pajak Secara Simbolis
DESCRIPTION:09.00 \nPendopo Rumah Dinas Bupati Sleman
URL:https://dukcapil-old.slemankab.go.id/event/pemberian-penghargaan-panutan-pembayaran-pbb-p2-th-2022-oleh-bupati-sleman-kepada-wajib-pajak-secara-simbolis
END:VEVENT
BEGIN:VEVENT
DTSTART;VALUE=DATE:20220706
DTEND;VALUE=DATE:20220707
DTSTAMP:20260424T044929
CREATED:20220706T003508Z
LAST-MODIFIED:20220706T003508Z
UID:5841-1657065600-1657151999@dukcapil-old.slemankab.go.id
SUMMARY:Jemput Bola Pelayanan Akta
DESCRIPTION:Pedukuhan Setan Maguwoharjo\, Depok
URL:https://dukcapil-old.slemankab.go.id/event/jemput-bola-pelayanan-akta
END:VEVENT
BEGIN:VEVENT
DTSTART;VALUE=DATE:20220706
DTEND;VALUE=DATE:20220707
DTSTAMP:20260424T044929
CREATED:20220706T003636Z
LAST-MODIFIED:20220706T003636Z
UID:5843-1657065600-1657151999@dukcapil-old.slemankab.go.id
SUMMARY:Rapat Koordinasi Persiapan Paparan Ketercapaian UHC
DESCRIPTION:08.30 \nAditya Dinkes
URL:https://dukcapil-old.slemankab.go.id/event/rapat-koordinasi-persiapan-paparan-ketercapaian-uhc
END:VEVENT
BEGIN:VEVENT
DTSTART;VALUE=DATE:20220706
DTEND;VALUE=DATE:20220707
DTSTAMP:20260424T044929
CREATED:20220706T003703Z
LAST-MODIFIED:20220706T003703Z
UID:5845-1657065600-1657151999@dukcapil-old.slemankab.go.id
SUMMARY:Rapat Koordinasi Optimalisasi Pemanfaatan KIA
DESCRIPTION:09.00 \nR.R Dinas Dukcapil
URL:https://dukcapil-old.slemankab.go.id/event/rapat-koordinasi-optimalisasi-pemanfaatan-kia
END:VEVENT
BEGIN:VEVENT
DTSTART;VALUE=DATE:20220706
DTEND;VALUE=DATE:20220707
DTSTAMP:20260424T044929
CREATED:20220706T003726Z
LAST-MODIFIED:20220706T003726Z
UID:5847-1657065600-1657151999@dukcapil-old.slemankab.go.id
SUMMARY:Rapat Paripurna Jawaban Fraksi Terhadap Pendapat Bupati Tentang 4 Raperda Inisiatif DPRD Kab Sleman
DESCRIPTION:09.00 \nR.R Paripurna DPRD Sleman
URL:https://dukcapil-old.slemankab.go.id/event/rapat-paripurna-jawaban-fraksi-terhadap-pendapat-bupati-tentang-4-raperda-inisiatif-dprd-kab-sleman
END:VEVENT
BEGIN:VEVENT
DTSTART;VALUE=DATE:20220706
DTEND;VALUE=DATE:20220707
DTSTAMP:20260424T044929
CREATED:20220706T003750Z
LAST-MODIFIED:20220706T003750Z
UID:5849-1657065600-1657151999@dukcapil-old.slemankab.go.id
SUMMARY:Koordinasi dan Sinkronisasi Pelaporan RAN P4GN ( Pelaporan Inpres Nomor 2 tahun 2020 )
DESCRIPTION:13.00 \nR.R Sembada Setda Kab Slema
URL:https://dukcapil-old.slemankab.go.id/event/koordinasi-dan-sinkronisasi-pelaporan-ran-p4gn-pelaporan-inpres-nomor-2-tahun-2020
END:VEVENT
BEGIN:VEVENT
DTSTART;VALUE=DATE:20220707
DTEND;VALUE=DATE:20220708
DTSTAMP:20260424T044929
CREATED:20220707T003845Z
LAST-MODIFIED:20220707T003845Z
UID:5851-1657152000-1657238399@dukcapil-old.slemankab.go.id
SUMMARY:Penunjukan Ahli
DESCRIPTION:09.00 \nGedung Djojonegoro Polda DIY
URL:https://dukcapil-old.slemankab.go.id/event/penunjukan-ahli
END:VEVENT
BEGIN:VEVENT
DTSTART;VALUE=DATE:20220707
DTEND;VALUE=DATE:20220708
DTSTAMP:20260424T044929
CREATED:20220707T004012Z
LAST-MODIFIED:20220707T004012Z
UID:5853-1657152000-1657238399@dukcapil-old.slemankab.go.id
SUMMARY:Rapat Koodinasi Penyusunan Laporan Aksi HAM B.08
DESCRIPTION:13.00 \nR.R Praja V Setda Kab. Sleman
URL:https://dukcapil-old.slemankab.go.id/event/rapat-koodinasi-penyusunan-laporan-aksi-ham-b-08
END:VEVENT
BEGIN:VEVENT
DTSTART;VALUE=DATE:20220707
DTEND;VALUE=DATE:20220708
DTSTAMP:20260424T044929
CREATED:20220707T004039Z
LAST-MODIFIED:20220707T004039Z
UID:5855-1657152000-1657238399@dukcapil-old.slemankab.go.id
SUMMARY:Doa Bersama Bagi Jama’ah Haji Kab. Sleman Th 1443 H/2022 M
DESCRIPTION:18.30 \nPendopo Rumah Dinas Bupati Sleman
URL:https://dukcapil-old.slemankab.go.id/event/doa-bersama-bagi-jamaah-haji-kab-sleman-th-1443-h-2022-m
END:VEVENT
END:VCALENDAR