BEGIN:VCALENDAR
VERSION:2.0
PRODID:-//Dinas Kependudukan dan Pencatatan Sipil Kabupaten Sleman - ECPv6.4.0//NONSGML v1.0//EN
CALSCALE:GREGORIAN
METHOD:PUBLISH
X-ORIGINAL-URL:https://dukcapil-old.slemankab.go.id
X-WR-CALDESC:Events for Dinas Kependudukan dan Pencatatan Sipil Kabupaten Sleman
REFRESH-INTERVAL;VALUE=DURATION:PT1H
X-Robots-Tag:noindex
X-PUBLISHED-TTL:PT1H
BEGIN:VTIMEZONE
TZID:Asia/Jakarta
BEGIN:STANDARD
TZOFFSETFROM:+0700
TZOFFSETTO:+0700
TZNAME:WIB
DTSTART:20220101T000000
END:STANDARD
END:VTIMEZONE
BEGIN:VEVENT
DTSTART;VALUE=DATE:20220718
DTEND;VALUE=DATE:20220719
DTSTAMP:20260424T204911
CREATED:20220718T005737Z
LAST-MODIFIED:20220718T005737Z
UID:5921-1658102400-1658188799@dukcapil-old.slemankab.go.id
SUMMARY:Koordinasi Verval PD Dapodik SMA
DESCRIPTION:08.30 \nBalai Dikmen Kab Sleman
URL:https://dukcapil-old.slemankab.go.id/event/koordinasi-verval-pd-dapodik-sma
END:VEVENT
BEGIN:VEVENT
DTSTART;VALUE=DATE:20220718
DTEND;VALUE=DATE:20220719
DTSTAMP:20260424T204911
CREATED:20220718T005809Z
LAST-MODIFIED:20220718T005809Z
UID:5923-1658102400-1658188799@dukcapil-old.slemankab.go.id
SUMMARY:FGD Bersama Poltekesos Kemensos RI Dalam Rangka Kegiatan Penelitian Nasional SLRT dan Puskesos Kab Sleman
DESCRIPTION:09.00 \nAula Nakula Lt 3 Dinsos Kab Sleman
URL:https://dukcapil-old.slemankab.go.id/event/fgd-bersama-poltekesos-kemensos-ri-dalam-rangka-kegiatan-penelitian-nasional-slrt-dan-puskesos-kab-sleman
END:VEVENT
BEGIN:VEVENT
DTSTART;VALUE=DATE:20220718
DTEND;VALUE=DATE:20220719
DTSTAMP:20260424T204911
CREATED:20220718T005847Z
LAST-MODIFIED:20220718T005847Z
UID:5925-1658102400-1658188799@dukcapil-old.slemankab.go.id
SUMMARY:Implementasi Hak Akses Pemanfaatan Data Kependudukan dan Konfigurasi Jaringan
DESCRIPTION:09.00 \nR.R Dinas Dukcapil
URL:https://dukcapil-old.slemankab.go.id/event/implementasi-hak-akses-pemanfaatan-data-kependudukan-dan-konfigurasi-jaringan-2
END:VEVENT
BEGIN:VEVENT
DTSTART;VALUE=DATE:20220718
DTEND;VALUE=DATE:20220719
DTSTAMP:20260424T204911
CREATED:20220718T005918Z
LAST-MODIFIED:20220718T005918Z
UID:5927-1658102400-1658188799@dukcapil-old.slemankab.go.id
SUMMARY:Rapat Koordinasi Pelayanan Akta Kelahiran
DESCRIPTION:13.00 \nR.R Dinas Dukcapil
URL:https://dukcapil-old.slemankab.go.id/event/rapat-koordinasi-pelayanan-akta-kelahiran
END:VEVENT
BEGIN:VEVENT
DTSTART;VALUE=DATE:20220719
DTEND;VALUE=DATE:20220720
DTSTAMP:20260424T204911
CREATED:20220719T003629Z
LAST-MODIFIED:20220719T003629Z
UID:5932-1658188800-1658275199@dukcapil-old.slemankab.go.id
SUMMARY:Monitoring Hasil Pelaksanaan Pengawasan Kearsipan Internal
DESCRIPTION:09.00 \nDinas Dukcapil
URL:https://dukcapil-old.slemankab.go.id/event/monitoring-hasil-pelaksanaan-pengawasan-kearsipan-internal
END:VEVENT
BEGIN:VEVENT
DTSTART;VALUE=DATE:20220719
DTEND;VALUE=DATE:20220720
DTSTAMP:20260424T204911
CREATED:20220719T003742Z
LAST-MODIFIED:20220719T003742Z
UID:5934-1658188800-1658275199@dukcapil-old.slemankab.go.id
SUMMARY:Sosialisasi Kebijakan Adminduk Pelayanan KTP\, KIA\, Akta Kelahiran & Akta Kematian
DESCRIPTION:09.00 \nAula Balai Kalurahan Condongcatur Kapanewon Depok
URL:https://dukcapil-old.slemankab.go.id/event/sosialisasi-kebijakan-adminduk-pelayanan-ktp-kia-akta-kelahiran-akta-kematian
END:VEVENT
BEGIN:VEVENT
DTSTART;VALUE=DATE:20220719
DTEND;VALUE=DATE:20220720
DTSTAMP:20260424T204911
CREATED:20220719T003817Z
LAST-MODIFIED:20220719T003817Z
UID:5936-1658188800-1658275199@dukcapil-old.slemankab.go.id
SUMMARY:Relaas Pengadilan Sidang
DESCRIPTION:10.00 \nPengadilan Negeri Sleman
URL:https://dukcapil-old.slemankab.go.id/event/relaas-pengadilan-sidang
END:VEVENT
BEGIN:VEVENT
DTSTART;VALUE=DATE:20220720
DTEND;VALUE=DATE:20220721
DTSTAMP:20260424T204911
CREATED:20220720T003530Z
LAST-MODIFIED:20220720T003530Z
UID:5941-1658275200-1658361599@dukcapil-old.slemankab.go.id
SUMMARY:Bimtek Sistem e-SAKIP
DESCRIPTION:08.00 \nR.Aula Lt III Setda Kab Sleman
URL:https://dukcapil-old.slemankab.go.id/event/bimtek-sistem-e-sakip
END:VEVENT
BEGIN:VEVENT
DTSTART;VALUE=DATE:20220720
DTEND;VALUE=DATE:20220721
DTSTAMP:20260424T204911
CREATED:20220720T003627Z
LAST-MODIFIED:20220720T003627Z
UID:5943-1658275200-1658361599@dukcapil-old.slemankab.go.id
SUMMARY:Bimtek Penyusunan Laporan Keuangan Semester I Th.2022
DESCRIPTION:08.30 \nR.R III B Lt.3 BKAD Kab. Sleman
URL:https://dukcapil-old.slemankab.go.id/event/bimtek-penyusunan-laporan-keuangan-semester-i-th-2022
END:VEVENT
BEGIN:VEVENT
DTSTART;VALUE=DATE:20220720
DTEND;VALUE=DATE:20220721
DTSTAMP:20260424T204911
CREATED:20220720T003730Z
LAST-MODIFIED:20220720T003730Z
UID:5945-1658275200-1658361599@dukcapil-old.slemankab.go.id
SUMMARY:Narasumber dalam kegiatan bimtek kader sadar adminduk (Petunjuk Teknis Perubahan elemen data di dokumen kependudukan dan pencatatan sipil)
DESCRIPTION:13.00 \nRuang Tumaritis Kalurahan Caturtunggal Depok
URL:https://dukcapil-old.slemankab.go.id/event/narasumber-dalam-kegiatan-bimtek-kader-sadar-adminduk-petunjuk-teknis-perubahan-elemen-data-di-dokumen-kependudukan-dan-pencatatan-sipil
END:VEVENT
BEGIN:VEVENT
DTSTART;VALUE=DATE:20220721
DTEND;VALUE=DATE:20220722
DTSTAMP:20260424T204911
CREATED:20220721T004050Z
LAST-MODIFIED:20220721T004050Z
UID:5947-1658361600-1658447999@dukcapil-old.slemankab.go.id
SUMMARY:Desk Inventarisasi Kegiatan Statistik dan pengisian form rekomendasi dan metadata statistik
DESCRIPTION:08.30 \nLab Komputer Lt 3 Dinas kominfo
URL:https://dukcapil-old.slemankab.go.id/event/desk-inventarisasi-kegiatan-statistik-dan-pengisian-form-rekomendasi-dan-metadata-statistik
END:VEVENT
BEGIN:VEVENT
DTSTART;VALUE=DATE:20220721
DTEND;VALUE=DATE:20220722
DTSTAMP:20260424T204911
CREATED:20220721T004128Z
LAST-MODIFIED:20220721T004128Z
UID:5949-1658361600-1658447999@dukcapil-old.slemankab.go.id
SUMMARY:Pembinaan tertib Adminduk (Narasumber)
DESCRIPTION:09.00 \nR.R Lt II Kapanewon Gamping
URL:https://dukcapil-old.slemankab.go.id/event/pembinaan-tertib-adminduk-narasumber
END:VEVENT
BEGIN:VEVENT
DTSTART;VALUE=DATE:20220721
DTEND;VALUE=DATE:20220722
DTSTAMP:20260424T204911
CREATED:20220721T004304Z
LAST-MODIFIED:20220721T004304Z
UID:5951-1658361600-1658447999@dukcapil-old.slemankab.go.id
SUMMARY:Raker Penyusunan Laporan Rencana Aksi Daerah (RAD) Penanganan Konflik Sosial Tahun 2022
DESCRIPTION:10.00 \nAula Unit I Pemkab Sleman
URL:https://dukcapil-old.slemankab.go.id/event/raker-penyusunan-laporan-rencana-aksi-daerah-rad-penanganan-konflik-sosial-tahun-2022-2
END:VEVENT
BEGIN:VEVENT
DTSTART;VALUE=DATE:20220721
DTEND;VALUE=DATE:20220722
DTSTAMP:20260424T204911
CREATED:20220721T004330Z
LAST-MODIFIED:20220721T004330Z
UID:5953-1658361600-1658447999@dukcapil-old.slemankab.go.id
SUMMARY:Rapat Koordinasi Penyusunan RKA SKPD Tahun Anggaran 2023
DESCRIPTION:14.00 \nR.R III A BKAD Kab Sleman
URL:https://dukcapil-old.slemankab.go.id/event/rapat-koordinasi-penyusunan-rka-skpd-tahun-anggaran-2023
END:VEVENT
BEGIN:VEVENT
DTSTART;VALUE=DATE:20220724
DTEND;VALUE=DATE:20220725
DTSTAMP:20260424T204911
CREATED:20220726T012939Z
LAST-MODIFIED:20220726T012939Z
UID:5967-1658620800-1658707199@dukcapil-old.slemankab.go.id
SUMMARY:Penutupan Hybird Virtual Run
DESCRIPTION:06.30 \nKomplek Stadion Maguwoharjo
URL:https://dukcapil-old.slemankab.go.id/event/penutupan-hybird-virtual-run
END:VEVENT
BEGIN:VEVENT
DTSTART;VALUE=DATE:20220725
DTEND;VALUE=DATE:20220726
DTSTAMP:20260424T204911
CREATED:20220726T013043Z
LAST-MODIFIED:20220726T013043Z
UID:5969-1658707200-1658793599@dukcapil-old.slemankab.go.id
SUMMARY:Sosialisasi Penggabungan SPM Gaji
DESCRIPTION:09.00 \nR.R III B BKAD
URL:https://dukcapil-old.slemankab.go.id/event/sosialisasi-penggabungan-spm-gaji
END:VEVENT
BEGIN:VEVENT
DTSTART;VALUE=DATE:20220725
DTEND;VALUE=DATE:20220726
DTSTAMP:20260424T204911
CREATED:20220726T013122Z
LAST-MODIFIED:20220726T013122Z
UID:5971-1658707200-1658793599@dukcapil-old.slemankab.go.id
SUMMARY:Pengendalian Pembangunan\, Evaluasi Pelaksanaan Kegiatan kab. Sleman s.d Triwulan II 2022
DESCRIPTION:12.30 \nAula lantai III Setda Kab. \nSleman
URL:https://dukcapil-old.slemankab.go.id/event/pengendalian-pembangunan-evaluasi-pelaksanaan-kegiatan-kab-sleman-s-d-triwulan-ii-2022
END:VEVENT
BEGIN:VEVENT
DTSTART;VALUE=DATE:20220726
DTEND;VALUE=DATE:20220727
DTSTAMP:20260424T204911
CREATED:20220726T012342Z
LAST-MODIFIED:20220726T012342Z
UID:5957-1658793600-1658879999@dukcapil-old.slemankab.go.id
SUMMARY:Kegiatan Sosialisasi Sekaligus Bimtek tentang penyusutan arsip dlm 2 angkatan (26 dan 27 Juli 2022)
DESCRIPTION:08.30 \nKopi Njongke Penen Sendangadi \nMlati
URL:https://dukcapil-old.slemankab.go.id/event/kegiatan-sosialisasi-sekaligus-bimtek-tentang-penyusutan-arsip-dlm-2-angkatan-26-dan-27-juli-2022
END:VEVENT
BEGIN:VEVENT
DTSTART;VALUE=DATE:20220726
DTEND;VALUE=DATE:20220727
DTSTAMP:20260424T204911
CREATED:20220726T012452Z
LAST-MODIFIED:20220726T012452Z
UID:5959-1658793600-1658879999@dukcapil-old.slemankab.go.id
SUMMARY:Pencermatan RKA APBD Tahun 2023
DESCRIPTION:08.30 \nR.R III-A BKAD
URL:https://dukcapil-old.slemankab.go.id/event/pencermatan-rka-apbd-tahun-2023
END:VEVENT
BEGIN:VEVENT
DTSTART;VALUE=DATE:20220726
DTEND;VALUE=DATE:20220727
DTSTAMP:20260424T204911
CREATED:20220726T012538Z
LAST-MODIFIED:20220726T012538Z
UID:5961-1658793600-1658879999@dukcapil-old.slemankab.go.id
SUMMARY:Koordinasi hasil monitoring dan evaluasi untuk Triwulan I dan Triwulan II Implementasi Budaya Pemerintahan “SATRIYA” di Perangkat Daerah
DESCRIPTION:08.30 \nAula Lt III Setda Sleman
URL:https://dukcapil-old.slemankab.go.id/event/koordinasi-hasil-monitoring-dan-evaluasi-untuk-triwulan-i-dan-triwulan-ii-implementasi-budaya-pemerintahan-satriya-di-perangkat-daerah
END:VEVENT
BEGIN:VEVENT
DTSTART;VALUE=DATE:20220726
DTEND;VALUE=DATE:20220727
DTSTAMP:20260424T204911
CREATED:20220726T012620Z
LAST-MODIFIED:20220726T012620Z
UID:5963-1658793600-1658879999@dukcapil-old.slemankab.go.id
SUMMARY:Rapat Koordinasi dan Evaluasi Penggunaan Dokumen Kependudukan oleh instansi Lembaga / Badan Usaha
DESCRIPTION:09.00 \nR.R Praja 2 Lt 2 Sayap Utara \nSetda
URL:https://dukcapil-old.slemankab.go.id/event/rapat-koordinasi-dan-evaluasi-penggunaan-dokumen-kependudukan-oleh-instansi-lembaga-badan-usaha
END:VEVENT
BEGIN:VEVENT
DTSTART;VALUE=DATE:20220726
DTEND;VALUE=DATE:20220727
DTSTAMP:20260424T204911
CREATED:20220726T012738Z
LAST-MODIFIED:20220726T012738Z
UID:5965-1658793600-1658879999@dukcapil-old.slemankab.go.id
SUMMARY:Rapat Koordinasi Pimpinan Perangkat daerah Bulan Juli 2022
DESCRIPTION:12.30 \nAula Lantai 3 Setda Sleman
URL:https://dukcapil-old.slemankab.go.id/event/rapat-koordinasi-pimpinan-perangkat-daerah-bulan-juli-2022
END:VEVENT
BEGIN:VEVENT
DTSTART;VALUE=DATE:20220727
DTEND;VALUE=DATE:20220728
DTSTAMP:20260424T204911
CREATED:20220727T012959Z
LAST-MODIFIED:20220727T012959Z
UID:5973-1658880000-1658966399@dukcapil-old.slemankab.go.id
SUMMARY:Narasumber Sosialisasi Administrasi Kependudukan
DESCRIPTION:08.30 \nPendopo Kapanewon Godean
URL:https://dukcapil-old.slemankab.go.id/event/narasumber-sosialisasi-administrasi-kependudukan-2
END:VEVENT
BEGIN:VEVENT
DTSTART;VALUE=DATE:20220727
DTEND;VALUE=DATE:20220728
DTSTAMP:20260424T204911
CREATED:20220727T013221Z
LAST-MODIFIED:20220727T013221Z
UID:5975-1658880000-1658966399@dukcapil-old.slemankab.go.id
SUMMARY:Bimbingan Teknis tentang Kebijakan Penyusutan Arsip Perangkat Daerah di Lingkungan Pemkab Sleman
DESCRIPTION:08.30 \nKopi Njongke\, Penen\, Mlati
URL:https://dukcapil-old.slemankab.go.id/event/bimbingan-teknis-tentang-kebijakan-penyusutan-arsip-perangkat-daerah-di-lingkungan-pemkab-sleman
END:VEVENT
BEGIN:VEVENT
DTSTART;VALUE=DATE:20220727
DTEND;VALUE=DATE:20220728
DTSTAMP:20260424T204911
CREATED:20220727T013344Z
LAST-MODIFIED:20220727T013344Z
UID:5977-1658880000-1658966399@dukcapil-old.slemankab.go.id
SUMMARY:Sosialisasi Adminduk Pelayanan KTPel\, KK\, KIA Palayanan Akta Lahir & Kematian
DESCRIPTION:09.00 \nBalai Kalurahan Pondokrejo Tempel
URL:https://dukcapil-old.slemankab.go.id/event/sosialisasi-adminduk-pelayanan-ktpel-kk-kia-palayanan-akta-lahir-kematian
END:VEVENT
BEGIN:VEVENT
DTSTART;VALUE=DATE:20220727
DTEND;VALUE=DATE:20220728
DTSTAMP:20260424T204911
CREATED:20220727T013437Z
LAST-MODIFIED:20220727T013437Z
UID:5980-1658880000-1658966399@dukcapil-old.slemankab.go.id
SUMMARY:Rapat Koordinasi Pengisian Sistem Informasi Pelayanan Publik Nasional (SIPPN) Tahun 2022
DESCRIPTION:09.00 \nR.R Bima Lt 3 BKPP
URL:https://dukcapil-old.slemankab.go.id/event/rapat-koordinasi-pengisian-sistem-informasi-pelayanan-publik-nasional-sippn-tahun-2022
END:VEVENT
BEGIN:VEVENT
DTSTART;VALUE=DATE:20220727
DTEND;VALUE=DATE:20220728
DTSTAMP:20260424T204911
CREATED:20220727T013554Z
LAST-MODIFIED:20220727T013554Z
UID:5982-1658880000-1658966399@dukcapil-old.slemankab.go.id
SUMMARY:Rapat Paripurna -Penyampaian Nota Keuangan ADBD/PADBD Ta 2023 -Penyampaian Nota Penjelasan 5 Raperda Inisiatif Bupati
DESCRIPTION:09.00 \n\nR Paripurna DPRD Kab\n\nSleman (Pakaian PSH)
URL:https://dukcapil-old.slemankab.go.id/event/rapat-paripurna-penyampaian-nota-keuangan-adbd-padbd-ta-2023-penyampaian-nota-penjelasan-5-raperda-inisiatif-bupati
END:VEVENT
BEGIN:VEVENT
DTSTART;VALUE=DATE:20220727
DTEND;VALUE=DATE:20220728
DTSTAMP:20260424T204911
CREATED:20220727T013717Z
LAST-MODIFIED:20220727T013717Z
UID:5984-1658880000-1658966399@dukcapil-old.slemankab.go.id
SUMMARY:Bimtek Pencatatan Sipil
DESCRIPTION:09.00 \nRM Muara Kapuas Sawahan Pondowoharjo \nSleman
URL:https://dukcapil-old.slemankab.go.id/event/bimtek-pencatatan-sipil
END:VEVENT
BEGIN:VEVENT
DTSTART;VALUE=DATE:20220727
DTEND;VALUE=DATE:20220728
DTSTAMP:20260424T204911
CREATED:20220727T013916Z
LAST-MODIFIED:20220727T013916Z
UID:5986-1658880000-1658966399@dukcapil-old.slemankab.go.id
SUMMARY:Koordinasi terkait kerjasama Dinas Dukcapil Kab/Kota Se DIY
DESCRIPTION:13.00 \nR.R Dharma Praja Biro Tapem \nLt 3 DIY
URL:https://dukcapil-old.slemankab.go.id/event/koordinasi-terkait-kerjasama-dinas-dukcapil-kab-kota-se-diy
END:VEVENT
BEGIN:VEVENT
DTSTART;VALUE=DATE:20220728
DTEND;VALUE=DATE:20220729
DTSTAMP:20260424T204911
CREATED:20220728T010414Z
LAST-MODIFIED:20220728T010414Z
UID:5999-1658966400-1659052799@dukcapil-old.slemankab.go.id
SUMMARY:Diseminasi Layanan Kewarganegaraan dan Pewarganegaraan
DESCRIPTION:08.00 \nKj Hotel Yogyakarta Jl Parangtritis No \n120 Mantrijeron Yk
URL:https://dukcapil-old.slemankab.go.id/event/diseminasi-layanan-kewarganegaraan-dan-pewarganegaraan
END:VEVENT
END:VCALENDAR