BEGIN:VCALENDAR
VERSION:2.0
PRODID:-//Dinas Kependudukan dan Pencatatan Sipil Kabupaten Sleman - ECPv6.4.0//NONSGML v1.0//EN
CALSCALE:GREGORIAN
METHOD:PUBLISH
X-WR-CALNAME:Dinas Kependudukan dan Pencatatan Sipil Kabupaten Sleman
X-ORIGINAL-URL:https://dukcapil-old.slemankab.go.id
X-WR-CALDESC:Events for Dinas Kependudukan dan Pencatatan Sipil Kabupaten Sleman
REFRESH-INTERVAL;VALUE=DURATION:PT1H
X-Robots-Tag:noindex
X-PUBLISHED-TTL:PT1H
BEGIN:VTIMEZONE
TZID:Asia/Jakarta
BEGIN:STANDARD
TZOFFSETFROM:+0700
TZOFFSETTO:+0700
TZNAME:WIB
DTSTART:20220101T000000
END:STANDARD
END:VTIMEZONE
BEGIN:VEVENT
DTSTART;VALUE=DATE:20220222
DTEND;VALUE=DATE:20220223
DTSTAMP:20260424T072818
CREATED:20220222T004552Z
LAST-MODIFIED:20220222T004552Z
UID:4541-1645488000-1645574399@dukcapil-old.slemankab.go.id
SUMMARY:Musyawarah Kabupaten KORPRI tahun 2022
DESCRIPTION:
URL:https://dukcapil-old.slemankab.go.id/event/musyawarah-kabupaten-korpri-tahun-2022
END:VEVENT
BEGIN:VEVENT
DTSTART;VALUE=DATE:20220222
DTEND;VALUE=DATE:20220223
DTSTAMP:20260424T072818
CREATED:20220222T004623Z
LAST-MODIFIED:20220222T004623Z
UID:4543-1645488000-1645574399@dukcapil-old.slemankab.go.id
SUMMARY:Narasumber dalam musyawarah Kabupaten KORPRI tahun 2022
DESCRIPTION:
URL:https://dukcapil-old.slemankab.go.id/event/narasumber-dalam-musyawarah-kabupaten-korpri-tahun-2022
END:VEVENT
BEGIN:VEVENT
DTSTART;VALUE=DATE:20220223
DTEND;VALUE=DATE:20220224
DTSTAMP:20260424T072818
CREATED:20220222T074140Z
LAST-MODIFIED:20220222T074140Z
UID:4545-1645574400-1645660799@dukcapil-old.slemankab.go.id
SUMMARY:Bimtek Media Sosial
DESCRIPTION:
URL:https://dukcapil-old.slemankab.go.id/event/bimtek-media-sosial
END:VEVENT
BEGIN:VEVENT
DTSTART;VALUE=DATE:20220223
DTEND;VALUE=DATE:20220224
DTSTAMP:20260424T072818
CREATED:20220222T074251Z
LAST-MODIFIED:20220222T074251Z
UID:4547-1645574400-1645660799@dukcapil-old.slemankab.go.id
SUMMARY:Bimtek Aplikasi Sistem Informasi Kearsipan Dinamis Terintegrasi (SRIKANDI)
DESCRIPTION:
URL:https://dukcapil-old.slemankab.go.id/event/bimtek-aplikasi-sistem-informasi-kearsipan-dinamis-terintegrasi-srikandi
END:VEVENT
BEGIN:VEVENT
DTSTART;VALUE=DATE:20220223
DTEND;VALUE=DATE:20220224
DTSTAMP:20260424T072818
CREATED:20220222T074320Z
LAST-MODIFIED:20220222T074320Z
UID:4549-1645574400-1645660799@dukcapil-old.slemankab.go.id
SUMMARY:Sosialisasi Kebijakan Adminduk  Pelayanan KTP el\, KIA\, Pelayanan Akta Kelahiran dan Kematian
DESCRIPTION:
URL:https://dukcapil-old.slemankab.go.id/event/sosialisasi-kebijakan-adminduk-pelayanan-ktp-el-kia-pelayanan-akta-kelahiran-dan-kematian
END:VEVENT
BEGIN:VEVENT
DTSTART;VALUE=DATE:20220223
DTEND;VALUE=DATE:20220224
DTSTAMP:20260424T072818
CREATED:20220222T074351Z
LAST-MODIFIED:20220222T074351Z
UID:4551-1645574400-1645660799@dukcapil-old.slemankab.go.id
SUMMARY:Narasumber Pembinaan Tertib Adminduk
DESCRIPTION:
URL:https://dukcapil-old.slemankab.go.id/event/narasumber-pembinaan-tertib-adminduk
END:VEVENT
BEGIN:VEVENT
DTSTART;VALUE=DATE:20220223
DTEND;VALUE=DATE:20220224
DTSTAMP:20260424T072818
CREATED:20220222T074423Z
LAST-MODIFIED:20220222T074423Z
UID:4553-1645574400-1645660799@dukcapil-old.slemankab.go.id
SUMMARY:Pemeriksaan & penelitian dokumen permohonan pewarganegaraan RI (Naturalisasi)
DESCRIPTION:
URL:https://dukcapil-old.slemankab.go.id/event/pemeriksaan-penelitian-dokumen-permohonan-pewarganegaraan-ri-naturalisasi
END:VEVENT
BEGIN:VEVENT
DTSTART;VALUE=DATE:20220224
DTEND;VALUE=DATE:20220225
DTSTAMP:20260424T072818
CREATED:20220223T080810Z
LAST-MODIFIED:20220223T080810Z
UID:4555-1645660800-1645747199@dukcapil-old.slemankab.go.id
SUMMARY:RAT Tutup Buku Tahun 2022 dan Pemilihan Pengurus Koperasi Karya Mukti Tama
DESCRIPTION:
URL:https://dukcapil-old.slemankab.go.id/event/rat-tutup-buku-tahun-2022-dan-pemilihan-pengurus-koperasi-karya-mukti-tama
END:VEVENT
BEGIN:VEVENT
DTSTART;VALUE=DATE:20220224
DTEND;VALUE=DATE:20220225
DTSTAMP:20260424T072818
CREATED:20220223T080943Z
LAST-MODIFIED:20220223T080943Z
UID:4557-1645660800-1645747199@dukcapil-old.slemankab.go.id
SUMMARY:Kunjungan Kerja ke Dinas Dukcapil Kota Surabaya dari Kapanewon Cangkringan 24 Feb - 26 Feb 2022
DESCRIPTION:
URL:https://dukcapil-old.slemankab.go.id/event/kunjungan-kerja-ke-dinas-dukcapil-kota-surabaya-dari-kapanewon-cangkringan-24-feb-26-feb-2022
END:VEVENT
BEGIN:VEVENT
DTSTART;VALUE=DATE:20220224
DTEND;VALUE=DATE:20220225
DTSTAMP:20260424T072818
CREATED:20220223T081015Z
LAST-MODIFIED:20220223T081015Z
UID:4559-1645660800-1645747199@dukcapil-old.slemankab.go.id
SUMMARY:Sosialisasi Kebijakan Adminduk
DESCRIPTION:
URL:https://dukcapil-old.slemankab.go.id/event/sosialisasi-kebijakan-adminduk
END:VEVENT
BEGIN:VEVENT
DTSTART;VALUE=DATE:20220224
DTEND;VALUE=DATE:20220225
DTSTAMP:20260424T072818
CREATED:20220223T081038Z
LAST-MODIFIED:20220223T081038Z
UID:4561-1645660800-1645747199@dukcapil-old.slemankab.go.id
SUMMARY:Narasumber Sosialisasi Kebijakan Adminduk
DESCRIPTION:
URL:https://dukcapil-old.slemankab.go.id/event/narasumber-sosialisasi-kebijakan-adminduk
END:VEVENT
BEGIN:VEVENT
DTSTART;VALUE=DATE:20220224
DTEND;VALUE=DATE:20220225
DTSTAMP:20260424T072818
CREATED:20220223T081103Z
LAST-MODIFIED:20220223T081103Z
UID:4563-1645660800-1645747199@dukcapil-old.slemankab.go.id
SUMMARY:Raker Penyusunan Laporan Rencana Aksi Daerah (RAD) Penanganan Konflik Sosial Tahun 2022
DESCRIPTION:
URL:https://dukcapil-old.slemankab.go.id/event/raker-penyusunan-laporan-rencana-aksi-daerah-rad-penanganan-konflik-sosial-tahun-2022
END:VEVENT
BEGIN:VEVENT
DTSTART;VALUE=DATE:20220224
DTEND;VALUE=DATE:20220225
DTSTAMP:20260424T072818
CREATED:20220223T081129Z
LAST-MODIFIED:20220223T081129Z
UID:4565-1645660800-1645747199@dukcapil-old.slemankab.go.id
SUMMARY:Persiapan Pelaksanaan Surveri Kepuasan Masyarakat Tahun 2022
DESCRIPTION:
URL:https://dukcapil-old.slemankab.go.id/event/persiapan-pelaksanaan-surveri-kepuasan-masyarakat-tahun-2022
END:VEVENT
BEGIN:VEVENT
DTSTART;VALUE=DATE:20220224
DTEND;VALUE=DATE:20220225
DTSTAMP:20260424T072818
CREATED:20220223T081214Z
LAST-MODIFIED:20220223T081214Z
UID:4567-1645660800-1645747199@dukcapil-old.slemankab.go.id
SUMMARY:Pengajian Malam Jumat Bergema Th 2022
DESCRIPTION:
URL:https://dukcapil-old.slemankab.go.id/event/pengajian-malam-jumat-bergema-th-2022
END:VEVENT
BEGIN:VEVENT
DTSTART;VALUE=DATE:20220225
DTEND;VALUE=DATE:20220226
DTSTAMP:20260424T072818
CREATED:20220224T081003Z
LAST-MODIFIED:20220224T081003Z
UID:4590-1645747200-1645833599@dukcapil-old.slemankab.go.id
SUMMARY:Pengajian Rutin Dharma Wanita Persatuan Kab Sleman
DESCRIPTION:
URL:https://dukcapil-old.slemankab.go.id/event/pengajian-rutin-dharma-wanita-persatuan-kab-sleman-2
END:VEVENT
BEGIN:VEVENT
DTSTART;VALUE=DATE:20220302
DTEND;VALUE=DATE:20220303
DTSTAMP:20260424T072818
CREATED:20220301T080508Z
LAST-MODIFIED:20220301T080508Z
UID:4594-1646179200-1646265599@dukcapil-old.slemankab.go.id
SUMMARY:Desk Assessment SPBE Oleh Konsultan Melalui Wawancara. Penerapan Indikator pada Domain Layanan dan atau Manajemen SPBE dan Hasil Isian Form Survey Arsitektur dan Peta Rencana SPBE
DESCRIPTION:
URL:https://dukcapil-old.slemankab.go.id/event/desk-assessment-spbe-oleh-konsultan-melalui-wawancara-penerapan-indikator-pada-domain-layanan-dan-atau-manajemen-spbe-dan-hasil-isian-form-survey-arsitektur-dan-peta-rencana-spbe
END:VEVENT
BEGIN:VEVENT
DTSTART;VALUE=DATE:20220302
DTEND;VALUE=DATE:20220303
DTSTAMP:20260424T072818
CREATED:20220301T080540Z
LAST-MODIFIED:20220301T080540Z
UID:4596-1646179200-1646265599@dukcapil-old.slemankab.go.id
SUMMARY:Rakor Monev Capaian Tujuan Berkelanjutan/Sustainable Development Goals (SDGS)
DESCRIPTION:
URL:https://dukcapil-old.slemankab.go.id/event/rakor-monev-capaian-tujuan-berkelanjutan-sustainable-development-goals-sdgs
END:VEVENT
BEGIN:VEVENT
DTSTART;VALUE=DATE:20220302
DTEND;VALUE=DATE:20220303
DTSTAMP:20260424T072818
CREATED:20220301T080608Z
LAST-MODIFIED:20220301T080608Z
UID:4598-1646179200-1646265599@dukcapil-old.slemankab.go.id
SUMMARY:Koordinasi Finalisasi Rancangan LKjIP
DESCRIPTION:
URL:https://dukcapil-old.slemankab.go.id/event/koordinasi-finalisasi-rancangan-lkjip
END:VEVENT
BEGIN:VEVENT
DTSTART;VALUE=DATE:20220304
DTEND;VALUE=DATE:20220305
DTSTAMP:20260424T072818
CREATED:20220310T061108Z
LAST-MODIFIED:20220310T061108Z
UID:4623-1646352000-1646438399@dukcapil-old.slemankab.go.id
SUMMARY:Dukcapil Belajar Rakernas Peningkatan Kualitas Layanan Adminduk
DESCRIPTION:
URL:https://dukcapil-old.slemankab.go.id/event/dukcapil-belajar-rakernas-peningkatan-kualitas-layanan-adminduk
END:VEVENT
BEGIN:VEVENT
DTSTART;VALUE=DATE:20220307
DTEND;VALUE=DATE:20220308
DTSTAMP:20260424T072818
CREATED:20220310T061353Z
LAST-MODIFIED:20220310T061353Z
UID:4625-1646611200-1646697599@dukcapil-old.slemankab.go.id
SUMMARY:FGD Menjaring Masukan Untuk Penyempurnaan Petunjuk Pelaksanaan Pengelolaan Keuangan Daerah
DESCRIPTION:
URL:https://dukcapil-old.slemankab.go.id/event/fgd-menjaring-masukan-untuk-penyempurnaan-petunjuk-pelaksanaan-pengelolaan-keuangan-daerah
END:VEVENT
BEGIN:VEVENT
DTSTART;VALUE=DATE:20220307
DTEND;VALUE=DATE:20220308
DTSTAMP:20260424T072818
CREATED:20220310T061538Z
LAST-MODIFIED:20220310T061538Z
UID:4629-1646611200-1646697599@dukcapil-old.slemankab.go.id
SUMMARY:Rapat Koordinasi Evolusi Kinerja Dinas Dukcapil
DESCRIPTION:
URL:https://dukcapil-old.slemankab.go.id/event/rapat-koordinasi-evolusi-kinerja-dinas-dukcapil
END:VEVENT
BEGIN:VEVENT
DTSTART;VALUE=DATE:20220307
DTEND;VALUE=DATE:20220308
DTSTAMP:20260424T072818
CREATED:20220310T061628Z
LAST-MODIFIED:20220310T061628Z
UID:4631-1646611200-1646697599@dukcapil-old.slemankab.go.id
SUMMARY:Penerepan SIAK Terpusat
DESCRIPTION:
URL:https://dukcapil-old.slemankab.go.id/event/penerepan-siak-terpusat
END:VEVENT
BEGIN:VEVENT
DTSTART;VALUE=DATE:20220308
DTEND;VALUE=DATE:20220309
DTSTAMP:20260424T072818
CREATED:20220310T061804Z
LAST-MODIFIED:20220310T061804Z
UID:4633-1646697600-1646783999@dukcapil-old.slemankab.go.id
SUMMARY:Narasumber Pelayanan Adminduk
DESCRIPTION:
URL:https://dukcapil-old.slemankab.go.id/event/narasumber-pelayanan-adminduk
END:VEVENT
BEGIN:VEVENT
DTSTART;VALUE=DATE:20220308
DTEND;VALUE=DATE:20220309
DTSTAMP:20260424T072818
CREATED:20220310T061900Z
LAST-MODIFIED:20220310T061900Z
UID:4635-1646697600-1646783999@dukcapil-old.slemankab.go.id
SUMMARY:Rapat Koordinasi Persiapan Evaluasi KLA
DESCRIPTION:
URL:https://dukcapil-old.slemankab.go.id/event/rapat-koordinasi-persiapan-evaluasi-kla
END:VEVENT
BEGIN:VEVENT
DTSTART;VALUE=DATE:20220308
DTEND;VALUE=DATE:20220309
DTSTAMP:20260424T072818
CREATED:20220310T062040Z
LAST-MODIFIED:20220310T062040Z
UID:4637-1646697600-1646783999@dukcapil-old.slemankab.go.id
SUMMARY:Pemantapan Atlet Pekan Olahraga Pelajar Kab Sleman Tahun 2022
DESCRIPTION:
URL:https://dukcapil-old.slemankab.go.id/event/pemantapan-atlet-pekan-olahraga-pelajar-kab-sleman-tahun-2022
END:VEVENT
BEGIN:VEVENT
DTSTART;VALUE=DATE:20220309
DTEND;VALUE=DATE:20220310
DTSTAMP:20260424T072818
CREATED:20220310T062232Z
LAST-MODIFIED:20220310T062232Z
UID:4639-1646784000-1646870399@dukcapil-old.slemankab.go.id
SUMMARY:Narasumber Pembinaan Adminduk
DESCRIPTION:
URL:https://dukcapil-old.slemankab.go.id/event/narasumber-pembinaan-adminduk-2
END:VEVENT
BEGIN:VEVENT
DTSTART;VALUE=DATE:20220309
DTEND;VALUE=DATE:20220310
DTSTAMP:20260424T072818
CREATED:20220310T062347Z
LAST-MODIFIED:20220310T062347Z
UID:4641-1646784000-1646870399@dukcapil-old.slemankab.go.id
SUMMARY:Penyusunan Materi Publikasi Kebijakan Perangkat Daerah
DESCRIPTION:
URL:https://dukcapil-old.slemankab.go.id/event/penyusunan-materi-publikasi-kebijakan-perangkat-daerah
END:VEVENT
BEGIN:VEVENT
DTSTART;VALUE=DATE:20220309
DTEND;VALUE=DATE:20220310
DTSTAMP:20260424T072818
CREATED:20220310T062555Z
LAST-MODIFIED:20220310T062555Z
UID:4643-1646784000-1646870399@dukcapil-old.slemankab.go.id
SUMMARY:Kunjungan Kerja Dari Komisi A DPRD Kota Magelang
DESCRIPTION:
URL:https://dukcapil-old.slemankab.go.id/event/kunjungan-kerja-dari-komisi-a-dprd-kota-magelang
END:VEVENT
BEGIN:VEVENT
DTSTART;VALUE=DATE:20220309
DTEND;VALUE=DATE:20220310
DTSTAMP:20260424T072818
CREATED:20220310T062712Z
LAST-MODIFIED:20220310T062712Z
UID:4645-1646784000-1646870399@dukcapil-old.slemankab.go.id
SUMMARY:Pembinaan Pejabat Pengadaan Barang/Jasa dan Sosialisasi
DESCRIPTION:
URL:https://dukcapil-old.slemankab.go.id/event/pembinaan-pejabat-pengadaan-barang-jasa-dan-sosialisasi
END:VEVENT
BEGIN:VEVENT
DTSTART;VALUE=DATE:20220309
DTEND;VALUE=DATE:20220310
DTSTAMP:20260424T072818
CREATED:20220310T062857Z
LAST-MODIFIED:20220310T062857Z
UID:4647-1646784000-1646870399@dukcapil-old.slemankab.go.id
SUMMARY:Rapat Persiapan Pengadaan Tenaga Ahli Pada Kegiatan Kebijakan Kemiskinan di DIY
DESCRIPTION:
URL:https://dukcapil-old.slemankab.go.id/event/rapat-persiapan-pengadaan-tenaga-ahli-pada-kegiatan-kebijakan-kemiskinan-di-diy
END:VEVENT
END:VCALENDAR