BEGIN:VCALENDAR
VERSION:2.0
PRODID:-//Dinas Kependudukan dan Pencatatan Sipil Kabupaten Sleman - ECPv6.4.0//NONSGML v1.0//EN
CALSCALE:GREGORIAN
METHOD:PUBLISH
X-WR-CALNAME:Dinas Kependudukan dan Pencatatan Sipil Kabupaten Sleman
X-ORIGINAL-URL:https://dukcapil-old.slemankab.go.id
X-WR-CALDESC:Events for Dinas Kependudukan dan Pencatatan Sipil Kabupaten Sleman
REFRESH-INTERVAL;VALUE=DURATION:PT1H
X-Robots-Tag:noindex
X-PUBLISHED-TTL:PT1H
BEGIN:VTIMEZONE
TZID:Asia/Jakarta
BEGIN:STANDARD
TZOFFSETFROM:+0700
TZOFFSETTO:+0700
TZNAME:WIB
DTSTART:20240101T000000
END:STANDARD
END:VTIMEZONE
BEGIN:VEVENT
DTSTART;VALUE=DATE:20240221
DTEND;VALUE=DATE:20240222
DTSTAMP:20260423T173301
CREATED:20240221T010658Z
LAST-MODIFIED:20240221T010658Z
UID:10740-1708473600-1708559999@dukcapil-old.slemankab.go.id
SUMMARY:Monitoring dan Evaluasi Penyelenggaraan Adminduk di-DIY
DESCRIPTION:09.00\nTinitah Alam\n(Jetis\, Pendowoharjo\, Girimulyo\, Kulon Progo)
URL:https://dukcapil-old.slemankab.go.id/event/monitoring-dan-evaluasi-penyelenggaraan-adminduk-di-diy
END:VEVENT
BEGIN:VEVENT
DTSTART;VALUE=DATE:20240222
DTEND;VALUE=DATE:20240223
DTSTAMP:20260423T173301
CREATED:20240222T010806Z
LAST-MODIFIED:20240222T010806Z
UID:10751-1708560000-1708646399@dukcapil-old.slemankab.go.id
SUMMARY:Pembinaan Statistik Sektoral Tingkat Daerah
DESCRIPTION:08.00\nRM Pringsewu\nMulungan\nSendangadi\nMlati
URL:https://dukcapil-old.slemankab.go.id/event/pembinaan-statistik-sektoral-tingkat-daerah
END:VEVENT
BEGIN:VEVENT
DTSTART;VALUE=DATE:20240223
DTEND;VALUE=DATE:20240224
DTSTAMP:20260423T173301
CREATED:20240223T004023Z
LAST-MODIFIED:20240223T004023Z
UID:10754-1708646400-1708732799@dukcapil-old.slemankab.go.id
SUMMARY:Rapat Koordinasi Pelaksanaan PUPM Bidang Pelayanan Pendaftaran Pendudukdan Rencana Jemput Bola IKD Thn. 2024
DESCRIPTION:09.00\nRuang Rapat\nDinas Dukcapil
URL:https://dukcapil-old.slemankab.go.id/event/rapat-koordinasi-pelaksanaan-pupm-bidang-pelayanan-pendaftaran-pendudukdan-rencana-jemput-bola-ikd-thn-2024
END:VEVENT
BEGIN:VEVENT
DTSTART;VALUE=DATE:20240223
DTEND;VALUE=DATE:20240224
DTSTAMP:20260423T173301
CREATED:20240223T004302Z
LAST-MODIFIED:20240223T004302Z
UID:10756-1708646400-1708732799@dukcapil-old.slemankab.go.id
SUMMARY:Silahturahmi Kerjasama Progam KAPERU (KTP&KK Baru Bagi Pengantin Baru)
DESCRIPTION:09.00\nRuang Rapat\nDinas Dukcapil
URL:https://dukcapil-old.slemankab.go.id/event/silahturahmi-kerjasama-progam-kaperu-ktpkk-baru-bagi-pengantin-baru
END:VEVENT
BEGIN:VEVENT
DTSTART;VALUE=DATE:20240223
DTEND;VALUE=DATE:20240224
DTSTAMP:20260423T173301
CREATED:20240223T004358Z
LAST-MODIFIED:20240223T004358Z
UID:10758-1708646400-1708732799@dukcapil-old.slemankab.go.id
SUMMARY:Rapat Koordinasi Penanganan Penduduk Rentan Adminduk/ Pennyelesaian Data Adminduk Bermasalah
DESCRIPTION:13.00\nRuang Rapat\nDinas Dukcapil
URL:https://dukcapil-old.slemankab.go.id/event/rapat-koordinasi-penanganan-penduduk-rentan-adminduk-pennyelesaian-data-adminduk-bermasalah
END:VEVENT
BEGIN:VEVENT
DTSTART;VALUE=DATE:20240226
DTEND;VALUE=DATE:20240227
DTSTAMP:20260423T173301
CREATED:20240226T013425Z
LAST-MODIFIED:20240226T013425Z
UID:10775-1708905600-1708991999@dukcapil-old.slemankab.go.id
SUMMARY:Partisipasi Peringatan Hari Pers Nasional Tahun 2024\, Bakti Sosial Donor Darah dan Pengukuhan Pengurus PWI Kab. Sleman
DESCRIPTION:09.00\nPendopo\nParasanya\nSetda
URL:https://dukcapil-old.slemankab.go.id/event/partisipasi-peringatan-hari-pers-nasional-tahun-2024-bakti-sosial-donor-darah-dan-pengukuhan-pengurus-pwi-kab-sleman
END:VEVENT
BEGIN:VEVENT
DTSTART;VALUE=DATE:20240226
DTEND;VALUE=DATE:20240227
DTSTAMP:20260423T173301
CREATED:20240226T013625Z
LAST-MODIFIED:20240226T013625Z
UID:10777-1708905600-1708991999@dukcapil-old.slemankab.go.id
SUMMARY:Rapat Penyusunan Laporan Rencana Aksi Daerah (RAD) Penanganan Konflik Sosial
DESCRIPTION:09.00\nAula Unit 1\nPemkab\nSleman
URL:https://dukcapil-old.slemankab.go.id/event/rapat-penyusunan-laporan-rencana-aksi-daerah-rad-penanganan-konflik-sosial
END:VEVENT
BEGIN:VEVENT
DTSTART;VALUE=DATE:20240226
DTEND;VALUE=DATE:20240227
DTSTAMP:20260423T173301
CREATED:20240226T013720Z
LAST-MODIFIED:20240226T013720Z
UID:10779-1708905600-1708991999@dukcapil-old.slemankab.go.id
SUMMARY:Rapat Koordinasi Pimpinan Perangkat Daerah Bulan Februari 2024
DESCRIPTION:12.30\nAula Lantai 3\nSetda
URL:https://dukcapil-old.slemankab.go.id/event/rapat-koordinasi-pimpinan-perangkat-daerah-bulan-februari-2024
END:VEVENT
BEGIN:VEVENT
DTSTART;VALUE=DATE:20240227
DTEND;VALUE=DATE:20240228
DTSTAMP:20260423T173301
CREATED:20240227T010537Z
LAST-MODIFIED:20240227T010537Z
UID:10781-1708992000-1709078399@dukcapil-old.slemankab.go.id
SUMMARY:Rapat Pembahasan Data Bab Sosial\, Kependudukan dan Kesehatan
DESCRIPTION:09.00\nR. Rapat\nKalpataru DLH\nKab. Sleman
URL:https://dukcapil-old.slemankab.go.id/event/rapat-pembahasan-data-bab-sosial-kependudukan-dan-kesehatan
END:VEVENT
BEGIN:VEVENT
DTSTART;VALUE=DATE:20240228
DTEND;VALUE=DATE:20240229
DTSTAMP:20260423T173301
CREATED:20240228T011138Z
LAST-MODIFIED:20240228T011138Z
UID:10800-1709078400-1709164799@dukcapil-old.slemankab.go.id
SUMMARY:Koordinasi Teknis dan Penguatan Pelaksanaan Akselerasi Penjaman Reformasi Birokrasi Tahun 2024
DESCRIPTION:08.30\nObelix Village\nPandowoharjo\nSleman
URL:https://dukcapil-old.slemankab.go.id/event/koordinasi-teknis-dan-penguatan-pelaksanaan-akselerasi-penjaman-reformasi-birokrasi-tahun-2024
END:VEVENT
BEGIN:VEVENT
DTSTART;VALUE=DATE:20240228
DTEND;VALUE=DATE:20240229
DTSTAMP:20260423T173301
CREATED:20240228T011259Z
LAST-MODIFIED:20240228T011259Z
UID:10802-1709078400-1709164799@dukcapil-old.slemankab.go.id
SUMMARY:Pengajian Dalam Rangka Peringatan IsraMi’raj Nabi Muhammad SAWdan Menyambut Bulan Suci Ramadhan Tahun1445 M /2024 H
DESCRIPTION:12.30\nMasjid Agung\ndr. Wahidin\nSoediro\nHoesodo Kab. Sleman
URL:https://dukcapil-old.slemankab.go.id/event/pengajian-dalam-rangka-peringatan-isramiraj-nabi-muhammad-sawdan-menyambut-bulan-suci-ramadhan-tahun1445-m-2024-h
END:VEVENT
BEGIN:VEVENT
DTSTART;VALUE=DATE:20240229
DTEND;VALUE=DATE:20240301
DTSTAMP:20260423T173301
CREATED:20240229T005631Z
LAST-MODIFIED:20240229T005631Z
UID:10818-1709164800-1709251199@dukcapil-old.slemankab.go.id
SUMMARY:Rapat Koordinasi Data Kependudukan\,Disabilitas dan KK Miskin terkait PPDB
DESCRIPTION:09.30\nRapat Kartini Lt 1\nDinas\nPendidikan Kab. Sleman
URL:https://dukcapil-old.slemankab.go.id/event/rapat-koordinasi-data-kependudukandisabilitas-dan-kk-miskin-terkait-ppdb
END:VEVENT
BEGIN:VEVENT
DTSTART;VALUE=DATE:20240229
DTEND;VALUE=DATE:20240301
DTSTAMP:20260423T173301
CREATED:20240229T005733Z
LAST-MODIFIED:20240229T005733Z
UID:10820-1709164800-1709251199@dukcapil-old.slemankab.go.id
SUMMARY:Koordinasi Persiapan Safari Tarawih Keliling Bupati Sleman Tahun 1444H / 2024 M
DESCRIPTION:12.30\nR.Rapat Praja I\nSetda Sleman
URL:https://dukcapil-old.slemankab.go.id/event/koordinasi-persiapan-safari-tarawih-keliling-bupati-sleman-tahun-1444h-2024-m
END:VEVENT
BEGIN:VEVENT
DTSTART;VALUE=DATE:20240301
DTEND;VALUE=DATE:20240302
DTSTAMP:20260423T173301
CREATED:20240301T014032Z
LAST-MODIFIED:20240301T014032Z
UID:10828-1709251200-1709337599@dukcapil-old.slemankab.go.id
SUMMARY:Koordinasi Pemberian Tunjangan Fungsional Terkait Pergantian Nama Jabatan Lama Selaku Sub Koordinastor Menjadi Jabatan Baru
DESCRIPTION:09.30\nR R III B BKAD
URL:https://dukcapil-old.slemankab.go.id/event/koordinasi-pemberian-tunjangan-fungsional-terkait-pergantian-nama-jabatan-lama-selaku-sub-koordinastor-menjadi-jabatan-baru
END:VEVENT
BEGIN:VEVENT
DTSTART;VALUE=DATE:20240304
DTEND;VALUE=DATE:20240305
DTSTAMP:20260423T173301
CREATED:20240304T035425Z
LAST-MODIFIED:20240304T035425Z
UID:10862-1709510400-1709596799@dukcapil-old.slemankab.go.id
SUMMARY:Rapat Koordinasi Penyusunan Indikator Evaluasi Pelaksanaan GISA di Kapanewon\, Kalurahan\, dan Padukuhan
DESCRIPTION:Ruang Rapat\nDinas Dukcapil\nSleman
URL:https://dukcapil-old.slemankab.go.id/event/rapat-koordinasi-penyusunan-indikator-evaluasi-pelaksanaan-gisa-di-kapanewon-kalurahan-dan-padukuhan
END:VEVENT
BEGIN:VEVENT
DTSTART;VALUE=DATE:20240304
DTEND;VALUE=DATE:20240305
DTSTAMP:20260423T173301
CREATED:20240304T035552Z
LAST-MODIFIED:20240304T035552Z
UID:10864-1709510400-1709596799@dukcapil-old.slemankab.go.id
SUMMARY:Rapat Koordinasi Pengelolaan TPP Tahun2024
DESCRIPTION:13.00\nRuang Rapat\nIII B BKAD\nSleman
URL:https://dukcapil-old.slemankab.go.id/event/rapat-koordinasi-pengelolaan-tpp-tahun2024
END:VEVENT
BEGIN:VEVENT
DTSTART;VALUE=DATE:20240304
DTEND;VALUE=DATE:20240305
DTSTAMP:20260423T173301
CREATED:20240304T035626Z
LAST-MODIFIED:20240304T035626Z
UID:10866-1709510400-1709596799@dukcapil-old.slemankab.go.id
SUMMARY:FGD Pengisian Indikator Evaluasi Kabupaten Layak Anak Klaster 1 (Hak Sipil dan Kebebasan)
DESCRIPTION:13.00\nRuang Rapat\nA Dinas\nP3AP2KB
URL:https://dukcapil-old.slemankab.go.id/event/fgd-pengisian-indikator-evaluasi-kabupaten-layak-anak-klaster-1-hak-sipil-dan-kebebasan
END:VEVENT
BEGIN:VEVENT
DTSTART;VALUE=DATE:20240305
DTEND;VALUE=DATE:20240306
DTSTAMP:20260423T173301
CREATED:20240305T005710Z
LAST-MODIFIED:20240305T005710Z
UID:10868-1709596800-1709683199@dukcapil-old.slemankab.go.id
SUMMARY:Pembahasan Dokumen KK Dalam Rangka Pendaftaran PPDB SMP
DESCRIPTION:12.30\nR R Dinas\nDukcapil
URL:https://dukcapil-old.slemankab.go.id/event/pembahasan-dokumen-kk-dalam-rangka-pendaftaran-ppdb-smp
END:VEVENT
BEGIN:VEVENT
DTSTART;VALUE=DATE:20240305
DTEND;VALUE=DATE:20240306
DTSTAMP:20260423T173301
CREATED:20240305T005807Z
LAST-MODIFIED:20240305T005807Z
UID:10870-1709596800-1709683199@dukcapil-old.slemankab.go.id
SUMMARY:Narasumber Pembinaan Adminduk Bagi Kaur Tata Laksana dan Dukuh
DESCRIPTION:09.00\nBalai Kalurahan\nPakembinangun\nPakem
URL:https://dukcapil-old.slemankab.go.id/event/narasumber-pembinaan-adminduk-bagi-kaur-tata-laksana-dan-dukuh
END:VEVENT
BEGIN:VEVENT
DTSTART;VALUE=DATE:20240306
DTEND;VALUE=DATE:20240307
DTSTAMP:20260423T173301
CREATED:20240306T011555Z
LAST-MODIFIED:20240306T011555Z
UID:10872-1709683200-1709769599@dukcapil-old.slemankab.go.id
SUMMARY:Workshop Pengelolaan Pengaduan Kelola Aduan dengan Sigap SPAN Lapor Makin Mantap
DESCRIPTION:08.30\nAula Pangripta\nBappeda
URL:https://dukcapil-old.slemankab.go.id/event/workshop-pengelolaan-pengaduan-kelola-aduan-dengan-sigap-span-lapor-makin-mantap
END:VEVENT
BEGIN:VEVENT
DTSTART;VALUE=DATE:20240307
DTEND;VALUE=DATE:20240308
DTSTAMP:20260423T173301
CREATED:20240307T005807Z
LAST-MODIFIED:20240307T005807Z
UID:10883-1709769600-1709855999@dukcapil-old.slemankab.go.id
SUMMARY:Musrenbang RPJPD Kab Sleman Tahun2 025-2045
DESCRIPTION:08.30\nImperial\nBallroomThe\nRich Jogja Hotel
URL:https://dukcapil-old.slemankab.go.id/event/musrenbang-rpjpd-kab-sleman-tahun2-025-2045
END:VEVENT
BEGIN:VEVENT
DTSTART;VALUE=DATE:20240307
DTEND;VALUE=DATE:20240308
DTSTAMP:20260423T173301
CREATED:20240307T005932Z
LAST-MODIFIED:20240307T005932Z
UID:10885-1709769600-1709855999@dukcapil-old.slemankab.go.id
SUMMARY:Narasumber Pembinaan Kader GISA Bimtek Pengurusan Dokumen Adminduk melalui Aplikasi IKD
DESCRIPTION:09.00\nGedung Sasana\nAnglocitatama\nDepok
URL:https://dukcapil-old.slemankab.go.id/event/narasumber-pembinaan-kader-gisa-bimtek-pengurusan-dokumen-adminduk-melalui-aplikasi-ikd
END:VEVENT
BEGIN:VEVENT
DTSTART;VALUE=DATE:20240308
DTEND;VALUE=DATE:20240309
DTSTAMP:20260423T173301
CREATED:20240308T014254Z
LAST-MODIFIED:20240308T014254Z
UID:10892-1709856000-1709942399@dukcapil-old.slemankab.go.id
SUMMARY:Rekonsiliasi peserta PBPU BP PemdaTriwulan I Tahun 2024
DESCRIPTION:09.00\nSilol Kopi and\nEatery\nGondokusuman\nYk
URL:https://dukcapil-old.slemankab.go.id/event/rekonsiliasi-peserta-pbpu-bp-pemdatriwulan-i-tahun-2024
END:VEVENT
BEGIN:VEVENT
DTSTART;VALUE=DATE:20240308
DTEND;VALUE=DATE:20240309
DTSTAMP:20260423T173301
CREATED:20240308T014422Z
LAST-MODIFIED:20240308T014422Z
UID:10894-1709856000-1709942399@dukcapil-old.slemankab.go.id
SUMMARY:Bimtek penyusunan rencana aksi budaya pemerintahan
DESCRIPTION:RR Gedung\nAbimanyu unit 9\nlt 3 Kepatihan\nyk sekda
URL:https://dukcapil-old.slemankab.go.id/event/bimtek-penyusunan-rencana-aksi-budaya-pemerintahan
END:VEVENT
BEGIN:VEVENT
DTSTART;VALUE=DATE:20240313
DTEND;VALUE=DATE:20240314
DTSTAMP:20260423T173301
CREATED:20240313T011151Z
LAST-MODIFIED:20240313T011151Z
UID:10910-1710288000-1710374399@dukcapil-old.slemankab.go.id
SUMMARY:Peningkatan Kompetensi Pejabat Pembuat Komitmen PPK oleh Kejaksaan Negeri Sleman
DESCRIPTION:08.30\nAula Bappeda
URL:https://dukcapil-old.slemankab.go.id/event/peningkatan-kompetensi-pejabat-pembuat-komitmen-ppk-oleh-kejaksaan-negeri-sleman
END:VEVENT
BEGIN:VEVENT
DTSTART;VALUE=DATE:20240313
DTEND;VALUE=DATE:20240314
DTSTAMP:20260423T173301
CREATED:20240313T011238Z
LAST-MODIFIED:20240313T011238Z
UID:10912-1710288000-1710374399@dukcapil-old.slemankab.go.id
SUMMARY:Penyampaian Piagam Penilaian Kepatuhan Penyelengaraan Pelayaan Publik Thn 2023 Oleh Ombudsman
DESCRIPTION:08.30\nRR Sembada\nSetda
URL:https://dukcapil-old.slemankab.go.id/event/penyampaian-piagam-penilaian-kepatuhan-penyelengaraan-pelayaan-publik-thn-2023-oleh-ombudsman
END:VEVENT
BEGIN:VEVENT
DTSTART;VALUE=DATE:20240313
DTEND;VALUE=DATE:20240314
DTSTAMP:20260423T173301
CREATED:20240313T011332Z
LAST-MODIFIED:20240313T011332Z
UID:10914-1710288000-1710374399@dukcapil-old.slemankab.go.id
SUMMARY:Koordinasi Pemenuhan Area Indikator dan Subindikator MCP KPK RI thn 2024
DESCRIPTION:09.00\nRR Investigasi\nInspektorat kab\nSleman
URL:https://dukcapil-old.slemankab.go.id/event/koordinasi-pemenuhan-area-indikator-dan-subindikator-mcp-kpk-ri-thn-2024
END:VEVENT
BEGIN:VEVENT
DTSTART;VALUE=DATE:20240314
DTEND;VALUE=DATE:20240315
DTSTAMP:20260423T173301
CREATED:20240314T005504Z
LAST-MODIFIED:20240314T005504Z
UID:10927-1710374400-1710460799@dukcapil-old.slemankab.go.id
SUMMARY:Rapat Koordinasi persiapan evaluasi kalurahan inovatif
DESCRIPTION:09.00\nRuang Op\nRoom Dinas\nPMK
URL:https://dukcapil-old.slemankab.go.id/event/rapat-koordinasi-persiapan-evaluasi-kalurahan-inovatif-2
END:VEVENT
BEGIN:VEVENT
DTSTART;VALUE=DATE:20240314
DTEND;VALUE=DATE:20240315
DTSTAMP:20260423T173301
CREATED:20240314T005558Z
LAST-MODIFIED:20240314T005558Z
UID:10929-1710374400-1710460799@dukcapil-old.slemankab.go.id
SUMMARY:Bimtek Kovensi Hak Anak Bagi GugusTugas kabupaten layak anak
DESCRIPTION:09.00\nRuang Aula\nDinas\nP3AP2KB\nSleman
URL:https://dukcapil-old.slemankab.go.id/event/bimtek-kovensi-hak-anak-bagi-gugustugas-kabupaten-layak-anak
END:VEVENT
BEGIN:VEVENT
DTSTART;VALUE=DATE:20240315
DTEND;VALUE=DATE:20240316
DTSTAMP:20260423T173301
CREATED:20240315T010707Z
LAST-MODIFIED:20240315T010707Z
UID:10932-1710460800-1710547199@dukcapil-old.slemankab.go.id
SUMMARY:Pembinaan Rohani Menyambut Paskah 2024
DESCRIPTION:08.30\nGereja St\nAlfonsus di\nLiguari Nandan
URL:https://dukcapil-old.slemankab.go.id/event/pembinaan-rohani-menyambut-paskah-2024
END:VEVENT
END:VCALENDAR