BEGIN:VCALENDAR
VERSION:2.0
PRODID:-//Dinas Kependudukan dan Pencatatan Sipil Kabupaten Sleman - ECPv6.4.0//NONSGML v1.0//EN
CALSCALE:GREGORIAN
METHOD:PUBLISH
X-ORIGINAL-URL:https://dukcapil-old.slemankab.go.id
X-WR-CALDESC:Events for Dinas Kependudukan dan Pencatatan Sipil Kabupaten Sleman
REFRESH-INTERVAL;VALUE=DURATION:PT1H
X-Robots-Tag:noindex
X-PUBLISHED-TTL:PT1H
BEGIN:VTIMEZONE
TZID:Asia/Jakarta
BEGIN:STANDARD
TZOFFSETFROM:+0700
TZOFFSETTO:+0700
TZNAME:WIB
DTSTART:20240101T000000
END:STANDARD
END:VTIMEZONE
BEGIN:VEVENT
DTSTART;VALUE=DATE:20240313
DTEND;VALUE=DATE:20240314
DTSTAMP:20260424T021432
CREATED:20240313T011332Z
LAST-MODIFIED:20240313T011332Z
UID:10914-1710288000-1710374399@dukcapil-old.slemankab.go.id
SUMMARY:Koordinasi Pemenuhan Area Indikator dan Subindikator MCP KPK RI thn 2024
DESCRIPTION:09.00\nRR Investigasi\nInspektorat kab\nSleman
URL:https://dukcapil-old.slemankab.go.id/event/koordinasi-pemenuhan-area-indikator-dan-subindikator-mcp-kpk-ri-thn-2024
END:VEVENT
BEGIN:VEVENT
DTSTART;VALUE=DATE:20240314
DTEND;VALUE=DATE:20240315
DTSTAMP:20260424T021432
CREATED:20240314T005504Z
LAST-MODIFIED:20240314T005504Z
UID:10927-1710374400-1710460799@dukcapil-old.slemankab.go.id
SUMMARY:Rapat Koordinasi persiapan evaluasi kalurahan inovatif
DESCRIPTION:09.00\nRuang Op\nRoom Dinas\nPMK
URL:https://dukcapil-old.slemankab.go.id/event/rapat-koordinasi-persiapan-evaluasi-kalurahan-inovatif-2
END:VEVENT
BEGIN:VEVENT
DTSTART;VALUE=DATE:20240314
DTEND;VALUE=DATE:20240315
DTSTAMP:20260424T021432
CREATED:20240314T005558Z
LAST-MODIFIED:20240314T005558Z
UID:10929-1710374400-1710460799@dukcapil-old.slemankab.go.id
SUMMARY:Bimtek Kovensi Hak Anak Bagi GugusTugas kabupaten layak anak
DESCRIPTION:09.00\nRuang Aula\nDinas\nP3AP2KB\nSleman
URL:https://dukcapil-old.slemankab.go.id/event/bimtek-kovensi-hak-anak-bagi-gugustugas-kabupaten-layak-anak
END:VEVENT
BEGIN:VEVENT
DTSTART;VALUE=DATE:20240315
DTEND;VALUE=DATE:20240316
DTSTAMP:20260424T021432
CREATED:20240315T010707Z
LAST-MODIFIED:20240315T010707Z
UID:10932-1710460800-1710547199@dukcapil-old.slemankab.go.id
SUMMARY:Pembinaan Rohani Menyambut Paskah 2024
DESCRIPTION:08.30\nGereja St\nAlfonsus di\nLiguari Nandan
URL:https://dukcapil-old.slemankab.go.id/event/pembinaan-rohani-menyambut-paskah-2024
END:VEVENT
BEGIN:VEVENT
DTSTART;VALUE=DATE:20240315
DTEND;VALUE=DATE:20240316
DTSTAMP:20260424T021432
CREATED:20240315T010856Z
LAST-MODIFIED:20240315T010856Z
UID:10934-1710460800-1710547199@dukcapil-old.slemankab.go.id
SUMMARY:Rapat Koordinasi Pencatatan Perkawinan Penduduk yang Beragama Selain Islamyang di dalam Kartu Keluarga (KK) Berstatus Kawin Belum Tercatat
DESCRIPTION:13.00\nR.Rapat Dinas\nDukcapil\nSleman
URL:https://dukcapil-old.slemankab.go.id/event/rapat-koordinasi-pencatatan-perkawinan-penduduk-yang-beragama-selain-islamyang-di-dalam-kartu-keluarga-kk-berstatus-kawin-belum-tercatat
END:VEVENT
BEGIN:VEVENT
DTSTART;VALUE=DATE:20240318
DTEND;VALUE=DATE:20240319
DTSTAMP:20260424T021432
CREATED:20240318T010542Z
LAST-MODIFIED:20240318T010542Z
UID:10936-1710720000-1710806399@dukcapil-old.slemankab.go.id
SUMMARY:Sosialisasi Indeks Inovasi Daerah 2024
DESCRIPTION:08.30 WIB\nAula Pangripta\nBappeda
URL:https://dukcapil-old.slemankab.go.id/event/sosialisasi-indeks-inovasi-daerah-2024
END:VEVENT
BEGIN:VEVENT
DTSTART;VALUE=DATE:20240318
DTEND;VALUE=DATE:20240319
DTSTAMP:20260424T021432
CREATED:20240318T010615Z
LAST-MODIFIED:20240318T010615Z
UID:10938-1710720000-1710806399@dukcapil-old.slemankab.go.id
SUMMARY:Sosialisasi Laporan Harta Kekayaan Aparatur Negara
DESCRIPTION:13.00 WIB\nRR Investigasi\nInspektorat\nKab. Sleman
URL:https://dukcapil-old.slemankab.go.id/event/sosialisasi-laporan-harta-kekayaan-aparatur-negara
END:VEVENT
BEGIN:VEVENT
DTSTART;VALUE=DATE:20240319
DTEND;VALUE=DATE:20240320
DTSTAMP:20260424T021432
CREATED:20240319T004824Z
LAST-MODIFIED:20240319T004824Z
UID:10947-1710806400-1710892799@dukcapil-old.slemankab.go.id
SUMMARY:Review dan Evaluasi PPRG Kab.Sleman
DESCRIPTION:08.30\nAula Srikandi\nBBPPM Yogya
URL:https://dukcapil-old.slemankab.go.id/event/review-dan-evaluasi-pprg-kab-sleman-3
END:VEVENT
BEGIN:VEVENT
DTSTART;VALUE=DATE:20240319
DTEND;VALUE=DATE:20240320
DTSTAMP:20260424T021432
CREATED:20240319T004859Z
LAST-MODIFIED:20240319T004859Z
UID:10949-1710806400-1710892799@dukcapil-old.slemankab.go.id
SUMMARY:Rapat Koordinasi tindak lanjut usulan PUPM dan POKIR
DESCRIPTION:09.00\nRR Sinom\nBappeda
URL:https://dukcapil-old.slemankab.go.id/event/rapat-koordinasi-tindak-lanjut-usulan-pupm-dan-pokir
END:VEVENT
BEGIN:VEVENT
DTSTART;VALUE=DATE:20240319
DTEND;VALUE=DATE:20240320
DTSTAMP:20260424T021432
CREATED:20240319T004936Z
LAST-MODIFIED:20240319T004936Z
UID:10951-1710806400-1710892799@dukcapil-old.slemankab.go.id
SUMMARY:Rakordal bulan maret 2024\, Agenda Evaluasi pelaksanaan kegiatan sampai bulan februari 2024
DESCRIPTION:09.00\nR Diklat\, Lt 2\nGedung\nDekranasda\nKab Sleman
URL:https://dukcapil-old.slemankab.go.id/event/rakordal-bulan-maret-2024-agenda-evaluasi-pelaksanaan-kegiatan-sampai-bulan-februari-2024
END:VEVENT
BEGIN:VEVENT
DTSTART;VALUE=DATE:20240319
DTEND;VALUE=DATE:20240320
DTSTAMP:20260424T021432
CREATED:20240319T005011Z
LAST-MODIFIED:20240319T005011Z
UID:10953-1710806400-1710892799@dukcapil-old.slemankab.go.id
SUMMARY:Pembahasan Draft Laporan Analis Kebijakan dan Reporting Pemanfaatan SIPKUMHAM TWI
DESCRIPTION:09.00\nAula Kanwil\nKEMENKUMHA\nM DIY
URL:https://dukcapil-old.slemankab.go.id/event/pembahasan-draft-laporan-analis-kebijakan-dan-reporting-pemanfaatan-sipkumham-twi
END:VEVENT
BEGIN:VEVENT
DTSTART;VALUE=DATE:20240320
DTEND;VALUE=DATE:20240321
DTSTAMP:20260424T021432
CREATED:20240320T010132Z
LAST-MODIFIED:20240320T010132Z
UID:10957-1710892800-1710979199@dukcapil-old.slemankab.go.id
SUMMARY:Review dan Evaluasi PPRG kab sleman
DESCRIPTION:08.30\nAula Srikandi\nBBPPM\nYogyakarta
URL:https://dukcapil-old.slemankab.go.id/event/review-dan-evaluasi-pprg-kab-sleman-4
END:VEVENT
BEGIN:VEVENT
DTSTART;VALUE=DATE:20240320
DTEND;VALUE=DATE:20240321
DTSTAMP:20260424T021432
CREATED:20240320T010423Z
LAST-MODIFIED:20240320T010423Z
UID:10959-1710892800-1710979199@dukcapil-old.slemankab.go.id
SUMMARY:Rapat Kerja “Prosedur dan tata cara pemanfaatan dan akses data kependudukan"
DESCRIPTION:08.30\nRR Dharma\nPraja Biro Tata\nPemerintahan
URL:https://dukcapil-old.slemankab.go.id/event/rapat-kerja-prosedur-dan-tata-cara-pemanfaatan-dan-akses-data-kependudukan
END:VEVENT
BEGIN:VEVENT
DTSTART;VALUE=DATE:20240320
DTEND;VALUE=DATE:20240321
DTSTAMP:20260424T021432
CREATED:20240320T010539Z
LAST-MODIFIED:20240320T010539Z
UID:10961-1710892800-1710979199@dukcapil-old.slemankab.go.id
SUMMARY:Rapat Perhitungan Kebutuhan Jabatan Fungsional Pada Dinas Dukcapil
DESCRIPTION:10.30\nR Rapat Bagian\nOrganisasi\nSekda Sleman
URL:https://dukcapil-old.slemankab.go.id/event/rapat-perhitungan-kebutuhan-jabatan-fungsional-pada-dinas-dukcapil
END:VEVENT
BEGIN:VEVENT
DTSTART;VALUE=DATE:20240321
DTEND;VALUE=DATE:20240322
DTSTAMP:20260424T021432
CREATED:20240321T004141Z
LAST-MODIFIED:20240321T004141Z
UID:10969-1710979200-1711065599@dukcapil-old.slemankab.go.id
SUMMARY:Relaas Panggilan Sidang
DESCRIPTION:09.00\nPengadilan\nNegeri Sleman
URL:https://dukcapil-old.slemankab.go.id/event/relaas-panggilan-sidang-3
END:VEVENT
BEGIN:VEVENT
DTSTART;VALUE=DATE:20240321
DTEND;VALUE=DATE:20240322
DTSTAMP:20260424T021432
CREATED:20240321T004209Z
LAST-MODIFIED:20240321T004209Z
UID:10971-1710979200-1711065599@dukcapil-old.slemankab.go.id
SUMMARY:Mengikuti Lomba Kuis Sleman Sembada
DESCRIPTION:13.00\nSisi Utara Lap. Pemda Kab. Sleman
URL:https://dukcapil-old.slemankab.go.id/event/mengikuti-lomba-kuis-sleman-sembada
END:VEVENT
BEGIN:VEVENT
DTSTART;VALUE=DATE:20240322
DTEND;VALUE=DATE:20240323
DTSTAMP:20260424T021432
CREATED:20240322T004553Z
LAST-MODIFIED:20240322T004553Z
UID:10995-1711065600-1711151999@dukcapil-old.slemankab.go.id
SUMMARY:Koordinasi Penyusunan Angka Kredit Tahun 2023 Jabatan Fungsional Analis Kebijakan
DESCRIPTION:09.30\nR.R Bagian\nKesra Setda\n(Kesejahteraan\nRakyat)
URL:https://dukcapil-old.slemankab.go.id/event/koordinasi-penyusunan-angka-kredit-tahun-2023-jabatan-fungsional-analis-kebijakan
END:VEVENT
BEGIN:VEVENT
DTSTART;VALUE=DATE:20240325
DTEND;VALUE=DATE:20240326
DTSTAMP:20260424T021432
CREATED:20240325T012242Z
LAST-MODIFIED:20240325T012242Z
UID:10997-1711324800-1711411199@dukcapil-old.slemankab.go.id
SUMMARY:Koordinasi Penyusunan Angka Kredit Tahun 2023 Jabatan Fungsional Analis Kebijakan
DESCRIPTION:09.00\nRuang Rapat\nPraja 1 Setda\nKab. Sleman
URL:https://dukcapil-old.slemankab.go.id/event/koordinasi-penyusunan-angka-kredit-tahun-2023-jabatan-fungsional-analis-kebijakan-2
END:VEVENT
BEGIN:VEVENT
DTSTART;VALUE=DATE:20240325
DTEND;VALUE=DATE:20240326
DTSTAMP:20260424T021432
CREATED:20240325T012535Z
LAST-MODIFIED:20240325T012535Z
UID:10999-1711324800-1711411199@dukcapil-old.slemankab.go.id
SUMMARY:Rapat Paripurna Penyampaian PandanganUmum Fraksi Terhadap Rancangan Perda Tentang Pertanggung jawaban APBD Tahun2023
DESCRIPTION:09.00\nRuang Rapat\nParipurna\nDPRD Kab. Sleman
URL:https://dukcapil-old.slemankab.go.id/event/rapat-paripurna-penyampaian-pandanganumum-fraksi-terhadap-rancangan-perda-tentang-pertanggung-jawaban-apbd-tahun2023
END:VEVENT
BEGIN:VEVENT
DTSTART;VALUE=DATE:20240325
DTEND;VALUE=DATE:20240326
DTSTAMP:20260424T021432
CREATED:20240325T012729Z
LAST-MODIFIED:20240325T012729Z
UID:11001-1711324800-1711411199@dukcapil-old.slemankab.go.id
SUMMARY:Narasumber untuk Pembinaan Administrasi Kependudukan bagi Kepala Urusan Tata Laksana dan Dukuh Se Kapanewon Seyegan
DESCRIPTION:10.30\nAula Lantai 2\nKapanewon\nSeyegan
URL:https://dukcapil-old.slemankab.go.id/event/narasumber-untuk-pembinaan-administrasi-kependudukan-bagi-kepala-urusan-tata-laksana-dan-dukuh-se-kapanewon-seyegan
END:VEVENT
BEGIN:VEVENT
DTSTART;VALUE=DATE:20240326
DTEND;VALUE=DATE:20240327
DTSTAMP:20260424T021432
CREATED:20240326T005233Z
LAST-MODIFIED:20240326T005233Z
UID:11017-1711411200-1711497599@dukcapil-old.slemankab.go.id
SUMMARY:Narasumber Sosialisasi Administrasi Kependudukan (KIA dan Akta Kelahiran)
DESCRIPTION:09.00\nPendopo\nKapwn Mlati
URL:https://dukcapil-old.slemankab.go.id/event/narasumber-sosialisasi-administrasi-kependudukan-kia-dan-akta-kelahiran
END:VEVENT
BEGIN:VEVENT
DTSTART;VALUE=DATE:20240326
DTEND;VALUE=DATE:20240327
DTSTAMP:20260424T021432
CREATED:20240326T005439Z
LAST-MODIFIED:20240326T005439Z
UID:11019-1711411200-1711497599@dukcapil-old.slemankab.go.id
SUMMARY:Koordinasi Penerapan Pengembangan Aplikasil Layanan Online
DESCRIPTION:12.30\nR R Dinas\nDukcapil\nSleman
URL:https://dukcapil-old.slemankab.go.id/event/koordinasi-penerapan-pengembangan-aplikasil-layanan-online
END:VEVENT
BEGIN:VEVENT
DTSTART;VALUE=DATE:20240327
DTEND;VALUE=DATE:20240328
DTSTAMP:20260424T021432
CREATED:20240327T024038Z
LAST-MODIFIED:20240327T024038Z
UID:11032-1711497600-1711583999@dukcapil-old.slemankab.go.id
SUMMARY:Rapat Koordinasi Evaluasi Pengelolaan Dokumen Akta Pencatatan Sipil
DESCRIPTION:13.00\nR R Dinas\nDukcapil
URL:https://dukcapil-old.slemankab.go.id/event/rapat-koordinasi-evaluasi-pengelolaan-dokumen-akta-pencatatan-sipil
END:VEVENT
BEGIN:VEVENT
DTSTART;VALUE=DATE:20240327
DTEND;VALUE=DATE:20240328
DTSTAMP:20260424T021432
CREATED:20240327T024204Z
LAST-MODIFIED:20240327T024204Z
UID:11035-1711497600-1711583999@dukcapil-old.slemankab.go.id
SUMMARY:Jumpa Pers Untuk Mempublikasikan Kebijakan Pelayanan Publik Pemkab Sleman
DESCRIPTION:14.00\nR Sembada\nSetda
URL:https://dukcapil-old.slemankab.go.id/event/jumpa-pers-untuk-mempublikasikan-kebijakan-pelayanan-publik-pemkab-sleman
END:VEVENT
BEGIN:VEVENT
DTSTART;VALUE=DATE:20240328
DTEND;VALUE=DATE:20240329
DTSTAMP:20260424T021432
CREATED:20240328T010140Z
LAST-MODIFIED:20240328T010140Z
UID:11054-1711584000-1711670399@dukcapil-old.slemankab.go.id
SUMMARY:Musrenbang RKPD Kabupaten Sleman Th2025
DESCRIPTION:08.30\nImperial\nBallroom The\nRich Jogja Hotel
URL:https://dukcapil-old.slemankab.go.id/event/musrenbang-rkpd-kabupaten-sleman-th2025
END:VEVENT
BEGIN:VEVENT
DTSTART;VALUE=DATE:20240328
DTEND;VALUE=DATE:20240329
DTSTAMP:20260424T021432
CREATED:20240328T010357Z
LAST-MODIFIED:20240328T010357Z
UID:11056-1711584000-1711670399@dukcapil-old.slemankab.go.id
SUMMARY:Persiapan Pengharmonisasian Pembulatandan Pemantapan Konsepsi Raperbup
DESCRIPTION:13.00\nR.R. Bagian\nHukum Setda
URL:https://dukcapil-old.slemankab.go.id/event/persiapan-pengharmonisasian-pembulatandan-pemantapan-konsepsi-raperbup
END:VEVENT
BEGIN:VEVENT
DTSTART;VALUE=DATE:20240401
DTEND;VALUE=DATE:20240402
DTSTAMP:20260424T021432
CREATED:20240401T011601Z
LAST-MODIFIED:20240401T011601Z
UID:11066-1711929600-1712015999@dukcapil-old.slemankab.go.id
SUMMARY:Rapat Paripurna Penyampaian Jawaban Bupati atas Pandangan Umum Fraksi terhadap Rancangan Perda tentang Pertanggung Jawaban APBD Tahun 2023
DESCRIPTION:09.00\nR.R. Paripurna\nDPRD Kab. Sleman
URL:https://dukcapil-old.slemankab.go.id/event/rapat-paripurna-penyampaian-jawaban-bupati-atas-pandangan-umum-fraksi-terhadap-rancangan-perda-tentang-pertanggung-jawaban-apbd-tahun-2023
END:VEVENT
BEGIN:VEVENT
DTSTART;VALUE=DATE:20240401
DTEND;VALUE=DATE:20240402
DTSTAMP:20260424T021432
CREATED:20240401T011823Z
LAST-MODIFIED:20240401T011823Z
UID:11068-1711929600-1712015999@dukcapil-old.slemankab.go.id
SUMMARY:Narasumber Sosialisasi Administrasi dan Kependudukan dari Dinas Dukcapil Kab. Sleman
DESCRIPTION:14.00\nAula Kelurahan\nTridadi
URL:https://dukcapil-old.slemankab.go.id/event/narasumber-sosialisasi-administrasi-dan-kependudukan-dari-dinas-dukcapil-kab-sleman
END:VEVENT
BEGIN:VEVENT
DTSTART;VALUE=DATE:20240402
DTEND;VALUE=DATE:20240403
DTSTAMP:20260424T021432
CREATED:20240402T011144Z
LAST-MODIFIED:20240402T011144Z
UID:11070-1712016000-1712102399@dukcapil-old.slemankab.go.id
SUMMARY:Koordinasi dan Pertemuan Dalam Rangka Pencegahan dan Pemberantasan Korupsi Oleh KPK
DESCRIPTION:08.30\nRuang\nSembada\nSekda
URL:https://dukcapil-old.slemankab.go.id/event/koordinasi-dan-pertemuan-dalam-rangka-pencegahan-dan-pemberantasan-korupsi-oleh-kpk
END:VEVENT
BEGIN:VEVENT
DTSTART;VALUE=DATE:20240402
DTEND;VALUE=DATE:20240403
DTSTAMP:20260424T021432
CREATED:20240402T011318Z
LAST-MODIFIED:20240402T011318Z
UID:11072-1712016000-1712102399@dukcapil-old.slemankab.go.id
SUMMARY:Rapat Kopordinasi Perubahan Target Indikator Kinerja Tahun 2024 dan 2025
DESCRIPTION:09.00\nR.R. Kinanthi\nBappeda
URL:https://dukcapil-old.slemankab.go.id/event/rapat-kopordinasi-perubahan-target-indikator-kinerja-tahun-2024-dan-2025
END:VEVENT
END:VCALENDAR