BEGIN:VCALENDAR
VERSION:2.0
PRODID:-//Dinas Kependudukan dan Pencatatan Sipil Kabupaten Sleman - ECPv6.4.0//NONSGML v1.0//EN
CALSCALE:GREGORIAN
METHOD:PUBLISH
X-ORIGINAL-URL:https://dukcapil-old.slemankab.go.id
X-WR-CALDESC:Events for Dinas Kependudukan dan Pencatatan Sipil Kabupaten Sleman
REFRESH-INTERVAL;VALUE=DURATION:PT1H
X-Robots-Tag:noindex
X-PUBLISHED-TTL:PT1H
BEGIN:VTIMEZONE
TZID:Asia/Jakarta
BEGIN:STANDARD
TZOFFSETFROM:+0700
TZOFFSETTO:+0700
TZNAME:WIB
DTSTART:20220101T000000
END:STANDARD
END:VTIMEZONE
BEGIN:VEVENT
DTSTART;VALUE=DATE:20220520
DTEND;VALUE=DATE:20220521
DTSTAMP:20260423T213549
CREATED:20220520T002918Z
LAST-MODIFIED:20220520T002918Z
UID:5189-1653004800-1653091199@dukcapil-old.slemankab.go.id
SUMMARY:Upacara Peringatan hari Kebangkitan Nasional Ke 114 Tahun 2022
DESCRIPTION:07.30 \nLapangan Pemda Sleman
URL:https://dukcapil-old.slemankab.go.id/event/upacara-peringatan-hari-kebangkitan-nasional-ke-114-tahun-2022
END:VEVENT
BEGIN:VEVENT
DTSTART;VALUE=DATE:20220520
DTEND;VALUE=DATE:20220521
DTSTAMP:20260423T213550
CREATED:20220520T002954Z
LAST-MODIFIED:20220520T002954Z
UID:5191-1653004800-1653091199@dukcapil-old.slemankab.go.id
SUMMARY:Paparan Akhir Kajian Pengembangan Sistem Informasi Perumahan
DESCRIPTION:08.00 \nRuang Rapat A \nDinas Pupesdm YK
URL:https://dukcapil-old.slemankab.go.id/event/paparan-akhir-kajian-pengembangan-sistem-informasi-perumahan
END:VEVENT
BEGIN:VEVENT
DTSTART;VALUE=DATE:20220520
DTEND;VALUE=DATE:20220521
DTSTAMP:20260423T213550
CREATED:20220520T003100Z
LAST-MODIFIED:20220520T003100Z
UID:5193-1653004800-1653091199@dukcapil-old.slemankab.go.id
SUMMARY:Workshop Penerapan Peraturan Menteri dalam Negari No 47 Th 2021Tentang Tata cara Pelaksanaan Pembukuan Inventarisasi dan pelaporan BMD
DESCRIPTION:08.00 \nGajah Mada University Club Hotel & Convention
URL:https://dukcapil-old.slemankab.go.id/event/workshop-penerapan-peraturan-menteri-dalam-negari-no-47-th-2021tentang-tata-cara-pelaksanaan-pembukuan-inventarisasi-dan-pelaporan-bmd
END:VEVENT
BEGIN:VEVENT
DTSTART;VALUE=DATE:20220520
DTEND;VALUE=DATE:20220521
DTSTAMP:20260423T213550
CREATED:20220520T003138Z
LAST-MODIFIED:20220520T003138Z
UID:5195-1653004800-1653091199@dukcapil-old.slemankab.go.id
SUMMARY:Dukcapil Belajar Sosialisasi Permendagri no 73 tahun 2022 tentang Perubahan Nama pada Dokumen Kependudukan
DESCRIPTION:08.00 \nZoom Meeting
URL:https://dukcapil-old.slemankab.go.id/event/dukcapil-belajar-sosialisasi-permendagri-no-73-tahun-2022-tentang-perubahan-nama-pada-dokumen-kependudukan
END:VEVENT
BEGIN:VEVENT
DTSTART;VALUE=DATE:20220520
DTEND;VALUE=DATE:20220521
DTSTAMP:20260423T213550
CREATED:20220520T003201Z
LAST-MODIFIED:20220520T003201Z
UID:5197-1653004800-1653091199@dukcapil-old.slemankab.go.id
SUMMARY:Pertemuan Rutin dan Pembinaan Rohani Dharma Wanita Persatuan Kab Sleman
DESCRIPTION:08.30 \nAula Bappeda Kab Sleman
URL:https://dukcapil-old.slemankab.go.id/event/pertemuan-rutin-dan-pembinaan-rohani-dharma-wanita-persatuan-kab-sleman
END:VEVENT
BEGIN:VEVENT
DTSTART;VALUE=DATE:20220520
DTEND;VALUE=DATE:20220521
DTSTAMP:20260423T213550
CREATED:20220520T003223Z
LAST-MODIFIED:20220520T003223Z
UID:5199-1653004800-1653091199@dukcapil-old.slemankab.go.id
SUMMARY:Safari Jumat Bupati dan Wakil Bupati Sleman dan Kepala OPD Kab Sleman tahun 2022
DESCRIPTION:11.30 \nMasjid Nurul Amin Sedayu Triharjo Sleman
URL:https://dukcapil-old.slemankab.go.id/event/safari-jumat-bupati-dan-wakil-bupati-sleman-dan-kepala-opd-kab-sleman-tahun-2022
END:VEVENT
BEGIN:VEVENT
DTSTART;VALUE=DATE:20220523
DTEND;VALUE=DATE:20220524
DTSTAMP:20260423T213550
CREATED:20220523T002001Z
LAST-MODIFIED:20220523T002001Z
UID:5238-1653264000-1653350399@dukcapil-old.slemankab.go.id
SUMMARY:Sosialisasi percepatan layanan kartu identitas anak (KIA) bagi SLTP di Kab.Sleman
DESCRIPTION:09.30 \nR.R unit 1 pemkab sleman
URL:https://dukcapil-old.slemankab.go.id/event/sosialisasi-percepatan-layanan-kartu-identitas-anak-kia-bagi-sltp-di-kab-sleman
END:VEVENT
BEGIN:VEVENT
DTSTART;VALUE=DATE:20220523
DTEND;VALUE=DATE:20220524
DTSTAMP:20260423T213550
CREATED:20220523T002045Z
LAST-MODIFIED:20220523T002045Z
UID:5240-1653264000-1653350399@dukcapil-old.slemankab.go.id
SUMMARY:Rapat koordinasi membahas persiapan konsolidasi Dewan pengurus KORPRI Kab.Sleman Tahun 2022
DESCRIPTION:13.00 \nR.R Kresna Lantai 2 BKPP Kab.Sleman
URL:https://dukcapil-old.slemankab.go.id/event/rapat-koordinasi-membahas-persiapan-konsolidasi-dewan-pengurus-korpri-kab-sleman-tahun-2022
END:VEVENT
BEGIN:VEVENT
DTSTART;VALUE=DATE:20220524
DTEND;VALUE=DATE:20220525
DTSTAMP:20260423T213550
CREATED:20220524T002439Z
LAST-MODIFIED:20220524T002439Z
UID:5243-1653350400-1653436799@dukcapil-old.slemankab.go.id
SUMMARY:Sosialisasi kebijakan Adminduk
DESCRIPTION:09.00 \nAula Balai Kalurahan Bimomartani Kapanewon Ngemplak
URL:https://dukcapil-old.slemankab.go.id/event/sosialisasi-kebijakan-adminduk-2
END:VEVENT
BEGIN:VEVENT
DTSTART;VALUE=DATE:20220524
DTEND;VALUE=DATE:20220525
DTSTAMP:20260423T213550
CREATED:20220524T002536Z
LAST-MODIFIED:20220524T002536Z
UID:5245-1653350400-1653436799@dukcapil-old.slemankab.go.id
SUMMARY:Rapat koordinasi pimpinan perangkat daerah bulan mei 2022
DESCRIPTION:09.00 \nAula lt.3 setda sleman
URL:https://dukcapil-old.slemankab.go.id/event/rapat-koordinasi-pimpinan-perangkat-daerah-bulan-mei-2022
END:VEVENT
BEGIN:VEVENT
DTSTART;VALUE=DATE:20220525
DTEND;VALUE=DATE:20220526
DTSTAMP:20260423T213550
CREATED:20220525T002904Z
LAST-MODIFIED:20220525T002904Z
UID:5247-1653436800-1653523199@dukcapil-old.slemankab.go.id
SUMMARY:erlombaan Olahraga Tradisional
DESCRIPTION:08.00 \nLapangan Pemda Sleman
URL:https://dukcapil-old.slemankab.go.id/event/erlombaan-olahraga-tradisional
END:VEVENT
BEGIN:VEVENT
DTSTART;VALUE=DATE:20220525
DTEND;VALUE=DATE:20220526
DTSTAMP:20260423T213550
CREATED:20220525T003002Z
LAST-MODIFIED:20220525T003002Z
UID:5249-1653436800-1653523199@dukcapil-old.slemankab.go.id
SUMMARY:Sosilaisasi PPDB SMP Tahun 2022
DESCRIPTION:08.30 \nGedung Twins Asri Pangukan
URL:https://dukcapil-old.slemankab.go.id/event/sosilaisasi-ppdb-smp-tahun-2022
END:VEVENT
BEGIN:VEVENT
DTSTART;VALUE=DATE:20220525
DTEND;VALUE=DATE:20220526
DTSTAMP:20260423T213550
CREATED:20220525T003100Z
LAST-MODIFIED:20220525T003100Z
UID:5251-1653436800-1653523199@dukcapil-old.slemankab.go.id
SUMMARY:Sosialisasi Kebijakan Adminduk
DESCRIPTION:09.00 \nAula Balai Kalurahan Bangunkerto\, Turi
URL:https://dukcapil-old.slemankab.go.id/event/sosialisasi-kebijakan-adminduk-3
END:VEVENT
BEGIN:VEVENT
DTSTART;VALUE=DATE:20220525
DTEND;VALUE=DATE:20220526
DTSTAMP:20260423T213550
CREATED:20220525T003145Z
LAST-MODIFIED:20220525T003145Z
UID:5253-1653436800-1653523199@dukcapil-old.slemankab.go.id
SUMMARY:FGD kajian Kualitatif Indeks Kualitas Keluarga (IKK) dalm KG PHP dan DA
DESCRIPTION:09.00 \nRuang Kuliah 201 PSKK UGM Gedung M Asri Singarimbun
URL:https://dukcapil-old.slemankab.go.id/event/fgd-kajian-kualitatif-indeks-kualitas-keluarga-ikk-dalm-kg-php-dan-da
END:VEVENT
BEGIN:VEVENT
DTSTART;VALUE=DATE:20220525
DTEND;VALUE=DATE:20220526
DTSTAMP:20260423T213550
CREATED:20220525T003208Z
LAST-MODIFIED:20220525T003208Z
UID:5255-1653436800-1653523199@dukcapil-old.slemankab.go.id
SUMMARY:Rapat Konsolidasi DP KORPRI Kab Sleman Masa Bakti 2022- 2027
DESCRIPTION:12.30 \nAula Lt 3 Setda kab Sleman
URL:https://dukcapil-old.slemankab.go.id/event/rapat-konsolidasi-dp-korpri-kab-sleman-masa-bakti-2022-2027
END:VEVENT
BEGIN:VEVENT
DTSTART;VALUE=DATE:20220527
DTEND;VALUE=DATE:20220528
DTSTAMP:20260423T213550
CREATED:20220527T002424Z
LAST-MODIFIED:20220527T002424Z
UID:5275-1653609600-1653695999@dukcapil-old.slemankab.go.id
SUMMARY:Rapat koordinasi penyusunan buku saku data urusan pemerintah
DESCRIPTION:08.00 \nR.R Sinom Bappeda
URL:https://dukcapil-old.slemankab.go.id/event/rapat-koordinasi-penyusunan-buku-saku-data-urusan-pemerintah
END:VEVENT
BEGIN:VEVENT
DTSTART;VALUE=DATE:20220527
DTEND;VALUE=DATE:20220528
DTSTAMP:20260423T213550
CREATED:20220527T002452Z
LAST-MODIFIED:20220527T002452Z
UID:5277-1653609600-1653695999@dukcapil-old.slemankab.go.id
SUMMARY:Evaluasi bulan dana PMI kab.sleman th.2022
DESCRIPTION:09.00 \nAula lt.3 kantor setda kab.sleman
URL:https://dukcapil-old.slemankab.go.id/event/evaluasi-bulan-dana-pmi-kab-sleman-th-2022
END:VEVENT
BEGIN:VEVENT
DTSTART;VALUE=DATE:20220527
DTEND;VALUE=DATE:20220528
DTSTAMP:20260423T213550
CREATED:20220527T002542Z
LAST-MODIFIED:20220527T002542Z
UID:5279-1653609600-1653695999@dukcapil-old.slemankab.go.id
SUMMARY:Bimtek penyusunan evaluasi jabatan pasca penyederhanaan birokasi dilingkungan pemkab sleman
DESCRIPTION:09.00 \nR.R Sembada Setda
URL:https://dukcapil-old.slemankab.go.id/event/bimtek-penyusunan-evaluasi-jabatan-pasca-penyederhanaan-birokasi-dilingkungan-pemkab-sleman
END:VEVENT
BEGIN:VEVENT
DTSTART;VALUE=DATE:20220527
DTEND;VALUE=DATE:20220528
DTSTAMP:20260423T213550
CREATED:20220527T002606Z
LAST-MODIFIED:20220527T002606Z
UID:5281-1653609600-1653695999@dukcapil-old.slemankab.go.id
SUMMARY:Pembahasan sinkronisasi data pemanfaatan data kependudukan ditjen dukcapil
DESCRIPTION:09.30 \nZoom meeting
URL:https://dukcapil-old.slemankab.go.id/event/pembahasan-sinkronisasi-data-pemanfaatan-data-kependudukan-ditjen-dukcapil
END:VEVENT
BEGIN:VEVENT
DTSTART;VALUE=DATE:20220527
DTEND;VALUE=DATE:20220528
DTSTAMP:20260423T213550
CREATED:20220527T002630Z
LAST-MODIFIED:20220527T002630Z
UID:5283-1653609600-1653695999@dukcapil-old.slemankab.go.id
SUMMARY:Forum komunikasi pelayanan adminduk terintegrasi SIAK terpusat dan halal bil halal
DESCRIPTION:10.30 \nTasneem hotel & convention purawisata yk
URL:https://dukcapil-old.slemankab.go.id/event/forum-komunikasi-pelayanan-adminduk-terintegrasi-siak-terpusat-dan-halal-bil-halal
END:VEVENT
BEGIN:VEVENT
DTSTART;VALUE=DATE:20220530
DTEND;VALUE=DATE:20220531
DTSTAMP:20260423T213550
CREATED:20220530T003034Z
LAST-MODIFIED:20220530T003034Z
UID:5316-1653868800-1653955199@dukcapil-old.slemankab.go.id
SUMMARY:Rapat koordinasi tindak lanjut rekomendasi DPRD atas LKPJ Bupati Sleman TA 2021
DESCRIPTION:09.00 \nR.R lt.III setda Sleman
URL:https://dukcapil-old.slemankab.go.id/event/rapat-koordinasi-tindak-lanjut-rekomendasi-dprd-atas-lkpj-bupati-sleman-ta-2021
END:VEVENT
BEGIN:VEVENT
DTSTART;VALUE=DATE:20220530
DTEND;VALUE=DATE:20220531
DTSTAMP:20260423T213550
CREATED:20220530T003124Z
LAST-MODIFIED:20220530T003124Z
UID:5318-1653868800-1653955199@dukcapil-old.slemankab.go.id
SUMMARY:Syawalan & Halalbihalal Suryondari
DESCRIPTION:09.00 \nGedung Serbaguna Kab.Sleman
URL:https://dukcapil-old.slemankab.go.id/event/syawalan-halalbihalal-suryondari
END:VEVENT
BEGIN:VEVENT
DTSTART;VALUE=DATE:20220530
DTEND;VALUE=DATE:20220531
DTSTAMP:20260423T213550
CREATED:20220530T003147Z
LAST-MODIFIED:20220530T003147Z
UID:5320-1653868800-1653955199@dukcapil-old.slemankab.go.id
SUMMARY:Persiapan Final pencanangan gerakan bersama pelayanan adminduk bagi penyandang disabilitas
DESCRIPTION:09.00 \nR.R Bhakti Praja Biro Tapem Lt.3 Kepatihan Yogya
URL:https://dukcapil-old.slemankab.go.id/event/persiapan-final-pencanangan-gerakan-bersama-pelayanan-adminduk-bagi-penyandang-disabilitas
END:VEVENT
BEGIN:VEVENT
DTSTART;VALUE=DATE:20220530
DTEND;VALUE=DATE:20220531
DTSTAMP:20260423T213550
CREATED:20220530T003227Z
LAST-MODIFIED:20220530T003227Z
UID:5322-1653868800-1653955199@dukcapil-old.slemankab.go.id
SUMMARY:Narasumber  Presentasi Diklat Dukcapil  Presentasi Hasil Diklat Dukcapil Th 2022
DESCRIPTION:10.00 \nR.Pangripta Bappeda
URL:https://dukcapil-old.slemankab.go.id/event/narasumber-presentasi-diklat-dukcapil-presentasi-hasil-diklat-dukcapil-th-2022
END:VEVENT
BEGIN:VEVENT
DTSTART;VALUE=DATE:20220530
DTEND;VALUE=DATE:20220531
DTSTAMP:20260423T213550
CREATED:20220530T003304Z
LAST-MODIFIED:20220530T003304Z
UID:5324-1653868800-1653955199@dukcapil-old.slemankab.go.id
SUMMARY:Sosialisasi ketercapaian universal Health Coverage (UHC) di Kab.Sleman
DESCRIPTION:11.00 \nKapanewon Berbah
URL:https://dukcapil-old.slemankab.go.id/event/sosialisasi-ketercapaian-universal-health-coverage-uhc-di-kab-sleman
END:VEVENT
BEGIN:VEVENT
DTSTART;VALUE=DATE:20220530
DTEND;VALUE=DATE:20220531
DTSTAMP:20260423T213550
CREATED:20220530T003337Z
LAST-MODIFIED:20220530T003337Z
UID:5327-1653868800-1653955199@dukcapil-old.slemankab.go.id
SUMMARY:Rapat koordinasi Narasumber pembinaan dan penjaringan aspirasi DP KORPRI Unit Kab.Sleman
DESCRIPTION:13.00 \nR.R Arjuna Lt.2 BKPP Kab.Sleman
URL:https://dukcapil-old.slemankab.go.id/event/rapat-koordinasi-narasumber-pembinaan-dan-penjaringan-aspirasi-dp-korpri-unit-kab-sleman
END:VEVENT
BEGIN:VEVENT
DTSTART;VALUE=DATE:20220531
DTEND;VALUE=DATE:20220601
DTSTAMP:20260423T213550
CREATED:20220531T002945Z
LAST-MODIFIED:20220531T002945Z
UID:5334-1653955200-1654041599@dukcapil-old.slemankab.go.id
SUMMARY:Pembinaan dan pembekalan akhir calon transmigran
DESCRIPTION:08.00 \nR.R Nakula Lt.III \nDisnaker Kab. Sleman
URL:https://dukcapil-old.slemankab.go.id/event/pembinaan-dan-pembekalan-akhir-calon-transmigran
END:VEVENT
BEGIN:VEVENT
DTSTART;VALUE=DATE:20220531
DTEND;VALUE=DATE:20220601
DTSTAMP:20260423T213550
CREATED:20220531T003033Z
LAST-MODIFIED:20220531T003033Z
UID:5336-1653955200-1654041599@dukcapil-old.slemankab.go.id
SUMMARY:Sosialisasi ketercapaian Universal Health Coverage (UHC) di Kab. Sleman
DESCRIPTION:08.30 \nBalai padukuhan leses \nCondongcatur\, Depok
URL:https://dukcapil-old.slemankab.go.id/event/sosialisasi-ketercapaian-universal-health-coverage-uhc-di-kab-sleman-2
END:VEVENT
BEGIN:VEVENT
DTSTART;VALUE=DATE:20220531
DTEND;VALUE=DATE:20220601
DTSTAMP:20260423T213550
CREATED:20220531T003109Z
LAST-MODIFIED:20220531T003109Z
UID:5338-1653955200-1654041599@dukcapil-old.slemankab.go.id
SUMMARY:Halal bihalal pengelola pengaduan LAPOR SLEMAN dan SP4N Lapor Monitoring dan evaluasi pengelolaan pengaduan periode Jan-April 2022
DESCRIPTION:09.00 \nAlbasta Resto & Cafe asram edupark jomblang sendangadi mlat
URL:https://dukcapil-old.slemankab.go.id/event/halal-bihalal-pengelola-pengaduan-lapor-sleman-dan-sp4n-lapor-monitoring-dan-evaluasi-pengelolaan-pengaduan-periode-jan-april-2022
END:VEVENT
BEGIN:VEVENT
DTSTART;VALUE=DATE:20220531
DTEND;VALUE=DATE:20220601
DTSTAMP:20260423T213550
CREATED:20220531T003131Z
LAST-MODIFIED:20220531T003131Z
UID:5340-1653955200-1654041599@dukcapil-old.slemankab.go.id
SUMMARY:Sosialisasi percepatan layanan KIA bagi siswa SLTP di Kab. Sleman
DESCRIPTION:09.30 \nR.R Unit 1 Pemkab \nSleman
URL:https://dukcapil-old.slemankab.go.id/event/sosialisasi-percepatan-layanan-kia-bagi-siswa-sltp-di-kab-sleman
END:VEVENT
END:VCALENDAR