BEGIN:VCALENDAR
VERSION:2.0
PRODID:-//Dinas Kependudukan dan Pencatatan Sipil Kabupaten Sleman - ECPv6.4.0//NONSGML v1.0//EN
CALSCALE:GREGORIAN
METHOD:PUBLISH
X-WR-CALNAME:Dinas Kependudukan dan Pencatatan Sipil Kabupaten Sleman
X-ORIGINAL-URL:https://dukcapil-old.slemankab.go.id
X-WR-CALDESC:Events for Dinas Kependudukan dan Pencatatan Sipil Kabupaten Sleman
REFRESH-INTERVAL;VALUE=DURATION:PT1H
X-Robots-Tag:noindex
X-PUBLISHED-TTL:PT1H
BEGIN:VTIMEZONE
TZID:Asia/Jakarta
BEGIN:STANDARD
TZOFFSETFROM:+0700
TZOFFSETTO:+0700
TZNAME:WIB
DTSTART:20230101T000000
END:STANDARD
END:VTIMEZONE
BEGIN:VEVENT
DTSTART;VALUE=DATE:20231107
DTEND;VALUE=DATE:20231108
DTSTAMP:20260425T061211
CREATED:20231107T011914Z
LAST-MODIFIED:20231107T011914Z
UID:9938-1699315200-1699401599@dukcapil-old.slemankab.go.id
SUMMARY:Sosialisasi Adminduk dan Pelayanan BolaRekam KTP-el\,KIA\,& IKD Bagi PesertaDidik Tingkat Managemen Atas
DESCRIPTION:09.00\nPondok\nPesantren Modern Muhammadiyah Prambanan
URL:https://dukcapil-old.slemankab.go.id/event/sosialisasi-adminduk-dan-pelayanan-bolarekam-ktp-elkia-ikd-bagi-pesertadidik-tingkat-managemen-atas
END:VEVENT
BEGIN:VEVENT
DTSTART;VALUE=DATE:20231106
DTEND;VALUE=DATE:20231107
DTSTAMP:20260425T061211
CREATED:20231106T005725Z
LAST-MODIFIED:20231106T005725Z
UID:9936-1699228800-1699315199@dukcapil-old.slemankab.go.id
SUMMARY:Workshop Ketahanan dan KesejahteraanKeluarga dan Pembentukan ForumKetahanan dan Kesejahteraan KeluargaKab Sleman
DESCRIPTION:08.00\nRuang Dewi Sri\, The Atrium H\n&R Yk
URL:https://dukcapil-old.slemankab.go.id/event/workshop-ketahanan-dan-kesejahteraankeluarga-dan-pembentukan-forumketahanan-dan-kesejahteraan-keluargakab-sleman
END:VEVENT
BEGIN:VEVENT
DTSTART;VALUE=DATE:20231106
DTEND;VALUE=DATE:20231107
DTSTAMP:20260425T061211
CREATED:20231106T005655Z
LAST-MODIFIED:20231106T005655Z
UID:9934-1699228800-1699315199@dukcapil-old.slemankab.go.id
SUMMARY:Pembahasan Raperbup Tentang Petunjuk Pelaksanakaan Perda No 20Tahun 2019 Tentang PenyelenggaraanAdministrasi Kependudukan
DESCRIPTION:08.00\nR.R Dinas\nDukcapil\nSleman
URL:https://dukcapil-old.slemankab.go.id/event/pembahasan-raperbup-tentang-petunjuk-pelaksanakaan-perda-no-20tahun-2019-tentang-penyelenggaraanadministrasi-kependudukan
END:VEVENT
BEGIN:VEVENT
DTSTART;VALUE=DATE:20231103
DTEND;VALUE=DATE:20231104
DTSTAMP:20260425T061211
CREATED:20231103T013110Z
LAST-MODIFIED:20231103T013110Z
UID:9903-1698969600-1699055999@dukcapil-old.slemankab.go.id
SUMMARY:Temu Bisnis UMKM dg Mbizmarket
DESCRIPTION:08.00\nPendopo\nParasamya\nSleman
URL:https://dukcapil-old.slemankab.go.id/event/temu-bisnis-umkm-dg-mbizmarket
END:VEVENT
BEGIN:VEVENT
DTSTART;VALUE=DATE:20231103
DTEND;VALUE=DATE:20231104
DTSTAMP:20260425T061211
CREATED:20231103T013045Z
LAST-MODIFIED:20231103T013045Z
UID:9901-1698969600-1699055999@dukcapil-old.slemankab.go.id
SUMMARY:Technical Meeting Lomba Non OlahragaLomba Pembaca Pembukaan UUD1945dalam Rangka Peringatan HUT ke 52KORPRI
DESCRIPTION:13.00\nR R Bima Lt lll\nBKPP Sleman
URL:https://dukcapil-old.slemankab.go.id/event/technical-meeting-lomba-non-olahragalomba-pembaca-pembukaan-uud1945dalam-rangka-peringatan-hut-ke-52korpri
END:VEVENT
BEGIN:VEVENT
DTSTART;VALUE=DATE:20231102
DTEND;VALUE=DATE:20231103
DTSTAMP:20260425T061211
CREATED:20231102T011319Z
LAST-MODIFIED:20231102T011319Z
UID:9860-1698883200-1698969599@dukcapil-old.slemankab.go.id
SUMMARY:Rapat Koordinasi Persiapan WorkshopPeningkatan Kepemilikan Dokumen Kependudukan Pada siswa PAUDdi KabSleman
DESCRIPTION:13.00\nR R Dinas\nDukcapil
URL:https://dukcapil-old.slemankab.go.id/event/rapat-koordinasi-persiapan-workshoppeningkatan-kepemilikan-dokumen-kependudukan-pada-siswa-pauddi-kabsleman
END:VEVENT
BEGIN:VEVENT
DTSTART;VALUE=DATE:20231102
DTEND;VALUE=DATE:20231103
DTSTAMP:20260425T061211
CREATED:20231102T011258Z
LAST-MODIFIED:20231102T011258Z
UID:9858-1698883200-1698969599@dukcapil-old.slemankab.go.id
SUMMARY:Rencana Persiapan Car Free Day di Kawasan Pemda Sleman
DESCRIPTION:09.00\nR R Aula Dinas\nPerhubungan
URL:https://dukcapil-old.slemankab.go.id/event/rencana-persiapan-car-free-day-di-kawasan-pemda-sleman
END:VEVENT
BEGIN:VEVENT
DTSTART;VALUE=DATE:20231102
DTEND;VALUE=DATE:20231103
DTSTAMP:20260425T061211
CREATED:20231102T011227Z
LAST-MODIFIED:20231102T011227Z
UID:9856-1698883200-1698969599@dukcapil-old.slemankab.go.id
SUMMARY:Sosialisasi Penilaian Kinerja Penyelengaraan Pelayanan Publik
DESCRIPTION:09.00\nAula Lt III Setda\nKab Sleman
URL:https://dukcapil-old.slemankab.go.id/event/sosialisasi-penilaian-kinerja-penyelengaraan-pelayanan-publik
END:VEVENT
BEGIN:VEVENT
DTSTART;VALUE=DATE:20231101
DTEND;VALUE=DATE:20231102
DTSTAMP:20260425T061211
CREATED:20231101T004914Z
LAST-MODIFIED:20231101T004914Z
UID:9830-1698796800-1698883199@dukcapil-old.slemankab.go.id
SUMMARY:Workshop & lounching "Gerebek Koperasi Ilegal"
DESCRIPTION:12.00\nPrima SR Hotel\n& Convention
URL:https://dukcapil-old.slemankab.go.id/event/workshop-lounching-gerebek-koperasi-ilegal
END:VEVENT
BEGIN:VEVENT
DTSTART;VALUE=DATE:20231101
DTEND;VALUE=DATE:20231102
DTSTAMP:20260425T061211
CREATED:20231101T004841Z
LAST-MODIFIED:20231101T004841Z
UID:9828-1698796800-1698883199@dukcapil-old.slemankab.go.id
SUMMARY:Penyampaian Rancangan SistemKerjadan SOTK
DESCRIPTION:09.00\nAula Lt 3 Setda
URL:https://dukcapil-old.slemankab.go.id/event/penyampaian-rancangan-sistemkerjadan-sotk
END:VEVENT
BEGIN:VEVENT
DTSTART;VALUE=DATE:20231031
DTEND;VALUE=DATE:20231101
DTSTAMP:20260425T061211
CREATED:20231031T004905Z
LAST-MODIFIED:20231031T004905Z
UID:9825-1698710400-1698796799@dukcapil-old.slemankab.go.id
SUMMARY:Rapat koordinasi penentuan juara evaluasi GISA kapanewon kalurahan danpadukuhan Th 2023
DESCRIPTION:13.00\nR R Dinas\nDukcapil
URL:https://dukcapil-old.slemankab.go.id/event/rapat-koordinasi-penentuan-juara-evaluasi-gisa-kapanewon-kalurahan-danpadukuhan-th-2023
END:VEVENT
BEGIN:VEVENT
DTSTART;VALUE=DATE:20231031
DTEND;VALUE=DATE:20231101
DTSTAMP:20260425T061211
CREATED:20231031T004842Z
LAST-MODIFIED:20231031T004842Z
UID:9822-1698710400-1698796799@dukcapil-old.slemankab.go.id
SUMMARY:Bimtek Statistika Deskriptif pada DataStatistika Sektoral Pemda
DESCRIPTION:08.30\nAula Lt 3 Setda
URL:https://dukcapil-old.slemankab.go.id/event/bimtek-statistika-deskriptif-pada-datastatistika-sektoral-pemda
END:VEVENT
BEGIN:VEVENT
DTSTART;VALUE=DATE:20231031
DTEND;VALUE=DATE:20231101
DTSTAMP:20260425T061211
CREATED:20231031T004814Z
LAST-MODIFIED:20231031T004814Z
UID:9820-1698710400-1698796799@dukcapil-old.slemankab.go.id
SUMMARY:Sharing Knowledge pelaksanaan danTindak Lanjut Hasil ForumKonsultasi publik oleh Kemenpan RB
DESCRIPTION:08.00\nR R Praja 1\nSetda
URL:https://dukcapil-old.slemankab.go.id/event/sharing-knowledge-pelaksanaan-dantindak-lanjut-hasil-forumkonsultasi-publik-oleh-kemenpan-rb
END:VEVENT
BEGIN:VEVENT
DTSTART;VALUE=DATE:20231030
DTEND;VALUE=DATE:20231031
DTSTAMP:20260425T061211
CREATED:20231030T005521Z
LAST-MODIFIED:20231030T005521Z
UID:9811-1698624000-1698710399@dukcapil-old.slemankab.go.id
SUMMARY:Forkom Dinas Dukcapil se DIY dg temaoptimalisasi peran kalurahan/kelurahandalam penyelanggaraan adminduk di DIY
DESCRIPTION:09.30\nRM Floating\nResto Jogja
URL:https://dukcapil-old.slemankab.go.id/event/forkom-dinas-dukcapil-se-diy-dg-temaoptimalisasi-peran-kalurahan-kelurahandalam-penyelanggaraan-adminduk-di-diy
END:VEVENT
BEGIN:VEVENT
DTSTART;VALUE=DATE:20231030
DTEND;VALUE=DATE:20231031
DTSTAMP:20260425T061211
CREATED:20231030T005453Z
LAST-MODIFIED:20231030T005453Z
UID:9809-1698624000-1698710399@dukcapil-old.slemankab.go.id
SUMMARY:Pemberitahuan Sosialisasi ProgramKerjaTh 2023 Pembinaan Kalurahan Percontohan Th 2023
DESCRIPTION:09.00\nBalai Kalurahan\nSidoluhur\nGodean
URL:https://dukcapil-old.slemankab.go.id/event/pemberitahuan-sosialisasi-programkerjath-2023-pembinaan-kalurahan-percontohan-th-2023
END:VEVENT
BEGIN:VEVENT
DTSTART;VALUE=DATE:20231030
DTEND;VALUE=DATE:20231031
DTSTAMP:20260425T061211
CREATED:20231030T005425Z
LAST-MODIFIED:20231030T005425Z
UID:9807-1698624000-1698710399@dukcapil-old.slemankab.go.id
SUMMARY:Penerimaan tim pemeriksa BPK RI terkait pelaksanaan Gerakan Nasional revolusi Mental dari Pemkab Sleman
DESCRIPTION:08.30\nAula Bappeda
URL:https://dukcapil-old.slemankab.go.id/event/penerimaan-tim-pemeriksa-bpk-ri-terkait-pelaksanaan-gerakan-nasional-revolusi-mental-dari-pemkab-sleman
END:VEVENT
BEGIN:VEVENT
DTSTART;VALUE=DATE:20231030
DTEND;VALUE=DATE:20231031
DTSTAMP:20260425T061211
CREATED:20231030T005356Z
LAST-MODIFIED:20231030T005356Z
UID:9805-1698624000-1698710399@dukcapil-old.slemankab.go.id
SUMMARY:Hari Bhakti PDAM Tirta Sembada ke-31Kegiatan sosial donor darah
DESCRIPTION:08.00\nR Pertemuan\nPDAM Tirta\nSembada Lt 3
URL:https://dukcapil-old.slemankab.go.id/event/hari-bhakti-pdam-tirta-sembada-ke-31kegiatan-sosial-donor-darah
END:VEVENT
BEGIN:VEVENT
DTSTART;VALUE=DATE:20231027
DTEND;VALUE=DATE:20231028
DTSTAMP:20260425T061211
CREATED:20231027T022413Z
LAST-MODIFIED:20231027T022413Z
UID:9803-1698364800-1698451199@dukcapil-old.slemankab.go.id
SUMMARY:Rapat Koordinasi Persiapan PelaporanRanham B12 Th 2023
DESCRIPTION:12.30\nR R Bagian\nHukum Setda
URL:https://dukcapil-old.slemankab.go.id/event/rapat-koordinasi-persiapan-pelaporanranham-b12-th-2023
END:VEVENT
BEGIN:VEVENT
DTSTART;VALUE=DATE:20231027
DTEND;VALUE=DATE:20231028
DTSTAMP:20260425T061211
CREATED:20231027T022336Z
LAST-MODIFIED:20231027T022336Z
UID:9801-1698364800-1698451199@dukcapil-old.slemankab.go.id
SUMMARY:Evaluasi GISA di Kapanewon Kalurahandan Padukuhan Padukuhan Umbulsari B SumberharjoPrambanan Kpwn Prambanan Kpwn Depok
DESCRIPTION:08.30
URL:https://dukcapil-old.slemankab.go.id/event/evaluasi-gisa-di-kapanewon-kalurahandan-padukuhan-padukuhan-umbulsari-b-sumberharjoprambanan-kpwn-prambanan-kpwn-depok
END:VEVENT
BEGIN:VEVENT
DTSTART;VALUE=DATE:20231027
DTEND;VALUE=DATE:20231028
DTSTAMP:20260425T061211
CREATED:20231027T022313Z
LAST-MODIFIED:20231027T022313Z
UID:9799-1698364800-1698451199@dukcapil-old.slemankab.go.id
SUMMARY:FGD tahap 1 Kajian Raperbup PendataanUMKM
DESCRIPTION:08.00\nRestoran\nTaman\nPringsewu Mlat
URL:https://dukcapil-old.slemankab.go.id/event/fgd-tahap-1-kajian-raperbup-pendataanumkm
END:VEVENT
BEGIN:VEVENT
DTSTART;VALUE=DATE:20231026
DTEND;VALUE=DATE:20231027
DTSTAMP:20260425T061211
CREATED:20231026T005718Z
LAST-MODIFIED:20231026T005718Z
UID:9773-1698278400-1698364799@dukcapil-old.slemankab.go.id
SUMMARY:Forum Satu Data Indonesia Kab. Sleman
DESCRIPTION:09.00\nR Aula\nPangripta\nBappeda
URL:https://dukcapil-old.slemankab.go.id/event/forum-satu-data-indonesia-kab-sleman
END:VEVENT
BEGIN:VEVENT
DTSTART;VALUE=DATE:20231026
DTEND;VALUE=DATE:20231027
DTSTAMP:20260425T061211
CREATED:20231026T005656Z
LAST-MODIFIED:20231026T005656Z
UID:9771-1698278400-1698364799@dukcapil-old.slemankab.go.id
SUMMARY:Sosialisasi dan Evaluasi E-arsip
DESCRIPTION:09.00\nR R Sembada\nSetda
URL:https://dukcapil-old.slemankab.go.id/event/sosialisasi-dan-evaluasi-e-arsip
END:VEVENT
BEGIN:VEVENT
DTSTART;VALUE=DATE:20231026
DTEND;VALUE=DATE:20231027
DTSTAMP:20260425T061211
CREATED:20231026T005635Z
LAST-MODIFIED:20231026T005635Z
UID:9769-1698278400-1698364799@dukcapil-old.slemankab.go.id
SUMMARY:Pelatihan Kompetensi PPK tipe CModel MOOC batch 7 gelombang I
DESCRIPTION:08.30\nR Bima Lt 3\nBKPP
URL:https://dukcapil-old.slemankab.go.id/event/pelatihan-kompetensi-ppk-tipe-cmodel-mooc-batch-7-gelombang-i
END:VEVENT
BEGIN:VEVENT
DTSTART;VALUE=DATE:20231025
DTEND;VALUE=DATE:20231026
DTSTAMP:20260425T061211
CREATED:20231025T005250Z
LAST-MODIFIED:20231025T005250Z
UID:9767-1698192000-1698278399@dukcapil-old.slemankab.go.id
SUMMARY:Penyampaian hasil uji kesehatan
DESCRIPTION:10.00\nR R Arjuna Lt 2\nBKPP
URL:https://dukcapil-old.slemankab.go.id/event/penyampaian-hasil-uji-kesehatan
END:VEVENT
BEGIN:VEVENT
DTSTART;VALUE=DATE:20231025
DTEND;VALUE=DATE:20231026
DTSTAMP:20260425T061211
CREATED:20231025T005231Z
LAST-MODIFIED:20231025T005231Z
UID:9765-1698192000-1698278399@dukcapil-old.slemankab.go.id
SUMMARY:Workshop keterbukaan informasi publik dan evaluasi monev tahun 2023
DESCRIPTION:08.30\nAula Lt. 3 Sekda\nKab. Sleman
URL:https://dukcapil-old.slemankab.go.id/event/workshop-keterbukaan-informasi-publik-dan-evaluasi-monev-tahun-2023
END:VEVENT
BEGIN:VEVENT
DTSTART;VALUE=DATE:20231025
DTEND;VALUE=DATE:20231026
DTSTAMP:20260425T061211
CREATED:20231025T005207Z
LAST-MODIFIED:20231025T005207Z
UID:9763-1698192000-1698278399@dukcapil-old.slemankab.go.id
SUMMARY:FGD 1 & 2 penyusunan dokumen rencanakontijensi tanah longsor Kab. Sleman
DESCRIPTION:08.30\nRM Bali Ndeso\, Plaosan\, Tlogoadi\, Mlati\, Sleman
URL:https://dukcapil-old.slemankab.go.id/event/fgd-1-2-penyusunan-dokumen-rencanakontijensi-tanah-longsor-kab-sleman
END:VEVENT
BEGIN:VEVENT
DTSTART;VALUE=DATE:20231024
DTEND;VALUE=DATE:20231025
DTSTAMP:20260425T061211
CREATED:20231024T004919Z
LAST-MODIFIED:20231024T004919Z
UID:9739-1698105600-1698191999@dukcapil-old.slemankab.go.id
SUMMARY:Penerimaan Studi Komparatif DPKORPRI Kab. Banyumas
DESCRIPTION:09.00\nR R Praja 1\, Lt 2\nSetda
URL:https://dukcapil-old.slemankab.go.id/event/penerimaan-studi-komparatif-dpkorpri-kab-banyumas
END:VEVENT
BEGIN:VEVENT
DTSTART;VALUE=DATE:20231024
DTEND;VALUE=DATE:20231025
DTSTAMP:20260425T061211
CREATED:20231024T004855Z
LAST-MODIFIED:20231024T004855Z
UID:9737-1698105600-1698191999@dukcapil-old.slemankab.go.id
SUMMARY:FGD 1 & 2 Penyusunan Dokumen Rencana Kontijensi Tanah Longsor Kab. Sleman
DESCRIPTION:08.30 R M Bali Ndeso Plaosan Tlogoadi Mlati
URL:https://dukcapil-old.slemankab.go.id/event/fgd-1-2-penyusunan-dokumen-rencana-kontijensi-tanah-longsor-kab-sleman
END:VEVENT
BEGIN:VEVENT
DTSTART;VALUE=DATE:20231024
DTEND;VALUE=DATE:20231025
DTSTAMP:20260425T061211
CREATED:20231024T004819Z
LAST-MODIFIED:20231024T004819Z
UID:9735-1698105600-1698191999@dukcapil-old.slemankab.go.id
SUMMARY:Penguatan Forum Perlindungan KorbanKekerasan
DESCRIPTION:08.30\nAula Dinas\nP3AP2KB\nSleman
URL:https://dukcapil-old.slemankab.go.id/event/penguatan-forum-perlindungan-korbankekerasan
END:VEVENT
BEGIN:VEVENT
DTSTART;VALUE=DATE:20231023
DTEND;VALUE=DATE:20231024
DTSTAMP:20260425T061211
CREATED:20231023T010951Z
LAST-MODIFIED:20231023T010951Z
UID:9733-1698019200-1698105599@dukcapil-old.slemankab.go.id
SUMMARY:Evaluasi GISA di Kapanewon Kalurahandan Padukuhan Kapanewon Seyegan\, kalurahan Margokaton Seyegan\, padukuhan Kenaruhan Donokerto Turi
DESCRIPTION:09.00\nPadukuhan\nkenaruhan\ndonokerto turi
URL:https://dukcapil-old.slemankab.go.id/event/evaluasi-gisa-di-kapanewon-kalurahandan-padukuhan-kapanewon-seyegan-kalurahan-margokaton-seyegan-padukuhan-kenaruhan-donokerto-turi
END:VEVENT
END:VCALENDAR