BEGIN:VCALENDAR
VERSION:2.0
PRODID:-//Dinas Kependudukan dan Pencatatan Sipil Kabupaten Sleman - ECPv6.4.0//NONSGML v1.0//EN
CALSCALE:GREGORIAN
METHOD:PUBLISH
X-WR-CALNAME:Dinas Kependudukan dan Pencatatan Sipil Kabupaten Sleman
X-ORIGINAL-URL:https://dukcapil-old.slemankab.go.id
X-WR-CALDESC:Events for Dinas Kependudukan dan Pencatatan Sipil Kabupaten Sleman
REFRESH-INTERVAL;VALUE=DURATION:PT1H
X-Robots-Tag:noindex
X-PUBLISHED-TTL:PT1H
BEGIN:VTIMEZONE
TZID:Asia/Krasnoyarsk
BEGIN:STANDARD
TZOFFSETFROM:+0700
TZOFFSETTO:+0700
TZNAME:+07
DTSTART:20180101T000000
END:STANDARD
END:VTIMEZONE
BEGIN:VEVENT
DTSTART;TZID=Asia/Krasnoyarsk:20180801T100000
DTEND;TZID=Asia/Krasnoyarsk:20180801T130000
DTSTAMP:20260424T232639
CREATED:20180731T013237Z
LAST-MODIFIED:20180731T013730Z
UID:1802-1533117600-1533128400@dukcapil-old.slemankab.go.id
SUMMARY:Jemput bola perekaman KTP-el bagi pemula\, kelurahan Merdikorejo\, Tempel
DESCRIPTION:Jemput bola perekamana KTP-el bagi yang sama sekali belum pernah melakukan perekamam KTP-el dimanapun\, terutama bagi penduduk yang berusia 16 Tahun. \nTanggal : Rabu\, 01 Agustus 2018 \nWaktu : 10.00 s.d 13.00 \nTempat : Balai Desa Merdikorejo\, Kecamatan Tempel
URL:https://dukcapil-old.slemankab.go.id/event/jemput-bola-perekaman-ktp-el-bagi-pemula-kelurahan-merdikorejo-tempel
END:VEVENT
BEGIN:VEVENT
DTSTART;TZID=Asia/Krasnoyarsk:20180731T100000
DTEND;TZID=Asia/Krasnoyarsk:20180731T130000
DTSTAMP:20260424T232639
CREATED:20180721T082152Z
LAST-MODIFIED:20180721T082152Z
UID:1765-1533031200-1533042000@dukcapil-old.slemankab.go.id
SUMMARY:Jemput bola perekaman KTP-el bagi pemula\, kelurahan Condongcatur\, Depok
DESCRIPTION:Jemput bola perekamana KTP-el bagi yang sama sekali belum pernah melakukan perekamam KTP-el dimanapun\, terutama bagi penduduk yang berusia 16 Tahun. \nTanggal : Selasa\, 31 Juli 2018 \nWaktu : 10.00 s.d 13.00 \nTempat : Balai Desa Condongcatur\, Kecamatan Depok
URL:https://dukcapil-old.slemankab.go.id/event/jemput-bola-perekaman-ktp-el-bagi-pemula-kelurahan-condongcatur-depok
END:VEVENT
BEGIN:VEVENT
DTSTART;TZID=Asia/Krasnoyarsk:20180730T100000
DTEND;TZID=Asia/Krasnoyarsk:20180730T130000
DTSTAMP:20260424T232639
CREATED:20180721T082045Z
LAST-MODIFIED:20180721T082045Z
UID:1763-1532944800-1532955600@dukcapil-old.slemankab.go.id
SUMMARY:Jemput bola perekamana KTP-el bagi pemula\, kelurahan Maguwoharjo\, Depok
DESCRIPTION:Jemput bola perekamana KTP-el bagi yang sama sekali belum pernah melakukan perekamam KTP-el dimanapun\, terutama bagi penduduk yang berusia 16 Tahun. \nTanggal : Senin\, 30 Juli 2018 \nWaktu : 10.00 s.d 13.00 \nTempat : Balai Desa Maguwoharjo\, Kecamatan Depok
URL:https://dukcapil-old.slemankab.go.id/event/jemput-bola-perekamana-ktp-el-bagi-pemula-kelurahan-maguwoharjo-depok
END:VEVENT
BEGIN:VEVENT
DTSTART;TZID=Asia/Krasnoyarsk:20180726T100000
DTEND;TZID=Asia/Krasnoyarsk:20180726T130000
DTSTAMP:20260424T232639
CREATED:20180721T081852Z
LAST-MODIFIED:20180721T081852Z
UID:1761-1532599200-1532610000@dukcapil-old.slemankab.go.id
SUMMARY:Jemput bola perekaman KTP-el bagi pemula\, Kelurahan Caturtunggal\, Depok
DESCRIPTION:Jemput bola perekamana KTP-el bagi yang sama sekali belum pernah melakukan perekamam KTP-el dimanapun\, terutama bagi penduduk yang berusia 16 Tahun. \nTanggal : Kamis\, 26 Juli 2018 \nWaktu : 10.00 s.d 13.00 \nTempat : Balai Desa Caturtunggal\, Kecamatan Depok
URL:https://dukcapil-old.slemankab.go.id/event/jemput-bola-perekaman-ktp-el-bagi-pemula-kelurahan-caturtunggal-depok
END:VEVENT
BEGIN:VEVENT
DTSTART;TZID=Asia/Krasnoyarsk:20180725T100000
DTEND;TZID=Asia/Krasnoyarsk:20180725T130000
DTSTAMP:20260424T232639
CREATED:20180721T081733Z
LAST-MODIFIED:20180721T081733Z
UID:1759-1532512800-1532523600@dukcapil-old.slemankab.go.id
SUMMARY:Jemput bola perekaman KTP-el bagi pemula\, Kelurahan  Lumbungrejo\, Tempel
DESCRIPTION:Jemput bola perekamana KTP-el bagi yang sama sekali belum pernah melakukan perekamam KTP-el dimanapun\, terutama bagi penduduk yang berusia 16 Tahun. \nTanggal : Rabu\, 25 Juli 2018 \nWaktu : 10.00 s.d 13.00 \nTempat : Balai Desa Lumbungrejo\, Kecamatan Tempel
URL:https://dukcapil-old.slemankab.go.id/event/jemput-bola-perekaman-ktp-el-bagi-pemula-kelurahan-lumbungrejo-tempel
END:VEVENT
BEGIN:VEVENT
DTSTART;TZID=Asia/Krasnoyarsk:20180725T090000
DTEND;TZID=Asia/Krasnoyarsk:20180725T113000
DTSTAMP:20260424T232639
CREATED:20180718T083331Z
LAST-MODIFIED:20180718T083331Z
UID:1741-1532509200-1532518200@dukcapil-old.slemankab.go.id
SUMMARY:rapat koordinasi penyusunan buku tipologi kependudukan
DESCRIPTION:
URL:https://dukcapil-old.slemankab.go.id/event/rapat-koordinasi-penyusunan-buku-tipologi-kependudukan
END:VEVENT
BEGIN:VEVENT
DTSTART;TZID=Asia/Krasnoyarsk:20180725T080000
DTEND;TZID=Asia/Krasnoyarsk:20180726T170000
DTSTAMP:20260424T232639
CREATED:20180724T060537Z
LAST-MODIFIED:20180724T060537Z
UID:1771-1532505600-1532624400@dukcapil-old.slemankab.go.id
SUMMARY:pencanangan GISA
DESCRIPTION:bertempat di kepatihan YOgyakarta\, serentak di DIY dengan agenda pelayanan kependudukan untuk empat kabupaten dan 1 kota di DIY
URL:https://dukcapil-old.slemankab.go.id/event/pencanangan-gisa
LOCATION:Perekaman KTP-el\, Balai Desa Sendangtirto\, Sleman\, DI.Yogyakarta\, Indonesia
END:VEVENT
BEGIN:VEVENT
DTSTART;TZID=Asia/Krasnoyarsk:20180724T100000
DTEND;TZID=Asia/Krasnoyarsk:20180724T130000
DTSTAMP:20260424T232639
CREATED:20180721T081308Z
LAST-MODIFIED:20180721T081615Z
UID:1754-1532426400-1532437200@dukcapil-old.slemankab.go.id
SUMMARY:Jemput bola perekaman KTP-el bagi pemula Kelurahan Margorejo\, Tempel
DESCRIPTION:Jemput bola perekamana KTP-el bagi yang sama sekali belum pernah melakukan perekamam KTP-el dimanapun\, terutama bagi penduduk yang berusia 16 Tahun. \nTanggal : Selasa\, 24 Juli 2018 \nWaktu : 10.00 s.d 13.00 \nTempat : Balai Desa Margorejo\, Kecamatan Tempel
URL:https://dukcapil-old.slemankab.go.id/event/jemput-bola-perekama-ktp-el-bagi-pemula-2
END:VEVENT
BEGIN:VEVENT
DTSTART;TZID=Asia/Krasnoyarsk:20180723T100000
DTEND;TZID=Asia/Krasnoyarsk:20180723T130000
DTSTAMP:20260424T232639
CREATED:20180721T080540Z
LAST-MODIFIED:20180721T081543Z
UID:1748-1532340000-1532350800@dukcapil-old.slemankab.go.id
SUMMARY:Jemput bola perekaman KTP-el bagi pemula\, Kelurahan Mororejo\, Tempel
DESCRIPTION:Jemput bola perekamana KTP-el bagi yang sama sekali belum pernah melakukan perekamam KTP-el dimanapun\, terutama bagi penduduk yang berusia 16 Tahun. \nTanggal : Senin\, 23 Juli 2018 \nWaktu : 10.00 s.d 13.00 \nTempat : Balai Desa Mororejo\, Kecamatan Tempel
URL:https://dukcapil-old.slemankab.go.id/event/jemput-bola-perekama-ktp-el-bagi-pemula
END:VEVENT
BEGIN:VEVENT
DTSTART;TZID=Asia/Krasnoyarsk:20180719T100000
DTEND;TZID=Asia/Krasnoyarsk:20180719T163000
DTSTAMP:20260424T232639
CREATED:20180718T083430Z
LAST-MODIFIED:20180718T083430Z
UID:1743-1531994400-1532017800@dukcapil-old.slemankab.go.id
SUMMARY:jemput bola perekaman KTP el
DESCRIPTION:
URL:https://dukcapil-old.slemankab.go.id/event/jemput-bola-perekaman-ktp-el
END:VEVENT
END:VCALENDAR