BEGIN:VCALENDAR
VERSION:2.0
PRODID:-//Dinas Kependudukan dan Pencatatan Sipil Kabupaten Sleman - ECPv6.4.0//NONSGML v1.0//EN
CALSCALE:GREGORIAN
METHOD:PUBLISH
X-WR-CALNAME:Dinas Kependudukan dan Pencatatan Sipil Kabupaten Sleman
X-ORIGINAL-URL:https://dukcapil-old.slemankab.go.id
X-WR-CALDESC:Events for Dinas Kependudukan dan Pencatatan Sipil Kabupaten Sleman
REFRESH-INTERVAL;VALUE=DURATION:PT1H
X-Robots-Tag:noindex
X-PUBLISHED-TTL:PT1H
BEGIN:VTIMEZONE
TZID:Asia/Jakarta
BEGIN:STANDARD
TZOFFSETFROM:+0700
TZOFFSETTO:+0700
TZNAME:WIB
DTSTART:20240101T000000
END:STANDARD
END:VTIMEZONE
BEGIN:VEVENT
DTSTART;VALUE=DATE:20240503
DTEND;VALUE=DATE:20240504
DTSTAMP:20260424T165603
CREATED:20240503T014646Z
LAST-MODIFIED:20240503T014646Z
UID:11210-1714694400-1714780799@dukcapil-old.slemankab.go.id
SUMMARY:Sosialisasi Pelaksanaan Survey Penilaian Integritas Elektronik E-SPI Thn 2024
DESCRIPTION:13.00\nRR Investigasi\nInspektorat
URL:https://dukcapil-old.slemankab.go.id/event/sosialisasi-pelaksanaan-survey-penilaian-integritas-elektronik-e-spi-thn-2024
END:VEVENT
BEGIN:VEVENT
DTSTART;VALUE=DATE:20240506
DTEND;VALUE=DATE:20240507
DTSTAMP:20260424T165603
CREATED:20240506T011329Z
LAST-MODIFIED:20240506T011329Z
UID:11238-1714953600-1715039999@dukcapil-old.slemankab.go.id
SUMMARY:Forum Komunikasi Pemangku Kepentingan Utama Semester 1 th. 2024
DESCRIPTION:14.30\nR.R. Praja 1\nSekda Kab. Sleman
URL:https://dukcapil-old.slemankab.go.id/event/forum-komunikasi-pemangku-kepentingan-utama-semester-1-th-2024
END:VEVENT
END:VCALENDAR