BEGIN:VCALENDAR
VERSION:2.0
PRODID:-//Dinas Kependudukan dan Pencatatan Sipil Kabupaten Sleman - ECPv6.4.0//NONSGML v1.0//EN
CALSCALE:GREGORIAN
METHOD:PUBLISH
X-WR-CALNAME:Dinas Kependudukan dan Pencatatan Sipil Kabupaten Sleman
X-ORIGINAL-URL:https://dukcapil-old.slemankab.go.id
X-WR-CALDESC:Events for Dinas Kependudukan dan Pencatatan Sipil Kabupaten Sleman
REFRESH-INTERVAL;VALUE=DURATION:PT1H
X-Robots-Tag:noindex
X-PUBLISHED-TTL:PT1H
BEGIN:VTIMEZONE
TZID:Asia/Jakarta
BEGIN:STANDARD
TZOFFSETFROM:+0700
TZOFFSETTO:+0700
TZNAME:WIB
DTSTART:20220101T000000
END:STANDARD
END:VTIMEZONE
BEGIN:VEVENT
DTSTART;VALUE=DATE:20220405
DTEND;VALUE=DATE:20220406
DTSTAMP:20260424T005534
CREATED:20220405T004235Z
LAST-MODIFIED:20220405T004235Z
UID:4909-1649116800-1649203199@dukcapil-old.slemankab.go.id
SUMMARY:Rapat Koordinasi Pemakaian Seragam KORPRI Baru Sesuai Surat Edaran DP KORPRI Nasional Nomor 02 Th 2022
DESCRIPTION:
URL:https://dukcapil-old.slemankab.go.id/event/rapat-koordinasi-pemakaian-seragam-korpri-baru-sesuai-surat-edaran-dp-korpri-nasional-nomor-02-th-2022
END:VEVENT
BEGIN:VEVENT
DTSTART;VALUE=DATE:20220406
DTEND;VALUE=DATE:20220407
DTSTAMP:20260424T005534
CREATED:20220406T010506Z
LAST-MODIFIED:20220406T010506Z
UID:4931-1649203200-1649289599@dukcapil-old.slemankab.go.id
SUMMARY:Safari Tarawih Bupati Beserta Perangkat Daerah di Lingkungan Pemerintah Kab Sleman TA 2022
DESCRIPTION:Mushola Al Hidayah Purworejo RT 02 RW 05 Hargobinangun Pakem
URL:https://dukcapil-old.slemankab.go.id/event/safari-tarawih-bupati-beserta-perangkat-daerah-di-lingkungan-pemerintah-kab-sleman-ta-2022-3
END:VEVENT
BEGIN:VEVENT
DTSTART;VALUE=DATE:20220406
DTEND;VALUE=DATE:20220407
DTSTAMP:20260424T005534
CREATED:20220406T010816Z
LAST-MODIFIED:20220406T010816Z
UID:4933-1649203200-1649289599@dukcapil-old.slemankab.go.id
SUMMARY:Permintaan Keterangan
DESCRIPTION:
URL:https://dukcapil-old.slemankab.go.id/event/permintaan-keterangan
END:VEVENT
BEGIN:VEVENT
DTSTART;VALUE=DATE:20220406
DTEND;VALUE=DATE:20220407
DTSTAMP:20260424T005534
CREATED:20220406T010905Z
LAST-MODIFIED:20220406T010905Z
UID:4935-1649203200-1649289599@dukcapil-old.slemankab.go.id
SUMMARY:Bimbingan Penilaian Mandiri Pelaksanaan Reformasi Birokrasi (PMPRB)
DESCRIPTION:
URL:https://dukcapil-old.slemankab.go.id/event/bimbingan-penilaian-mandiri-pelaksanaan-reformasi-birokrasi-pmprb
END:VEVENT
BEGIN:VEVENT
DTSTART;VALUE=DATE:20220406
DTEND;VALUE=DATE:20220407
DTSTAMP:20260424T005534
CREATED:20220406T010944Z
LAST-MODIFIED:20220406T010944Z
UID:4937-1649203200-1649289599@dukcapil-old.slemankab.go.id
SUMMARY:Sosialisasi dan Implementasi SIM Gaji Berbasis Web Based Bagi Pengelola Gaji Kab Sleman
DESCRIPTION:
URL:https://dukcapil-old.slemankab.go.id/event/sosialisasi-dan-implementasi-sim-gaji-berbasis-web-based-bagi-pengelola-gaji-kab-sleman
END:VEVENT
BEGIN:VEVENT
DTSTART;VALUE=DATE:20220406
DTEND;VALUE=DATE:20220407
DTSTAMP:20260424T005534
CREATED:20220406T011011Z
LAST-MODIFIED:20220406T011011Z
UID:4939-1649203200-1649289599@dukcapil-old.slemankab.go.id
SUMMARY:Koordinasi Input Proposal Kompetisi Inovasi Pelayanan Publik (KIPP) 2022
DESCRIPTION:
URL:https://dukcapil-old.slemankab.go.id/event/koordinasi-input-proposal-kompetisi-inovasi-pelayanan-publik-kipp-2022
END:VEVENT
BEGIN:VEVENT
DTSTART;VALUE=DATE:20220406
DTEND;VALUE=DATE:20220407
DTSTAMP:20260424T005534
CREATED:20220406T013548Z
LAST-MODIFIED:20220406T013548Z
UID:4941-1649203200-1649289599@dukcapil-old.slemankab.go.id
SUMMARY:Pencermatan Usulan Informasi Perangkat Daerah Th 2023
DESCRIPTION:
URL:https://dukcapil-old.slemankab.go.id/event/pencermatan-usulan-informasi-perangkat-daerah-th-2023
END:VEVENT
BEGIN:VEVENT
DTSTART;VALUE=DATE:20220407
DTEND;VALUE=DATE:20220408
DTSTAMP:20260424T005534
CREATED:20220407T011302Z
LAST-MODIFIED:20220407T011302Z
UID:4943-1649289600-1649375999@dukcapil-old.slemankab.go.id
SUMMARY:Safari Tarawih Bupati Beserta Perangkat Daerah di Lingkungan Pemerintah Kab Sleman TA 2022
DESCRIPTION:Masjid Tawakal Nglarang Tlogoadi Mlati
URL:https://dukcapil-old.slemankab.go.id/event/safari-tarawih-bupati-beserta-perangkat-daerah-di-lingkungan-pemerintah-kab-sleman-ta-2022-4
END:VEVENT
BEGIN:VEVENT
DTSTART;VALUE=DATE:20220407
DTEND;VALUE=DATE:20220408
DTSTAMP:20260424T005534
CREATED:20220407T011452Z
LAST-MODIFIED:20220407T011452Z
UID:4945-1649289600-1649375999@dukcapil-old.slemankab.go.id
SUMMARY:(FGD) Penentuan Isu Prioritas Lingkungan Hidup Daerah Dalam Rangka Penyusunan Dokumen Informasi Kinerja Pengelolaan Lingkungan Hidup Daerah (DIKPLHD) 2021
DESCRIPTION:08.30 \nR.R Kalpataru DLH Kab Sleman
URL:https://dukcapil-old.slemankab.go.id/event/fgd-penentuan-isu-prioritas-lingkungan-hidup-daerah-dalam-rangka-penyusunan-dokumen-informasi-kinerja-pengelolaan-lingkungan-hidup-daerah-dikplhd-2021
END:VEVENT
BEGIN:VEVENT
DTSTART;VALUE=DATE:20220407
DTEND;VALUE=DATE:20220408
DTSTAMP:20260424T005534
CREATED:20220407T011609Z
LAST-MODIFIED:20220407T011609Z
UID:4949-1649289600-1649375999@dukcapil-old.slemankab.go.id
SUMMARY:Penyampaian Jawaban Bupati Atas PUF Terhadap Raperda Pertanggungjawaban APBD TA 2021
DESCRIPTION:09.00 \nR.R Paripurna DPRD Sleman
URL:https://dukcapil-old.slemankab.go.id/event/penyampaian-jawaban-bupati-atas-puf-terhadap-raperda-pertanggungjawaban-apbd-ta-2021
END:VEVENT
BEGIN:VEVENT
DTSTART;VALUE=DATE:20220407
DTEND;VALUE=DATE:20220408
DTSTAMP:20260424T005534
CREATED:20220407T011720Z
LAST-MODIFIED:20220407T011720Z
UID:4951-1649289600-1649375999@dukcapil-old.slemankab.go.id
SUMMARY:Rapat Koordinasi Pembahasan Pelayanan Kependudukan di Kantor Kapanewon
DESCRIPTION:10.00 \nR.R Bagian Pemerintahan Setda Kab Sleman
URL:https://dukcapil-old.slemankab.go.id/event/rapat-koordinasi-pembahasan-pelayanan-kependudukan-di-kantor-kapanewon
END:VEVENT
BEGIN:VEVENT
DTSTART;TZID=Asia/Jakarta:20220407T080000
DTEND;TZID=Asia/Jakarta:20220407T170000
DTSTAMP:20260424T005534
CREATED:20220407T011524Z
LAST-MODIFIED:20220407T011524Z
UID:4947-1649318400-1649350800@dukcapil-old.slemankab.go.id
SUMMARY:Rekonsiliasi Aset Tetap dan Persedian Bulan Januari Sampai dengan Maret 2022
DESCRIPTION:09.00 \nR.R Akuntansi BKAD Sleman
URL:https://dukcapil-old.slemankab.go.id/event/rekonsiliasi-aset-tetap-dan-persedian-bulan-januari-sampai-dengan-maret-2022
END:VEVENT
BEGIN:VEVENT
DTSTART;VALUE=DATE:20220408
DTEND;VALUE=DATE:20220409
DTSTAMP:20260424T005534
CREATED:20220408T015718Z
LAST-MODIFIED:20220408T015718Z
UID:4957-1649376000-1649462399@dukcapil-old.slemankab.go.id
SUMMARY:Pertemuan Rutin Dharma Wanita Persatuan Kab Sleman
DESCRIPTION:09.00 \nAula Bappeda Kab Sleman
URL:https://dukcapil-old.slemankab.go.id/event/pertemuan-rutin-dharma-wanita-persatuan-kab-sleman
END:VEVENT
BEGIN:VEVENT
DTSTART;VALUE=DATE:20220408
DTEND;VALUE=DATE:20220409
DTSTAMP:20260424T005534
CREATED:20220408T015914Z
LAST-MODIFIED:20220408T015914Z
UID:4959-1649376000-1649462399@dukcapil-old.slemankab.go.id
SUMMARY:Penyampaian Hasil Rapat Kerja Dalam Sinkronisasi Jawaban Bupati Atas PUF Terhadap Raperda Pertanggungjawaban APBD T.A 2021 Permintaan Persetujuan DPRD
DESCRIPTION:13.00 \nR.R Paripurna DPRD Sleman
URL:https://dukcapil-old.slemankab.go.id/event/penyampaian-hasil-rapat-kerja-dalam-sinkronisasi-jawaban-bupati-atas-puf-terhadap-raperda-pertanggungjawaban-apbd-t-a-2021-permintaan-persetujuan-dprd
END:VEVENT
BEGIN:VEVENT
DTSTART;VALUE=DATE:20220411
DTEND;VALUE=DATE:20220412
DTSTAMP:20260424T005534
CREATED:20220411T014732Z
LAST-MODIFIED:20220411T014732Z
UID:4962-1649635200-1649721599@dukcapil-old.slemankab.go.id
SUMMARY:Safari Tarawih Bupati Beserta Perangkat Daerah di Lingkungan Pemerintah Kab Sleman Th 2022
DESCRIPTION:Masjid Al Karomah Karang Beran Margodadi Seyegan
URL:https://dukcapil-old.slemankab.go.id/event/safari-tarawih-bupati-beserta-perangkat-daerah-di-lingkungan-pemerintah-kab-sleman-th-2022
END:VEVENT
BEGIN:VEVENT
DTSTART;VALUE=DATE:20220411
DTEND;VALUE=DATE:20220412
DTSTAMP:20260424T005534
CREATED:20220411T015207Z
LAST-MODIFIED:20220411T015207Z
UID:4965-1649635200-1649721599@dukcapil-old.slemankab.go.id
SUMMARY:Narasumber Grand Design Pembangunan Kependudukan di Kab Sleman
DESCRIPTION:Kabupaten Sleman
URL:https://dukcapil-old.slemankab.go.id/event/narasumber-grand-design-pembangunan-kependudukan-di-kab-sleman
END:VEVENT
BEGIN:VEVENT
DTSTART;VALUE=DATE:20220411
DTEND;VALUE=DATE:20220412
DTSTAMP:20260424T005534
CREATED:20220411T015240Z
LAST-MODIFIED:20220411T015240Z
UID:4967-1649635200-1649721599@dukcapil-old.slemankab.go.id
SUMMARY:Rapat Koordinasi Pembahasan Kerja Sama Dengan Kantor Kementrian Agama Islam
DESCRIPTION:
URL:https://dukcapil-old.slemankab.go.id/event/rapat-koordinasi-pembahasan-kerja-sama-dengan-kantor-kementrian-agama-islam
END:VEVENT
BEGIN:VEVENT
DTSTART;VALUE=DATE:20220412
DTEND;VALUE=DATE:20220413
DTSTAMP:20260424T005534
CREATED:20220412T065246Z
LAST-MODIFIED:20220412T065246Z
UID:4971-1649721600-1649807999@dukcapil-old.slemankab.go.id
SUMMARY:Safari Tarawih Bupati Beserta Perangkat Daerah di Lingkungan Pemerintah Kab Sleman Th 2022
DESCRIPTION:Masjid Agung Gamping Tengah Ambarketawang
URL:https://dukcapil-old.slemankab.go.id/event/safari-tarawih-bupati-beserta-perangkat-daerah-di-lingkungan-pemerintah-kab-sleman-th-2022-2
END:VEVENT
BEGIN:VEVENT
DTSTART;VALUE=DATE:20220412
DTEND;VALUE=DATE:20220413
DTSTAMP:20260424T005534
CREATED:20220412T065307Z
LAST-MODIFIED:20220412T065307Z
UID:4973-1649721600-1649807999@dukcapil-old.slemankab.go.id
SUMMARY:Narasumber Grand Design Pembangunan Kependudukan di Kab Sleman
DESCRIPTION:
URL:https://dukcapil-old.slemankab.go.id/event/narasumber-grand-design-pembangunan-kependudukan-di-kab-sleman-2
END:VEVENT
BEGIN:VEVENT
DTSTART;VALUE=DATE:20220412
DTEND;VALUE=DATE:20220413
DTSTAMP:20260424T005534
CREATED:20220412T065337Z
LAST-MODIFIED:20220412T065337Z
UID:4975-1649721600-1649807999@dukcapil-old.slemankab.go.id
SUMMARY:Pelatihan Penilaian Mandiri (PM) Maturitas SPIP Terintegrasi Tahun 2022 Bagi Perangkat Daerah Kab Sleman
DESCRIPTION:08.30 \nGedung Prima SR Jl. Magelang Km 11\, Tridadi Sleman
URL:https://dukcapil-old.slemankab.go.id/event/pelatihan-penilaian-mandiri-pm-maturitas-spip-terintegrasi-tahun-2022-bagi-perangkat-daerah-kab-sleman
END:VEVENT
BEGIN:VEVENT
DTSTART;VALUE=DATE:20220412
DTEND;VALUE=DATE:20220413
DTSTAMP:20260424T005534
CREATED:20220412T065358Z
LAST-MODIFIED:20220412T065358Z
UID:4977-1649721600-1649807999@dukcapil-old.slemankab.go.id
SUMMARY:Review dan Evaluasi PPRG Kab Sleman
DESCRIPTION:08.30 \nAula Pangripta Bappeda Sleman
URL:https://dukcapil-old.slemankab.go.id/event/review-dan-evaluasi-pprg-kab-sleman
END:VEVENT
BEGIN:VEVENT
DTSTART;VALUE=DATE:20220412
DTEND;VALUE=DATE:20220413
DTSTAMP:20260424T005534
CREATED:20220412T065440Z
LAST-MODIFIED:20220412T065440Z
UID:4979-1649721600-1649807999@dukcapil-old.slemankab.go.id
SUMMARY:Pengajian Menyongsong Bulan Ramadhan 1443 H
DESCRIPTION:13.00 \nPDAM Sleman
URL:https://dukcapil-old.slemankab.go.id/event/pengajian-menyongsong-bulan-ramadhan-1443-h
END:VEVENT
BEGIN:VEVENT
DTSTART;VALUE=DATE:20220413
DTEND;VALUE=DATE:20220414
DTSTAMP:20260424T005534
CREATED:20220413T004146Z
LAST-MODIFIED:20220413T004146Z
UID:4982-1649808000-1649894399@dukcapil-old.slemankab.go.id
SUMMARY:Safari Tarawih Bupati Beserta Perangkat Daerah di Lingkungan Pemerintah Kab Sleman Th 2022
DESCRIPTION:Masjid Darul Muttaqin Jaban Sinduharjo Ngaglik
URL:https://dukcapil-old.slemankab.go.id/event/safari-tarawih-bupati-beserta-perangkat-daerah-di-lingkungan-pemerintah-kab-sleman-th-2022-3
END:VEVENT
BEGIN:VEVENT
DTSTART;VALUE=DATE:20220413
DTEND;VALUE=DATE:20220414
DTSTAMP:20260424T005534
CREATED:20220413T004302Z
LAST-MODIFIED:20220413T004302Z
UID:4984-1649808000-1649894399@dukcapil-old.slemankab.go.id
SUMMARY:Narasumber Grand Design Pembangunan Kependudukan di Kab Sleman
DESCRIPTION:Kabupaten Sleman
URL:https://dukcapil-old.slemankab.go.id/event/narasumber-grand-design-pembangunan-kependudukan-di-kab-sleman-3
END:VEVENT
BEGIN:VEVENT
DTSTART;VALUE=DATE:20220413
DTEND;VALUE=DATE:20220414
DTSTAMP:20260424T005534
CREATED:20220413T004328Z
LAST-MODIFIED:20220413T004328Z
UID:4986-1649808000-1649894399@dukcapil-old.slemankab.go.id
SUMMARY:Review dan Evaluasi PPRG Kab Sleman
DESCRIPTION:08.30 \nAula Pangripta Bappeda Sleman
URL:https://dukcapil-old.slemankab.go.id/event/review-dan-evaluasi-pprg-kab-sleman-2
END:VEVENT
BEGIN:VEVENT
DTSTART;VALUE=DATE:20220413
DTEND;VALUE=DATE:20220414
DTSTAMP:20260424T005534
CREATED:20220413T004402Z
LAST-MODIFIED:20220413T004402Z
UID:4988-1649808000-1649894399@dukcapil-old.slemankab.go.id
SUMMARY:Optimalisasi Pembayaran Zakat dari Gaji PNS dan BUMD Kab Sleman
DESCRIPTION:
URL:https://dukcapil-old.slemankab.go.id/event/optimalisasi-pembayaran-zakat-dari-gaji-pns-dan-bumd-kab-sleman
END:VEVENT
BEGIN:VEVENT
DTSTART;VALUE=DATE:20220413
DTEND;VALUE=DATE:20220414
DTSTAMP:20260424T005534
CREATED:20220413T004428Z
LAST-MODIFIED:20220413T004428Z
UID:4990-1649808000-1649894399@dukcapil-old.slemankab.go.id
SUMMARY:Rapat Koordinasi Pengendalian Pembangunan Dalam Rangka Evaluasi Pelaksanaan Kegiatan Triwulan I Tahun 2022
DESCRIPTION:12.30 \nAula Pangripta Bappeda Kab Sleman
URL:https://dukcapil-old.slemankab.go.id/event/rapat-koordinasi-pengendalian-pembangunan-dalam-rangka-evaluasi-pelaksanaan-kegiatan-triwulan-i-tahun-2022
END:VEVENT
BEGIN:VEVENT
DTSTART;VALUE=DATE:20220413
DTEND;VALUE=DATE:20220414
DTSTAMP:20260424T005534
CREATED:20220413T004503Z
LAST-MODIFIED:20220413T004503Z
UID:4992-1649808000-1649894399@dukcapil-old.slemankab.go.id
SUMMARY:Sosialisasi Monev Keterbukaan Informasi Badan Publik Se-DIY Tahun 2022 Secara Daring/Virtual
DESCRIPTION:13.00 \nZoom Meeting
URL:https://dukcapil-old.slemankab.go.id/event/sosialisasi-monev-keterbukaan-informasi-badan-publik-se-diy-tahun-2022-secara-daring-virtual
END:VEVENT
BEGIN:VEVENT
DTSTART;VALUE=DATE:20220414
DTEND;VALUE=DATE:20220415
DTSTAMP:20260424T005534
CREATED:20220414T061705Z
LAST-MODIFIED:20220414T061705Z
UID:4994-1649894400-1649980799@dukcapil-old.slemankab.go.id
SUMMARY:Safari Tarawih Bupati Beserta Perangkat Daerah di Lingkungan Pemerintah Kab Sleman Th 2022
DESCRIPTION:Masjid At Taqwa Sidorejo Tabayan Sendangrejo Minggir
URL:https://dukcapil-old.slemankab.go.id/event/safari-tarawih-bupati-beserta-perangkat-daerah-di-lingkungan-pemerintah-kab-sleman-th-2022-4
END:VEVENT
BEGIN:VEVENT
DTSTART;VALUE=DATE:20220414
DTEND;VALUE=DATE:20220415
DTSTAMP:20260424T005534
CREATED:20220414T061737Z
LAST-MODIFIED:20220414T061737Z
UID:4996-1649894400-1649980799@dukcapil-old.slemankab.go.id
SUMMARY:Sosialisasi Peraturan Pemrintah Nomor 25 Tahun 2020 Tentnag Penyelenggaraan Tabungan Perubahan Rakyat dan Sistem E-KinerjaTahun 2022
DESCRIPTION:08.00 \nRuang Rapat Bima Lt 3 BKPP Kab sleman
URL:https://dukcapil-old.slemankab.go.id/event/sosialisasi-peraturan-pemrintah-nomor-25-tahun-2020-tentnag-penyelenggaraan-tabungan-perubahan-rakyat-dan-sistem-e-kinerjatahun-2022
END:VEVENT
END:VCALENDAR