BEGIN:VCALENDAR
VERSION:2.0
PRODID:-//Dinas Kependudukan dan Pencatatan Sipil Kabupaten Sleman - ECPv6.4.0//NONSGML v1.0//EN
CALSCALE:GREGORIAN
METHOD:PUBLISH
X-WR-CALNAME:Dinas Kependudukan dan Pencatatan Sipil Kabupaten Sleman
X-ORIGINAL-URL:https://dukcapil-old.slemankab.go.id
X-WR-CALDESC:Events for Dinas Kependudukan dan Pencatatan Sipil Kabupaten Sleman
REFRESH-INTERVAL;VALUE=DURATION:PT1H
X-Robots-Tag:noindex
X-PUBLISHED-TTL:PT1H
BEGIN:VTIMEZONE
TZID:Asia/Jakarta
BEGIN:STANDARD
TZOFFSETFROM:+0700
TZOFFSETTO:+0700
TZNAME:WIB
DTSTART:20220101T000000
END:STANDARD
END:VTIMEZONE
BEGIN:VEVENT
DTSTART;VALUE=DATE:20220615
DTEND;VALUE=DATE:20220616
DTSTAMP:20260424T015936
CREATED:20220615T011854Z
LAST-MODIFIED:20220615T011854Z
UID:5567-1655251200-1655337599@dukcapil-old.slemankab.go.id
SUMMARY:Pamitan dan Pemberangkatan Jama’ah calon Haji Kab. Sleman th 1443 H/ 2022 M
DESCRIPTION:Masjid Agung dr. Wahidin Soedirohoesodo
URL:https://dukcapil-old.slemankab.go.id/event/pamitan-dan-pemberangkatan-jamaah-calon-haji-kab-sleman-th-1443-h-2022-m-2
END:VEVENT
BEGIN:VEVENT
DTSTART;VALUE=DATE:20220615
DTEND;VALUE=DATE:20220616
DTSTAMP:20260424T015936
CREATED:20220615T011931Z
LAST-MODIFIED:20220615T011931Z
UID:5569-1655251200-1655337599@dukcapil-old.slemankab.go.id
SUMMARY:Evaluasi Rancangan Aktualisasi (Mentor)
DESCRIPTION:Zoom Meeting
URL:https://dukcapil-old.slemankab.go.id/event/evaluasi-rancangan-aktualisasi-mentor-3
END:VEVENT
BEGIN:VEVENT
DTSTART;VALUE=DATE:20220615
DTEND;VALUE=DATE:20220616
DTSTAMP:20260424T015936
CREATED:20220615T012014Z
LAST-MODIFIED:20220615T012014Z
UID:5571-1655251200-1655337599@dukcapil-old.slemankab.go.id
SUMMARY:Rapat Koordinasi Jaminan Kesehatan Nasional ( Pencermatan Draft PKS UHC )
DESCRIPTION:R.R Sayap Timur Rumah Dinas Bupati
URL:https://dukcapil-old.slemankab.go.id/event/rapat-koordinasi-jaminan-kesehatan-nasional-pencermatan-draft-pks-uhc
END:VEVENT
BEGIN:VEVENT
DTSTART;VALUE=DATE:20220616
DTEND;VALUE=DATE:20220617
DTSTAMP:20260424T015936
CREATED:20220617T011750Z
LAST-MODIFIED:20220617T011750Z
UID:5618-1655337600-1655423999@dukcapil-old.slemankab.go.id
SUMMARY:Pamitan dan Pemberangkatan Jama’ah Calon Haji Kab. Sleman Tahun 1443 H/ 2022 M
DESCRIPTION:Masjid Agung dr. Wahidin Soedirohoesodo
URL:https://dukcapil-old.slemankab.go.id/event/pamitan-dan-pemberangkatan-jamaah-calon-haji-kab-sleman-tahun-1443-h-2022-m
END:VEVENT
BEGIN:VEVENT
DTSTART;VALUE=DATE:20220616
DTEND;VALUE=DATE:20220617
DTSTAMP:20260424T015936
CREATED:20220617T011904Z
LAST-MODIFIED:20220617T011904Z
UID:5620-1655337600-1655423999@dukcapil-old.slemankab.go.id
SUMMARY:Dukcapil Belajar Inovasi Dukcapil Di Era Digital
DESCRIPTION:08.00 \nZoom Meeting
URL:https://dukcapil-old.slemankab.go.id/event/dukcapil-belajar-inovasi-dukcapil-di-era-digital
END:VEVENT
BEGIN:VEVENT
DTSTART;VALUE=DATE:20220616
DTEND;VALUE=DATE:20220617
DTSTAMP:20260424T015936
CREATED:20220617T012021Z
LAST-MODIFIED:20220617T012021Z
UID:5622-1655337600-1655423999@dukcapil-old.slemankab.go.id
SUMMARY:Sosialisasi Aplikasi e-Bupot
DESCRIPTION:09.00 \nRuang Sekretariat Dukcapil
URL:https://dukcapil-old.slemankab.go.id/event/sosialisasi-aplikasi-e-bupot
END:VEVENT
BEGIN:VEVENT
DTSTART;VALUE=DATE:20220616
DTEND;VALUE=DATE:20220617
DTSTAMP:20260424T015936
CREATED:20220617T012247Z
LAST-MODIFIED:20220617T012247Z
UID:5624-1655337600-1655423999@dukcapil-old.slemankab.go.id
SUMMARY:Pelaksanaan Safari Jumat Bupati\, Wakil Bupati Sleman dan Kepala OPD Kab Sleman thn 2022
DESCRIPTION:11.30 \nMasjid Al Ikhsan\, Pereng Sumberharjo Prambanan
URL:https://dukcapil-old.slemankab.go.id/event/pelaksanaan-safari-jumat-bupati-wakil-bupati-sleman-dan-kepala-opd-kab-sleman-thn-2022
END:VEVENT
BEGIN:VEVENT
DTSTART;VALUE=DATE:20220616
DTEND;VALUE=DATE:20220617
DTSTAMP:20260424T015936
CREATED:20220617T012335Z
LAST-MODIFIED:20220617T012335Z
UID:5626-1655337600-1655423999@dukcapil-old.slemankab.go.id
SUMMARY:Koordinasi terkait Laporan Penduduk Non Permanen Penerbitan SKPLN dan SKPWNI
DESCRIPTION:13.00 \nR.R Dharma Praja Biro Tapem Lt 3 Setda DIY
URL:https://dukcapil-old.slemankab.go.id/event/koordinasi-terkait-laporan-penduduk-non-permanen-penerbitan-skpln-dan-skpwni
END:VEVENT
BEGIN:VEVENT
DTSTART;VALUE=DATE:20220617
DTEND;VALUE=DATE:20220618
DTSTAMP:20260424T015936
CREATED:20220617T012429Z
LAST-MODIFIED:20220617T012429Z
UID:5628-1655424000-1655510399@dukcapil-old.slemankab.go.id
SUMMARY:Pamitan dan Pemberangkatan Jama’ah Calon Haji Kab. Sleman Tahun 1443 H/ 2022 M
DESCRIPTION:07.30 \nMasjid Agung dr. Wahidin Soedirohoesodo
URL:https://dukcapil-old.slemankab.go.id/event/pamitan-dan-pemberangkatan-jamaah-calon-haji-kab-sleman-tahun-1443-h-2022-m-2
END:VEVENT
BEGIN:VEVENT
DTSTART;VALUE=DATE:20220620
DTEND;VALUE=DATE:20220621
DTSTAMP:20260424T015936
CREATED:20220621T010901Z
LAST-MODIFIED:20220621T010901Z
UID:5674-1655683200-1655769599@dukcapil-old.slemankab.go.id
SUMMARY:Pelatihan Internalisasi Keistimewaan DIY ( 20 sd 24 Juni 2022 )
DESCRIPTION:The Atrium Hotel & Resort Mlati
URL:https://dukcapil-old.slemankab.go.id/event/pelatihan-internalisasi-keistimewaan-diy-20-sd-24-juni-2022
END:VEVENT
BEGIN:VEVENT
DTSTART;VALUE=DATE:20220620
DTEND;VALUE=DATE:20220621
DTSTAMP:20260424T015936
CREATED:20220621T011002Z
LAST-MODIFIED:20220621T011002Z
UID:5676-1655683200-1655769599@dukcapil-old.slemankab.go.id
SUMMARY:Pencermatan Draf Perjanjian Kerjasama UHC Kab Sleman
DESCRIPTION:08.00 \nR.R Sayap Timur Rumah Dinas Bupati
URL:https://dukcapil-old.slemankab.go.id/event/pencermatan-draf-perjanjian-kerjasama-uhc-kab-sleman
END:VEVENT
BEGIN:VEVENT
DTSTART;VALUE=DATE:20220620
DTEND;VALUE=DATE:20220621
DTSTAMP:20260424T015936
CREATED:20220621T011112Z
LAST-MODIFIED:20220621T011112Z
UID:5678-1655683200-1655769599@dukcapil-old.slemankab.go.id
SUMMARY:Kegiatan Sosialisasi Perda No 9 Th 2015 tentang Penyelenggaraan Adminduk dan KIA
DESCRIPTION:09.00 \nR.III B Lt 3 BKAD Sleman
URL:https://dukcapil-old.slemankab.go.id/event/kegiatan-sosialisasi-perda-no-9-th-2015-tentang-penyelenggaraan-adminduk-dan-kia
END:VEVENT
BEGIN:VEVENT
DTSTART;VALUE=DATE:20220620
DTEND;VALUE=DATE:20220621
DTSTAMP:20260424T015936
CREATED:20220621T011208Z
LAST-MODIFIED:20220621T011208Z
UID:5680-1655683200-1655769599@dukcapil-old.slemankab.go.id
SUMMARY:Desk Daftar Elemen Data pada Aplikasi DATAKU
DESCRIPTION:09.00 \nRuang Kinanthi
URL:https://dukcapil-old.slemankab.go.id/event/desk-daftar-elemen-data-pada-aplikasi-dataku
END:VEVENT
BEGIN:VEVENT
DTSTART;VALUE=DATE:20220620
DTEND;VALUE=DATE:20220621
DTSTAMP:20260424T015936
CREATED:20220621T011302Z
LAST-MODIFIED:20220621T011302Z
UID:5682-1655683200-1655769599@dukcapil-old.slemankab.go.id
SUMMARY:Sosialisasi Ketercapaian Universal Health Coverage (UHC) di Kab Sleman
DESCRIPTION:13.00 \nPuskesmas Depok III
URL:https://dukcapil-old.slemankab.go.id/event/sosialisasi-ketercapaian-universal-health-coverage-uhc-di-kab-sleman-3
END:VEVENT
BEGIN:VEVENT
DTSTART;VALUE=DATE:20220620
DTEND;VALUE=DATE:20220621
DTSTAMP:20260424T015936
CREATED:20220621T011345Z
LAST-MODIFIED:20220621T011345Z
UID:5684-1655683200-1655769599@dukcapil-old.slemankab.go.id
SUMMARY:Pengarahan Umum dalam rangka koordinasi teknis pendampingan cabang olahraga dalam rangka PORDA XVIII dan PEPARDA III DIT th 2022
DESCRIPTION:13.00 \nAula Lt 3 Gedung Setda Kab Sleman
URL:https://dukcapil-old.slemankab.go.id/event/pengarahan-umum-dalam-rangka-koordinasi-teknis-pendampingan-cabang-olahraga-dalam-rangka-porda-xviii-dan-peparda-iii-dit-th-2022
END:VEVENT
BEGIN:VEVENT
DTSTART;VALUE=DATE:20220620
DTEND;VALUE=DATE:20220621
DTSTAMP:20260424T015936
CREATED:20220621T011425Z
LAST-MODIFIED:20220621T011425Z
UID:5686-1655683200-1655769599@dukcapil-old.slemankab.go.id
SUMMARY:Rapat Koordinasi DP KORPRI
DESCRIPTION:13.00 \nR.R Arjuna Lt 2 BKPP
URL:https://dukcapil-old.slemankab.go.id/event/rapat-koordinasi-dp-korpri
END:VEVENT
BEGIN:VEVENT
DTSTART;VALUE=DATE:20220621
DTEND;VALUE=DATE:20220622
DTSTAMP:20260424T015936
CREATED:20220621T011627Z
LAST-MODIFIED:20220621T011627Z
UID:5688-1655769600-1655855999@dukcapil-old.slemankab.go.id
SUMMARY:Workshop Penyusunan Produk Hukum Daerah ( 21 sd 22 Juni 2022)
DESCRIPTION:08.00 \nThe Atrium Hotel and Resort (Sendangadi Mlati)
URL:https://dukcapil-old.slemankab.go.id/event/workshop-penyusunan-produk-hukum-daerah-21-sd-22-juni-2022
END:VEVENT
BEGIN:VEVENT
DTSTART;VALUE=DATE:20220621
DTEND;VALUE=DATE:20220622
DTSTAMP:20260424T015936
CREATED:20220621T011724Z
LAST-MODIFIED:20220621T011724Z
UID:5691-1655769600-1655855999@dukcapil-old.slemankab.go.id
SUMMARY:Sosialisasi Program JKN dan Upaya Pemutakhiran Data Segmen PNS Daerah Kab Sleman
DESCRIPTION:08.30 \nGrand Serela Hotel Yk
URL:https://dukcapil-old.slemankab.go.id/event/sosialisasi-program-jkn-dan-upaya-pemutakhiran-data-segmen-pns-daerah-kab-sleman
END:VEVENT
BEGIN:VEVENT
DTSTART;VALUE=DATE:20220621
DTEND;VALUE=DATE:20220622
DTSTAMP:20260424T015936
CREATED:20220621T011804Z
LAST-MODIFIED:20220621T011804Z
UID:5694-1655769600-1655855999@dukcapil-old.slemankab.go.id
SUMMARY:Bimbingan Teknis Kerjasama Daerah
DESCRIPTION:09.00 \nWestlake Resto\, Bedog
URL:https://dukcapil-old.slemankab.go.id/event/bimbingan-teknis-kerjasama-daerah
END:VEVENT
BEGIN:VEVENT
DTSTART;VALUE=DATE:20220621
DTEND;VALUE=DATE:20220622
DTSTAMP:20260424T015936
CREATED:20220621T011837Z
LAST-MODIFIED:20220621T011837Z
UID:5696-1655769600-1655855999@dukcapil-old.slemankab.go.id
SUMMARY:Sosialisasi Kebijakan Adminduk  Pelayanan KTP\,KIA\,Akta kelahiran & Kematian
DESCRIPTION:09.00 \nAula Balai Kalurahan Minomartani Ngaglik
URL:https://dukcapil-old.slemankab.go.id/event/sosialisasi-kebijakan-adminduk-pelayanan-ktpkiaakta-kelahiran-kematian
END:VEVENT
BEGIN:VEVENT
DTSTART;VALUE=DATE:20220621
DTEND;VALUE=DATE:20220622
DTSTAMP:20260424T015936
CREATED:20220621T011927Z
LAST-MODIFIED:20220621T011927Z
UID:5698-1655769600-1655855999@dukcapil-old.slemankab.go.id
SUMMARY:Kunjungan Kerja Banding Kegiatan Pelayanan Adminduk Dukcapil Kab Kapuas\, Kuala Kapuas
DESCRIPTION:10.00 \nDukcapil Sleman
URL:https://dukcapil-old.slemankab.go.id/event/kunjungan-kerja-banding-kegiatan-pelayanan-adminduk-dukcapil-kab-kapuas-kuala-kapuas
END:VEVENT
BEGIN:VEVENT
DTSTART;VALUE=DATE:20220622
DTEND;VALUE=DATE:20220623
DTSTAMP:20260424T015936
CREATED:20220623T004434Z
LAST-MODIFIED:20220623T004434Z
UID:5725-1655856000-1655942399@dukcapil-old.slemankab.go.id
SUMMARY:-Sosialisasi Adminduk -Pelaksanaan Penyerahan kendaraan jemput bola pelayanan adminduk CSR Bank BPD DIY ke Pemkab Sleman -Jemput bola pelayanan akta kelahiran dan kematian
DESCRIPTION:08.00 \nBalai Kalurahan Sidoarum Godean
URL:https://dukcapil-old.slemankab.go.id/event/sosialisasi-adminduk-pelaksanaan-penyerahan-kendaraan-jemput-bola-pelayanan-adminduk-csr-bank-bpd-diy-ke-pemkab-sleman-jemput-bola-pelayanan-akta-kelahiran-dan-kematian
END:VEVENT
BEGIN:VEVENT
DTSTART;VALUE=DATE:20220622
DTEND;VALUE=DATE:20220623
DTSTAMP:20260424T015936
CREATED:20220623T004529Z
LAST-MODIFIED:20220623T004529Z
UID:5727-1655856000-1655942399@dukcapil-old.slemankab.go.id
SUMMARY:FGD Perencanaan dan evaluasi pembangunan urusan Pemerintahan bidang tenaga kerja dan transmigrasi
DESCRIPTION:09.00 \nRuang Sitihinggil Restoran Puri Mataram\, Drono\, Tridadi
URL:https://dukcapil-old.slemankab.go.id/event/fgd-perencanaan-dan-evaluasi-pembangunan-urusan-pemerintahan-bidang-tenaga-kerja-dan-transmigrasi
END:VEVENT
BEGIN:VEVENT
DTSTART;VALUE=DATE:20220622
DTEND;VALUE=DATE:20220623
DTSTAMP:20260424T015936
CREATED:20220623T004730Z
LAST-MODIFIED:20220623T004730Z
UID:5729-1655856000-1655942399@dukcapil-old.slemankab.go.id
SUMMARY:Pelantikan dan pengambilan sumpah jabatan pimpinan tinggi pratama di lingkungan pemerintah Kab Sleman
DESCRIPTION:09.15 \nAula Lt 3 Setda Kab Sleman
URL:https://dukcapil-old.slemankab.go.id/event/pelantikan-dan-pengambilan-sumpah-jabatan-pimpinan-tinggi-pratama-di-lingkungan-pemerintah-kab-sleman
END:VEVENT
BEGIN:VEVENT
DTSTART;VALUE=DATE:20220622
DTEND;VALUE=DATE:20220623
DTSTAMP:20260424T015936
CREATED:20220623T004809Z
LAST-MODIFIED:20220623T004809Z
UID:5731-1655856000-1655942399@dukcapil-old.slemankab.go.id
SUMMARY:Rapat koordinasi pimpinan perangkat daerah bulan Juni 2022
DESCRIPTION:09.30 \nAula Lt 3 Setda Sleman
URL:https://dukcapil-old.slemankab.go.id/event/rapat-koordinasi-pimpinan-perangkat-daerah-bulan-juni-2022
END:VEVENT
BEGIN:VEVENT
DTSTART;VALUE=DATE:20220622
DTEND;VALUE=DATE:20220623
DTSTAMP:20260424T015936
CREATED:20220623T004858Z
LAST-MODIFIED:20220623T004858Z
UID:5733-1655856000-1655942399@dukcapil-old.slemankab.go.id
SUMMARY:Pertemuan pejabat tingkat tinggi dan kunjungan ke pelaksana SP4N-LAPOR di Prov DIY dan Kab Sleman
DESCRIPTION:10.00 \nKantor Gubernur Prov DIY
URL:https://dukcapil-old.slemankab.go.id/event/pertemuan-pejabat-tingkat-tinggi-dan-kunjungan-ke-pelaksana-sp4n-lapor-di-prov-diy-dan-kab-sleman
END:VEVENT
BEGIN:VEVENT
DTSTART;VALUE=DATE:20220623
DTEND;VALUE=DATE:20220624
DTSTAMP:20260424T015936
CREATED:20220623T004951Z
LAST-MODIFIED:20220623T004951Z
UID:5735-1655942400-1656028799@dukcapil-old.slemankab.go.id
SUMMARY:Penandatanganan Berita Acara Pemusnahan Arsip Pemkab Sleman
DESCRIPTION:08.30 \nAula Lt 3 Setda Sleman
URL:https://dukcapil-old.slemankab.go.id/event/penandatanganan-berita-acara-pemusnahan-arsip-pemkab-sleman
END:VEVENT
BEGIN:VEVENT
DTSTART;VALUE=DATE:20220623
DTEND;VALUE=DATE:20220624
DTSTAMP:20260424T015936
CREATED:20220623T005037Z
LAST-MODIFIED:20220623T005037Z
UID:5737-1655942400-1656028799@dukcapil-old.slemankab.go.id
SUMMARY:Diskusi dan Kunjungan lapangan Uji Coba Implementasi pedoman umum penghapusan kemiskinan ekstrem (PKE) di Prov DIY
DESCRIPTION:08.30 \nRuang Sadewa Lt 3 Dinsos Kab Sleman
URL:https://dukcapil-old.slemankab.go.id/event/diskusi-dan-kunjungan-lapangan-uji-coba-implementasi-pedoman-umum-penghapusan-kemiskinan-ekstrem-pke-di-prov-diy
END:VEVENT
BEGIN:VEVENT
DTSTART;VALUE=DATE:20220623
DTEND;VALUE=DATE:20220624
DTSTAMP:20260424T015936
CREATED:20220623T005128Z
LAST-MODIFIED:20220623T005128Z
UID:5740-1655942400-1656028799@dukcapil-old.slemankab.go.id
SUMMARY:Sosialisasi inovasi dengan tema menumbuhkan ekosistem inovasi daerah di Kab Sleman untuk menjadikan inovasi sebagai budaya
DESCRIPTION:09.00 \nR.R pangripta Bappeda Sleman
URL:https://dukcapil-old.slemankab.go.id/event/sosialisasi-inovasi-dengan-tema-menumbuhkan-ekosistem-inovasi-daerah-di-kab-sleman-untuk-menjadikan-inovasi-sebagai-budaya
END:VEVENT
BEGIN:VEVENT
DTSTART;VALUE=DATE:20220623
DTEND;VALUE=DATE:20220624
DTSTAMP:20260424T015936
CREATED:20220623T005221Z
LAST-MODIFIED:20220623T005221Z
UID:5742-1655942400-1656028799@dukcapil-old.slemankab.go.id
SUMMARY:Rapat koordinasi pemutakhiran data pemilih berkelanjutan triwulan II th 2022
DESCRIPTION:12.00 \nR.R Kantor KPU Kab Sleman
URL:https://dukcapil-old.slemankab.go.id/event/rapat-koordinasi-pemutakhiran-data-pemilih-berkelanjutan-triwulan-ii-th-2022
END:VEVENT
END:VCALENDAR